BEGIN:VCALENDAR
VERSION:2.0
PRODID:-//jEvents 2.0 for Joomla//EN
CALSCALE:GREGORIAN
METHOD:PUBLISH
BEGIN:VEVENT
UID:afc6053bb8f013ffaa033fee2be97aaa
CATEGORIES:Field and Summer Schools
CREATED:20210528T071611
SUMMARY:Winter School - Our connection with a fast-changing Arctic
LOCATION:Groningen
DESCRIPTION:<p style="text-align: justify;">The Arctic Centre (University of Groningen)
  will host a <strong>Winter School</strong>, aimed at (inter-) national civ
 il servants and policy makers, politicians, managers, financial experts, (y
 oung) academics and PhD students who are looking for a nuanced and wide-ran
 ging understanding of the Arctic. The theme of the Winter School is <strong
 ><em>Our connection with a fast-changing Arctic</em></strong>. From <strong
 >24-29 January 2022</strong>, lectures, discussions and group work will tak
 e place in which topics related to the theme will be addressed <em>from an 
 integrated perspective on a sustainable society</em>. Participation can be 
 a crucial asset to many public- and private-sector employers with operation
 s in the Arctic.</p><p style="text-align: justify;"><strong>Application: </
 strong>Interested parties can applicate by filling in the form below, no la
 ter than <strong>27 September 2021</strong>. Each application will be asses
 sed carefully. In total <strong>20 applicants</strong> will be selected to 
 take part in the Winter School. You will be informed no later than <strong>
 4 October 2021</strong> whether you have been selected. The final program w
 ill also be announced that day.</p><p style="text-align: justify;">Find mor
 e information and application details <a href="https://www.rug.nl/sustainab
 le-society/education/summer-and-winterschools/winter-school-our-connection-
 with-a-fast-changing-arctic" target="_blank" rel="noopener">here</a>.</p>
DTSTAMP:20260420T230724Z
DTSTART;TZID=UTC;VALUE=DATE:20220124
DTEND;TZID=UTC;VALUE=DATE:20220130
SEQUENCE:0
TRANSP:OPAQUE
END:VEVENT
END:VCALENDAR