BEGIN:VCALENDAR
VERSION:2.0
PRODID:-//jEvents 2.0 for Joomla//EN
CALSCALE:GREGORIAN
METHOD:PUBLISH
BEGIN:VEVENT
UID:753a0d43889516aa716be77fd3bf959c
CATEGORIES:Polar Online Events
CREATED:20210526T125848
SUMMARY:IARPC Public Webinar Series: Climate Change Impacts on Indigenous Peoples – A Historical Perspective
LOCATION:Online
DESCRIPTION:IARPC Public Webinar Series: Climate Change Impacts on Indigenous Peoples –
  A Historical Perspective (https://www.iarpccollaborations.org/events/21112
 ) Join IARPC on Thursday, June 3 at 9am AKT / 1pm ET for a webinar with Dr.
  Sarah Aarons, Assistant Professor at Scripps Institution of Oceanography. 
 Aarons will provide a brief introduction to the historical context of colon
 ialism in the Arctic, focused on Alaska, and its relationship to climate ch
 ange impacts on Arctic Indigenous Peoples. For researchers working in the A
 rctic, this webinar will provide insight into the ways that relationships, 
 resource extraction, compensation, and infrastructure building have been pr
 edominantly one-sided, and how climate change is now impacting Indigenous c
 ommunities. More information and Zoom connection information is available a
 t <a href="https://www.iarpccollaborations.org/events/21112" target="_blank
 " rel="noopener">https://www.iarpccollaborations.org/events/21112</a>. This
  webinar will be recorded.
X-ALT-DESC;FMTTYPE=text/html:<div style="text-align: justify;"><a href="https://www.iarpccollaborations.
 org/events/21112" target="_blank" rel="noopener">IARPC Public Webinar Serie
 s: Climate Change Impacts on Indigenous Peoples – A Historical Perspective<
 /a></div><div style="text-align: justify;">&nbsp;</div><div style="text-ali
 gn: justify;">Join IARPC on Thursday, <strong>June 3 at 9am AKT / 1pm ET</s
 trong> for a webinar with Dr. Sarah Aarons, Assistant Professor at Scripps 
 Institution of Oceanography. Aarons will provide a brief introduction to th
 e historical context of colonialism in the Arctic, focused on Alaska, and i
 ts relationship to climate change impacts on Arctic Indigenous Peoples. For
  researchers working in the Arctic, this webinar will provide insight into 
 the ways that relationships, resource extraction, compensation, and infrast
 ructure building have been predominantly one-sided, and how climate change 
 is now impacting Indigenous communities.</div><div style="text-align: justi
 fy;">&nbsp;</div><div style="text-align: justify;">More information and Zoo
 m connection information is available at <a href="https://www.iarpccollabor
 ations.org/events/21112" target="_blank" rel="noopener">https://www.iarpcco
 llaborations.org/events/21112</a>. This webinar will be recorded.</div>
DTSTAMP:20260423T040105Z
DTSTART;TZID=UTC;VALUE=DATE:20210603
DTEND;TZID=UTC;VALUE=DATE:20210604
SEQUENCE:0
TRANSP:OPAQUE
END:VEVENT
END:VCALENDAR