BEGIN:VCALENDAR
VERSION:2.0
PRODID:-//jEvents 2.0 for Joomla//EN
CALSCALE:GREGORIAN
METHOD:PUBLISH
BEGIN:VEVENT
UID:b37407957213a9c5853b7d8f6909f614
CATEGORIES:Polar Online Events
CREATED:20210526T123241
SUMMARY:U.S. Scientific Traverses on the Greenland Ice Sheet: a Planning Workshop
LOCATION:Online
DESCRIPTION:U.S. Scientific Traverses on the Greenland Ice Sheet: a Planning Workshop -
  June 11, 2021 via Zoom\n \n Sponsors: U.S. Ice Drilling Program &amp; Summ
 it Science Coordination Office\n Conveners: Joerg Schaefer, Mary Albert, Ja
 son Briner, Zoe Courville\nWebsite: https://icedrill.org/meetings/us-scient
 ific-traverses-gris-planning-workshop\n\n The U.S. Ice Drilling Program and
  the Summit Science Coordination Office will co-sponsor a U.S. science comm
 unity planning workshop to identify and articulate U.S. science community i
 nterests for long-term planning of potential scientific traverses on the Gr
 eenland Ice Sheet.\n \n Purpose: The workshop is designed to identify the d
 riving scientific questions that require access to interior areas of the Gr
 eenland Ice Sheet and would benefit from scientific traverses for the comin
 g decade and beyond. What are the primary science questions that the U.S. s
 cientific community would seek to answer? The outcome from the workshop is 
 a set of white papers that will help identify technological and logistical 
 requirements for the traverses that will be needed to support the science.\
 n \n Description: Scientific discoveries achieved on the Greenland Ice are 
 critical to society today, but they are not achieved without significant ad
 vance planning. This interdisciplinary science community workshop will iden
 tify future sites and traverse routes on the Greenland Ice Sheet where grou
 nd-based measurements and/or ice coring will be needed and the associated t
 imeline over the coming decade for advancing science on multiple frontiers.
  The outcome of the workshop will be a set of white papers describing compe
 lling scientific issues and associated measurements, timelines, and geograp
 hic locations on the Greenland Ice Sheet. The white papers will be made ava
 ilable to all on both the <a href="https://icedrill.org" target="_blank" re
 l="noopener">https://icedrill.org</a> and https://www.geosummit.org website
 s.\n \n Additional workshop information and the draft agenda are available 
 at <a href="https://icedrill.org/meetings/us-scientific-traverses-gris-plan
 ning-workshop" target="_blank" rel="noopener">https://icedrill.org/meetings
 /us-scientific-traverses-gris-planning-workshop</a>. To participate in the 
 workshop, please register by following the instructions on our website, whe
 re you will be able to provide a title for your 5-minute “pitch” for the sc
 ience that you envision for the future. After we receive your registration,
  we will send you additional details of the workshop as it develops. The de
 adline for registration is June 6, 2021.\nFor questions, contact the U.S. I
 ce Drilling Program at This email address is being protected from spambots.
  You need JavaScript enabled to view it.
				document.getElementById('cloak
 4069b1e40d94afc3ce46c4b8f2d78461').innerHTML = '';
				var prefix = '&#109;
 a' + 'i&#108;' + '&#116;o';
				var path = 'hr' + 'ef' + '=';
				var addy4
 069b1e40d94afc3ce46c4b8f2d78461 = 'Ic&#101;Dr&#105;ll' + '&#64;';
				addy4
 069b1e40d94afc3ce46c4b8f2d78461 = addy4069b1e40d94afc3ce46c4b8f2d78461 + 'D
 &#97;rtm&#111;&#117;th' + '&#46;' + '&#101;d&#117;';
				var addy_text4069b
 1e40d94afc3ce46c4b8f2d78461 = 'Ic&#101;Dr&#105;ll' + '&#64;' + 'D&#97;rtm&#
 111;&#117;th' + '&#46;' + '&#101;d&#117;';document.getElementById('cloak406
 9b1e40d94afc3ce46c4b8f2d78461').innerHTML += '<a ' + path + '\'' + prefix +
  ':' + addy4069b1e40d94afc3ce46c4b8f2d78461 + '\'>'+addy_text4069b1e40d94af
 c3ce46c4b8f2d78461+'';
		.\n
X-ALT-DESC;FMTTYPE=text/html:<p style="text-align: justify;"><strong>U.S. Scientific Traverses on the Gr
 eenland Ice Sheet: a Planning Workshop</strong> - <strong>June 11, 2021 via
  Zoom</strong><br /> <br /> Sponsors: U.S. Ice Drilling Program &amp; Summi
 t Science Coordination Office<br /> Conveners: Joerg Schaefer, Mary Albert,
  Jason Briner, Zoe Courville</p><p style="text-align: justify;">Website: <a
  href="https://icedrill.org/meetings/us-scientific-traverses-gris-planning-
 workshop" target="_blank" rel="noopener">https://icedrill.org/meetings/us-s
 cientific-traverses-gris-planning-workshop</a></p><p style="text-align: jus
 tify;"><br /> The U.S. Ice Drilling Program and the Summit Science Coordina
 tion Office will co-sponsor a&nbsp;<strong>U.S. science community planning 
 workshop</strong>&nbsp;to identify and articulate U.S.&nbsp;science communi
 ty interests for&nbsp;<strong>long-term planning of potential scientific tr
 averses on the Greenland Ice Sheet</strong>.<br /> <br /> <strong>Purpose:<
 /strong>&nbsp;The workshop is designed to identify the driving scientific q
 uestions that require access to interior areas of the Greenland Ice Sheet a
 nd would benefit from scientific&nbsp;traverses for the coming decade and b
 eyond. What are the primary science questions that the U.S. scientific comm
 unity would seek to answer? The outcome from the&nbsp;workshop is a set of 
 white papers that will help identify technological and logistical requireme
 nts for the traverses that will be needed to support the science.<br /> <br
  /> <strong>Description:&nbsp;</strong>Scientific discoveries achieved on t
 he Greenland Ice are critical to society today, but they are not achieved w
 ithout significant advance planning. This&nbsp;interdisciplinary science co
 mmunity workshop will identify future sites and traverse routes on the Gree
 nland Ice Sheet where ground-based measurements and/or ice coring&nbsp;will
  be needed and the associated timeline over the coming decade for advancing
  science on multiple frontiers. The outcome of the workshop will be a set o
 f white papers&nbsp;describing compelling scientific issues and associated 
 measurements, timelines, and geographic locations on the Greenland Ice Shee
 t. The white papers will be made&nbsp;available to all on both the <a href=
 "https://icedrill.org" target="_blank" rel="noopener">https://icedrill.org<
 /a>&nbsp;and <a href="https://www.geosummit.org" target="_blank" rel="noope
 ner">https://www.geosummit.org</a>&nbsp;websites.<br /> <br /> Additional w
 orkshop information and the draft agenda are available at <a href="https://
 icedrill.org/meetings/us-scientific-traverses-gris-planning-workshop" targe
 t="_blank" rel="noopener">https://icedrill.org/meetings/us-scientific-trave
 rses-gris-planning-workshop</a>. <strong>To participate in the&nbsp;worksho
 p, please register</strong>&nbsp;by following the instructions on our&nbsp;
 website, where you will be able to provide a title for your 5-minute “pitch
 ” for the science that you envision for&nbsp;the future. After we receive y
 our registration, we will send you additional details of the workshop as it
  develops.&nbsp;<strong>The&nbsp;deadline for registration&nbsp;is&nbsp;Jun
 e 6, 2021.</strong></p><p style="text-align: justify;">For questions, conta
 ct the U.S. Ice Drilling Program at&nbsp;<span id="cloak4069b1e40d94afc3ce4
 6c4b8f2d78461">This email address is being protected from spambots. You nee
 d JavaScript enabled to view it.</span><script type='text/javascript'>
				
 document.getElementById('cloak4069b1e40d94afc3ce46c4b8f2d78461').innerHTML 
 = '';
				var prefix = '&#109;a' + 'i&#108;' + '&#116;o';
				var path = 'h
 r' + 'ef' + '=';
				var addy4069b1e40d94afc3ce46c4b8f2d78461 = 'Ic&#101;Dr
 &#105;ll' + '&#64;';
				addy4069b1e40d94afc3ce46c4b8f2d78461 = addy4069b1e
 40d94afc3ce46c4b8f2d78461 + 'D&#97;rtm&#111;&#117;th' + '&#46;' + '&#101;d&
 #117;';
				var addy_text4069b1e40d94afc3ce46c4b8f2d78461 = 'Ic&#101;Dr&#10
 5;ll' + '&#64;' + 'D&#97;rtm&#111;&#117;th' + '&#46;' + '&#101;d&#117;';doc
 ument.getElementById('cloak4069b1e40d94afc3ce46c4b8f2d78461').innerHTML += 
 '<a ' + path + '\'' + prefix + ':' + addy4069b1e40d94afc3ce46c4b8f2d78461 +
  '\'>'+addy_text4069b1e40d94afc3ce46c4b8f2d78461+'<\/a>';
		</script>.</p>
DTSTAMP:20260423T040105Z
DTSTART;TZID=UTC;VALUE=DATE:20210611
DTEND;TZID=UTC;VALUE=DATE:20210612
SEQUENCE:0
TRANSP:OPAQUE
END:VEVENT
END:VCALENDAR