BEGIN:VCALENDAR
VERSION:2.0
PRODID:-//jEvents 2.0 for Joomla//EN
CALSCALE:GREGORIAN
METHOD:PUBLISH
BEGIN:VEVENT
UID:2c82d3b3d9e68bcb43315035e07474fa
CATEGORIES:Polar Online Events
CREATED:20210520T080000
SUMMARY:12th Arctic Council Ministerial 
LOCATION:Reykjavi\, Iceland - Online
DESCRIPTION:The 12th Ministerial meeting of the Arctic Council will mark the end of the
  two-year Icelandic Chairmanship term. The meeting will be held on 20th May
  2021 in Reykjavik, Iceland. It provides an opportunity to review the Counc
 il’s activities and accomplishments under Iceland’s Chairmanship. It will a
 lso see the Russian Federation assume the role for the next two years.\nWat
 ch the livestream of the Ministerial meeting here on 20 May 2021, 08:30-11:
 30 GMT: https://arctic-council.org/en/resources/reykjavik/\n\n
X-ALT-DESC;FMTTYPE=text/html:<p>The 12th Ministerial meeting of the Arctic Council will mark the end of 
 the two-year Icelandic Chairmanship term. The meeting will be held on 20th 
 May 2021 in Reykjavik, Iceland. It provides an opportunity to review the Co
 uncil’s activities and accomplishments under Iceland’s Chairmanship. It wil
 l also see the Russian Federation assume the role for the next two years.</
 p><p><strong>Watch the livestream of the Ministerial meeting here on 20 May
  2021, 08:30-11:30 GMT: <a href="https://arctic-council.org/en/resources/re
 ykjavik/">https://arctic-council.org/en/resources/reykjavik/</a><br /></str
 ong></p>
DTSTAMP:20260423T054506Z
DTSTART;TZID=UTC:20210520T083000
DTEND;TZID=UTC:20210520T113000
SEQUENCE:0
TRANSP:OPAQUE
END:VEVENT
END:VCALENDAR