BEGIN:VCALENDAR
VERSION:2.0
PRODID:-//jEvents 2.0 for Joomla//EN
CALSCALE:GREGORIAN
METHOD:PUBLISH
BEGIN:VEVENT
UID:f5dfc05b21e8f026c74517b86b00479b
CATEGORIES:APECS Events
CREATED:20210520T062203
SUMMARY: Webinar on Science in Contemporary Greenland-USA Relations
LOCATION:Online
DESCRIPTION:In light of increased interest in the economic and military potential of Gr
 eenland from the former and current US Presidential administrations, and th
 e strong potential for Greenlandic independence in the coming years, APECS 
 Science &amp; Diplomacy will host a robust roundtable event on the role of 
 science and scientists in US-Greenlandic relations.\nDrs. Ronald Doel (Flor
 ida State University), Kristine Harper (University of Copenhagen), Kristian
  Nielsen (Aarhus University), and Mark Nuttall (University of Alberta) will
  be speaking to a range of topics from Camp Century and Thule Air Base to r
 are earth metal mining and ancient climate reconstruction. Their discussion
  will be followed by breakout groups for attendees to discuss the complex i
 ssues involved and consider the ways that science and scientists impact int
 ernational relations. The goal of the roundtable is to highlight how “scien
 ce in diplomacy” and “diplomacy in science” operate in a specific and criti
 cal international relationship in the Arctic, taking into account the US re
 lationship with Denmark, but focusing foremost on bilateral US-Greenlandic 
 relations past and future.\nPlease join us on May 28 at 14:00 GMT. \n\nZoom
  registration is available here (https://us02web.zoom.us/meeting/register/t
 Z0pce2upjsqE9Yl8O9xdicQ_qrz0PG-F9mV).\n\nAuthor: Nicholas Parlato\n
X-ALT-DESC;FMTTYPE=text/html:<p style="text-align: justify;">In light of increased interest in the econo
 mic and military potential of Greenland from the former and current US Pres
 idential administrations, and the strong potential for Greenlandic independ
 ence in the coming years, APECS Science &amp; Diplomacy will host a robust 
 roundtable event on the role of science and scientists in US-Greenlandic re
 lations.</p><p style="text-align: justify;">Drs. Ronald Doel (Florida State
  University), Kristine Harper (University of Copenhagen), Kristian Nielsen 
 (Aarhus University), and Mark Nuttall (University of Alberta) will be speak
 ing to a range of topics from Camp Century and Thule Air Base to rare earth
  metal mining and ancient climate reconstruction. Their discussion will be 
 followed by breakout groups for attendees to discuss the complex issues inv
 olved and consider the ways that science and scientists impact internationa
 l relations. The goal of the roundtable is to highlight how “science in dip
 lomacy” and “diplomacy in science” operate in a specific and critical inter
 national relationship in the Arctic, taking into account the US relationshi
 p with Denmark, but focusing foremost on bilateral US-Greenlandic relations
  past and future.</p><p style="text-align: justify;">Please join us on <str
 ong>May 28 at 14:00 GMT</strong>. <br /><br /><strong>Zoom registration is 
 available <a href="https://us02web.zoom.us/meeting/register/tZ0pce2upjsqE9Y
 l8O9xdicQ_qrz0PG-F9mV" target="_blank" rel="noopener">here</a>.</strong></p
 ><p style="text-align: right;"><br /><span style="font-size: 8pt;"><em>Auth
 or: Nicholas Parlato</em></span></p>
DTSTAMP:20260423T053314Z
DTSTART;TZID=UTC:20210528T140000
SEQUENCE:0
TRANSP:OPAQUE
END:VEVENT
END:VCALENDAR