BEGIN:VCALENDAR
VERSION:2.0
PRODID:-//jEvents 2.0 for Joomla//EN
CALSCALE:GREGORIAN
METHOD:PUBLISH
BEGIN:VEVENT
UID:4922a073cb240324190ffcb527715af4
CATEGORIES:Polar Online Events
CREATED:20210514T091004
SUMMARY:NSF Webinar: Faculty Early Career Development Program (CAREER)
LOCATION:Online
DESCRIPTION:The Faculty Early Career Development (CAREER) Program is a National Science
  Foundation-wide activity that offers the NSF's most prestigious awards in 
 support of early-career faculty who have the potential to serve as academic
  role models in research and education and to lead advances in the mission 
 of their department or organization.\nIn advance of the July 26, 2021 deadl
 ine, program officers will hold two webinars about the program:\n✔️ Friday,
  May 14, 2021, from 1:00 to 3:00 PM Eastern time\n✔️ Thursday, May 20, 2021
 , from 1:00 to 3:00 PM Eastern time\nEach webinar will have the same presen
 tation followed by a question and answer session.\nThis webinar requires ad
 vance registration. Learn more and register at https://www.nsf.gov/funding/
 pgm_summ.jsp?pims_id=503214.\n
X-ALT-DESC;FMTTYPE=text/html:<p style="text-align: justify;">The<strong> Faculty Early Career Developmen
 t (CAREER) Program</strong> is a National Science Foundation-wide activity 
 that offers the NSF's most prestigious awards in support of early-career fa
 culty who have the potential to serve as academic role models in research a
 nd education and to lead advances in the mission of their department or org
 anization.</p><p style="text-align: justify;">In advance of the July 26, 20
 21 deadline, program officers will hold two webinars about the program:</p>
 <p style="text-align: justify;">✔️ Friday, May 14, 2021, from 1:00 to 3:00 
 PM Eastern time</p><p style="text-align: justify;">✔️ <strong>Thursday, May
  20, 2021, from 1:00 to 3:00 PM Eastern time</strong></p><p style="text-ali
 gn: justify;">Each webinar will have the same presentation followed by a qu
 estion and answer session.</p><p style="text-align: justify;">This webinar 
 requires advance registration. Learn more and register at <a href="https://
 www.nsf.gov/funding/pgm_summ.jsp?pims_id=503214" target="_blank" rel="noope
 ner">https://www.nsf.gov/funding/pgm_summ.jsp?pims_id=503214</a>.</p>
DTSTAMP:20260422T172447Z
DTSTART;TZID=UTC;VALUE=DATE:20210520
DTEND;TZID=UTC;VALUE=DATE:20210521
SEQUENCE:0
TRANSP:OPAQUE
END:VEVENT
END:VCALENDAR