BEGIN:VCALENDAR
VERSION:2.0
PRODID:-//jEvents 2.0 for Joomla//EN
CALSCALE:GREGORIAN
METHOD:PUBLISH
BEGIN:VEVENT
UID:821b3e3b0f752010bca14e1c87c4c2b9
CATEGORIES:Polar Online Events
CREATED:20210514T090821
SUMMARY:NSF Webinar: Faculty Early Career Development Program (CAREER)
LOCATION:Online
DESCRIPTION:The Faculty Early Career Development (CAREER) Program is a National Science
  Foundation-wide activity that offers the NSF's most prestigious awards in 
 support of early-career faculty who have the potential to serve as academic
  role models in research and education and to lead advances in the mission 
 of their department or organization.\nIn advance of the July 26, 2021 deadl
 ine, program officers will hold two webinars about the program:\n✔️ Friday,
  May 14, 2021, from 1:00 to 3:00 PM Eastern time\n✔️ Thursday, May 20, 2021
 , from 1:00 to 3:00 PM Eastern time\nEach webinar will have the same presen
 tation followed by a question and answer session.\nThis webinar requires ad
 vance registration. Learn more and register at ttps://www.nsf.gov/funding/p
 gm_summ.jsp?pims_id=503214 (https://www.nsf.gov/funding/pgm_summ.jsp?pims_i
 d=503214).\n
X-ALT-DESC;FMTTYPE=text/html:<p>The <strong>Faculty Early Career Development (CAREER) Program</strong> i
 s a National Science Foundation-wide activity that offers the NSF's most pr
 estigious awards in support of early-career faculty who have the potential 
 to serve as academic role models in research and education and to lead adva
 nces in the mission of their department or organization.</p><p>In advance o
 f the July 26, 2021 deadline, program officers will hold two webinars about
  the program:</p><p>✔️ Friday, May 14, 2021, from 1:00 to 3:00 PM Eastern t
 ime</p><p>✔️ Thursday, May 20, 2021, from 1:00 to 3:00 PM Eastern time</p><
 p>Each webinar will have the same presentation followed by a question and a
 nswer session.</p><p>This webinar requires advance registration. Learn more
  and register at <a href="https://www.nsf.gov/funding/pgm_summ.jsp?pims_id=
 503214" target="_blank" rel="noopener">ttps://www.nsf.gov/funding/pgm_summ.
 jsp?pims_id=503214</a>.</p>
DTSTAMP:20260423T040105Z
DTSTART;TZID=UTC;VALUE=DATE:20210514
DTEND;TZID=UTC;VALUE=DATE:20210515
SEQUENCE:0
TRANSP:OPAQUE
END:VEVENT
END:VCALENDAR