BEGIN:VCALENDAR
VERSION:2.0
PRODID:-//jEvents 2.0 for Joomla//EN
CALSCALE:GREGORIAN
METHOD:PUBLISH
BEGIN:VEVENT
UID:7481031b2d4fe9b73a85750575f70d8b
CATEGORIES:APECS Events
CREATED:20161207T224245
SUMMARY:APECS booth at Haines Junction Mountain Festival
LOCATION:Haines Junction\, Canada
DESCRIPTION:<p>At the Haines Junction Mountain Festival, in conjunction with the UN's I
 nternational Mountain Day, there will be an APECS booth in the atrium featu
 ring info on APECS, research highlights from early-career researchers, and 
 a fun art activity! Plus many more activities listed on this website: www.y
 ukonmountainfest.ca</p>
CONTACT:Meagan Grabowski (This email address is being protected from spambots. You need JavaScript enabled to view it.
				document.getElementById('cloak69e98384bb5d860f4afcb9f06217308d').innerHTML = '';
				var prefix = '&#109;a' + 'i&#108;' + '&#116;o';
				var path = 'hr' + 'ef' + '=';
				var addy69e98384bb5d860f4afcb9f06217308d = 'm&#101;&#97;g&#97;ngr&#97;b&#111;wsk&#105;' + '&#64;';
				addy69e98384bb5d860f4afcb9f06217308d = addy69e98384bb5d860f4afcb9f06217308d + 'gm&#97;&#105;l' + '&#46;' + 'c&#111;m';
				var addy_text69e98384bb5d860f4afcb9f06217308d = 'm&#101;&#97;g&#97;ngr&#97;b&#111;wsk&#105;' + '&#64;' + 'gm&#97;&#105;l' + '&#46;' + 'c&#111;m';document.getElementById('cloak69e98384bb5d860f4afcb9f06217308d').innerHTML += '<a ' + path + '\'' + prefix + ':' + addy69e98384bb5d860f4afcb9f06217308d + '\'>'+addy_text69e98384bb5d860f4afcb9f06217308d+'';
		)
X-EXTRAINFO:www.yukonmountainfest.ca
DTSTAMP:20260422T052428Z
DTSTART;TZID=UTC;VALUE=DATE:20161209
DTEND;TZID=UTC;VALUE=DATE:20161212
SEQUENCE:0
TRANSP:OPAQUE
END:VEVENT
END:VCALENDAR