BEGIN:VCALENDAR
VERSION:2.0
PRODID:-//jEvents 2.0 for Joomla//EN
CALSCALE:GREGORIAN
METHOD:PUBLISH
BEGIN:VEVENT
UID:46b3b771e36e70c1cc077ef00728d68c
CATEGORIES:Polar Online Events
CREATED:20210512T070142
SUMMARY:Arctic Research Flash Talks and Arctic Research Scavenger Hunt
LOCATION:Online/University of Alaska Fairbanks
DESCRIPTION:The University of Alaska Fairbanks and the National Weather Service invite 
 participation at two upcoming events, Arctic research flash talks and an Ar
 ctic research scavenger hunt.\nThe flash talks will be held virtually via F
 acebook or Zoom on 20 May 2021 from 4:00-6:00 p.m. AKDT. Flash talks are sh
 ort presentations by scientists and students about unique and interesting r
 esearch in climate science, geoscience, fisheries, social science, and more
 .\nThe Arctic research-themed scavenger hunt is an all-ages, all-abilities,
  outdoor event on the University of Alaska Fairbanks campus in Fairbanks, A
 laska. The event is self-led from 20-23 May 2021 and is designed to get par
 ticipants outside to explore the campus and uncover facts about Arctic rese
 arch. A map of riddle locations and parking areas will be available prior t
 o the event.\nTo register for the flash talks, go to:\n Event registration 
 webpage (https://alaska.zoom.us/meeting/register/tZEvduGsqjMrEtJuq-ueP27Qcz
 1v7UM_ck-l)\nFor more information, go to:\n <a href="https://www.facebook.c
 om/events/475440797000890" target="_blank" rel="noopener">Event webpage</a>
 \n
X-ALT-DESC;FMTTYPE=text/html:<p style="text-align: justify;">The University of Alaska Fairbanks and the 
 National Weather Service invite participation at two upcoming events, <stro
 ng>Arctic research flash talks</strong> and an <strong>Arctic research scav
 enger hunt</strong>.</p><p style="text-align: justify;">The<strong> flash t
 alks</strong> will be held virtually via Facebook or Zoom on<strong> 20 May
  2021 from 4:00-6:00 p.m. AKDT</strong>. Flash talks are short presentation
 s by scientists and students about unique and interesting research in clima
 te science, geoscience, fisheries, social science, and more.</p><p style="t
 ext-align: justify;">The <strong>Arctic research-themed scavenger hunt</str
 ong> is an all-ages, all-abilities, outdoor event on the University of Alas
 ka Fairbanks campus in Fairbanks, Alaska. The event is self-led from <stron
 g>20-23 May 2021</strong> and is designed to get participants outside to ex
 plore the campus and uncover facts about Arctic research. A map of riddle l
 ocations and parking areas will be available prior to the event.</p><p styl
 e="text-align: justify;">To register for the flash talks, go to:<br /> <a h
 ref="https://alaska.zoom.us/meeting/register/tZEvduGsqjMrEtJuq-ueP27Qcz1v7U
 M_ck-l" target="_blank" rel="noopener">Event registration webpage</a></p><p
  style="text-align: justify;">For more information, go to:<br /> <a href="h
 ttps://www.facebook.com/events/475440797000890" target="_blank" rel="noopen
 er">Event webpage</a></p>
DTSTAMP:20260423T033835Z
DTSTART;TZID=UTC;VALUE=DATE:20210520
DTEND;TZID=UTC;VALUE=DATE:20210524
SEQUENCE:0
TRANSP:OPAQUE
END:VEVENT
END:VCALENDAR