BEGIN:VCALENDAR
VERSION:2.0
PRODID:-//jEvents 2.0 for Joomla//EN
CALSCALE:GREGORIAN
METHOD:PUBLISH
BEGIN:VEVENT
UID:0137484ee5d1d609a5f67eb163fac63c
CATEGORIES:Polar Online Events
CREATED:20210511T133639
SUMMARY:Enhancing Fieldwork Learning - Showcase event: Diversity, Inclusivity and Employability
LOCATION:Online
DESCRIPTION:<p>The Enhancing Fieldwork Learning project team coordinates an annual Show
 case event that brings together fieldwork educators from a range to discipl
 ines to share innovations in field teaching and learning with a particular 
 focus on the use of technology. This Showcase event is&nbsp;relevant to tho
 se early in their teaching career as well as those more experienced academi
 cs looking to upskill and innovate their teaching practice in the field.</p
 ><p>We are delighted to announce that the 11th Enhancing Fieldwork Learning
  Showcase will focus on the themes of&nbsp;<strong>Diversity, Inclusivity a
 nd Employability; “Fieldwork Skills for All”.</strong></p><p><strong>The Sh
 owcase Event will be held&nbsp;online&nbsp;on the 8/9<sup>th</sup>&nbsp;Sep
 tember 2021.</strong></p><p>Our keynote speakers will be:<br /><br /><stron
 g>Alison Stokes</strong> – inclusivity in fieldwork <br /><strong>Chris Jac
 kson</strong> – diversity and barriers to fieldwork</p><p><strong>We are cu
 rrently accepting abstracts for short talks or online demonstrations.&nbsp;
 </strong></p><p>Please submit your abstract <a href="https://docs.google.co
 m/forms/d/1OG_KAaow62z3Yy4zvpl3Ct5H4-6yCXzMWavxk5G0ncM/viewform?edit_reques
 ted=true" target="_blank" rel="noopener">here</a>. Submission deadline <str
 ong>21st May 2021.</strong></p><p>To <strong>register</strong> please email
 &nbsp;<a href="mailto:enhancingfieldworklearning@gmail.com"></a><span id="c
 loak55b72ad3e5c7805d92e953a361b2621e"><a href="mailto:enhancingfieldworklea
 rning@gmail.com"></a><span id="cloakd48eeacfb9a426ac8886f694c87722bd">This 
 email address is being protected from spambots. You need JavaScript enabled
  to view it.</span><script type='text/javascript'>
				document.getElementB
 yId('cloakd48eeacfb9a426ac8886f694c87722bd').innerHTML = '';
				var prefix
  = '&#109;a' + 'i&#108;' + '&#116;o';
				var path = 'hr' + 'ef' + '=';
			
 	var addyd48eeacfb9a426ac8886f694c87722bd = '&#101;nh&#97;nc&#105;ngf&#105;
 &#101;ldw&#111;rkl&#101;&#97;rn&#105;ng' + '&#64;';
				addyd48eeacfb9a426a
 c8886f694c87722bd = addyd48eeacfb9a426ac8886f694c87722bd + 'gm&#97;&#105;l'
  + '&#46;' + 'c&#111;m';
				var addy_textd48eeacfb9a426ac8886f694c87722bd 
 = '&#101;nh&#97;nc&#105;ngf&#105;&#101;ldw&#111;rkl&#101;&#97;rn&#105;ng' +
  '&#64;' + 'gm&#97;&#105;l' + '&#46;' + 'c&#111;m';document.getElementById(
 'cloakd48eeacfb9a426ac8886f694c87722bd').innerHTML += '<a ' + path + '\'' +
  prefix + ':' + addyd48eeacfb9a426ac8886f694c87722bd + '\'>'+addy_textd48ee
 acfb9a426ac8886f694c87722bd+'<\/a>';
		</script></span>&nbsp;– you will be 
 added to a Teams group.&nbsp;<strong><br /> </strong><strong><br /></strong
 ></p><p><strong>To</strong>&nbsp;<strong>join the Team please click on this
  link: <a href="https://bit.ly/3ebSVbT"></a><a href="https://bit.ly/3ebSVbT
 ">https://bit.ly/3ebSVbT</a></strong><br /> The event will be of interest t
 o fieldwork practitioners from a range of disciplines including Environment
 al and Ecological Sciences, Geology, Physical and Human Geography, Agricult
 ure, Archaeology and the wider Biosciences. The interactive, online event w
 ill include talks, virtual demonstrations and breakout discussion sessions.
 &nbsp;For further information, please get in touch at&nbsp;<a href="mailto:
 enhancingfieldworklearning@gmail.com"></a><span id="cloak6701919d1e2a8cba99
 007ad691c8d29e"><a href="mailto:enhancingfieldworklearning@gmail.com"></a><
 span id="cloakcebd0c8e672b18b579da3316c6247273">This email address is being
  protected from spambots. You need JavaScript enabled to view it.</span><sc
 ript type='text/javascript'>
				document.getElementById('cloakcebd0c8e672b
 18b579da3316c6247273').innerHTML = '';
				var prefix = '&#109;a' + 'i&#108
 ;' + '&#116;o';
				var path = 'hr' + 'ef' + '=';
				var addycebd0c8e672b1
 8b579da3316c6247273 = '&#101;nh&#97;nc&#105;ngf&#105;&#101;ldw&#111;rkl&#10
 1;&#97;rn&#105;ng' + '&#64;';
				addycebd0c8e672b18b579da3316c6247273 = ad
 dycebd0c8e672b18b579da3316c6247273 + 'gm&#97;&#105;l' + '&#46;' + 'c&#111;m
 ';
				var addy_textcebd0c8e672b18b579da3316c6247273 = '&#101;nh&#97;nc&#10
 5;ngf&#105;&#101;ldw&#111;rkl&#101;&#97;rn&#105;ng' + '&#64;' + 'gm&#97;&#1
 05;l' + '&#46;' + 'c&#111;m';document.getElementById('cloakcebd0c8e672b18b5
 79da3316c6247273').innerHTML += '<a ' + path + '\'' + prefix + ':' + addyce
 bd0c8e672b18b579da3316c6247273 + '\'>'+addy_textcebd0c8e672b18b579da3316c62
 47273+'<\/a>';
		</script></span>&nbsp;or&nbsp;visit the <a href="https://e
 nhancingfieldwork.org.uk/the-efl-showcase/" target="_blank" rel="noopener">
 EFL website</a>.</p><p>Information about previous Showcase events is availa
 ble <a href="https://enhancingfieldwork.org.uk/events-archive/" target="_bl
 ank" rel="noopener">here</a>. <br /> <br /> We look forward to seeing you t
 here.</p><p>Best wishes, The EFL team</p>
DTSTAMP:20260420T053127Z
DTSTART;TZID=UTC;VALUE=DATE:20210908
DTEND;TZID=UTC;VALUE=DATE:20210910
SEQUENCE:0
TRANSP:OPAQUE
END:VEVENT
END:VCALENDAR