BEGIN:VCALENDAR
VERSION:2.0
PRODID:-//jEvents 2.0 for Joomla//EN
CALSCALE:GREGORIAN
METHOD:PUBLISH
BEGIN:VEVENT
UID:e7f9b7eb853a061c23cf09062d99ebb0
CATEGORIES:Polar Online Events
CREATED:20210507T085837
SUMMARY:Webinar: Transforming Arctic Research Through Expression
LOCATION:Online
DESCRIPTION:Webinar May 21 11:00 AM EDT: Using Strength, Expression, and reflection to 
 Transform Arctic Research \nhttps://www.eventbrite.com/e/wounded-healers-vi
 deo-expression-reflection-transforming-research-tickets-152705222431?aff=eb
 dsoporgprofile\nJoin us for a special viewing of ‘The Wounded Healers’ with
  the director Romani Makkik and producer Shari Fox. Both long-time research
 ers and advocates in their fields, Makkik and Fox will host a discussion an
 d Q&amp;A session following the video, highlighting how the video and its m
 aking was a critical part of a research process. In Wounded Healers, direct
 or Romani Makkik takes us on a personal journey into reconciliation. Makkik
  asks, ‘how can we as Inuit come to reconcile amongst ourselves’? What star
 ted as graduate study research turned into deep engagement with a counsello
 r training program, a powerful experience of self-reflection, and learning 
 how one organization and one community transforms lives by drawing on its s
 trengths.\n
X-ALT-DESC;FMTTYPE=text/html:<p style="text-align: justify;"><strong>Webinar May 21 11:00 AM EDT: Using 
 Strength, Expression, and reflection to Transform Arctic Research</strong> 
 <br /><a href="https://www.eventbrite.com/e/wounded-healers-video-expressio
 n-reflection-transforming-research-tickets-152705222431?aff=ebdsoporgprofil
 e" target="_blank" rel="noopener">https://www.eventbrite.com/e/wounded-heal
 ers-video-expression-reflection-transforming-research-tickets-152705222431?
 aff=ebdsoporgprofile</a></p><p style="text-align: justify;">Join us for a s
 pecial viewing of ‘The Wounded Healers’ with the director Romani Makkik and
  producer Shari Fox. Both long-time researchers and advocates in their fiel
 ds, Makkik and Fox will host a discussion and Q&amp;A session following the
  video, highlighting how the video and its making was a critical part of a 
 research process. In Wounded Healers, director Romani Makkik takes us on a 
 personal journey into reconciliation. Makkik asks, ‘how can we as Inuit com
 e to reconcile amongst ourselves’? What started as graduate study research 
 turned into deep engagement with a counsellor training program, a powerful 
 experience of self-reflection, and learning how one organization and one co
 mmunity transforms lives by drawing on its strengths.</p><div><span style="
 color: #000000; font-family: arial, sans-serif;"></span></div>
DTSTAMP:20260422T095709Z
DTSTART;TZID=UTC;VALUE=DATE:20210521
DTEND;TZID=UTC;VALUE=DATE:20210522
SEQUENCE:0
TRANSP:OPAQUE
END:VEVENT
END:VCALENDAR