BEGIN:VCALENDAR
VERSION:2.0
PRODID:-//jEvents 2.0 for Joomla//EN
CALSCALE:GREGORIAN
METHOD:PUBLISH
BEGIN:VEVENT
UID:a258b4b3dcb6bf6e32323a5852860b67
CATEGORIES:Polar Online Events
CREATED:20210503T134351
SUMMARY:Ant-ICON Community Engagement Meeting
LOCATION:Online
DESCRIPTION:SCAR Scientific Research Programme - Integrated Science to Inform Antarctic
  and Southern Ocean Conservation (Ant-ICON) community engagement meeting\nT
 he Ant-ICON Steering Committee invites you to join the Ant-ICON Community E
 ngagement Meeting. The meeting will be held in mid-May and repeated across 
 two sessions to make it as accessible as possible to a range of time zones.
 \nWednesday 12 May 2021:\n Meeting 1: 09:00 - 11:00 UTC\n Meeting 2: 19:00 
 - 21:00 UTC  \nThere will be presentations from Theme Leaders and an extend
 ed Q&amp;A session. The Ant-ICON Steering Committee is very keen to ensure 
 we can facilitate a wide ranging discussion at these meetings and we would 
 really welcome your participation. Further details, including registration 
 details and an agenda will be sent out in late April. Find further informat
 ion here: https://scar.org/scar-news/ant-icon-news/anticon-community-meetin
 g/.\nMake sure to subscribe to the Ant-ICON mailing list to hear about the 
 latest news, events and opportunities to get involved with the programme: <
 a href="https://lists.scar.org/mailman/listinfo/ant-icon" target="_blank" r
 el="noopener">https://lists.scar.org/mailman/listinfo/ant-icon</a>\n
X-ALT-DESC;FMTTYPE=text/html:<p style="text-align: justify;"><strong>SCAR Scientific Research Programme 
 - Integrated Science to Inform Antarctic and Southern Ocean Conservation (A
 nt-ICON) community engagement meeting</strong></p><p style="text-align: jus
 tify;">The Ant-ICON Steering Committee invites you to join the Ant-ICON Com
 munity Engagement Meeting. The&nbsp;meeting will be held in mid-May and rep
 eated across two sessions to make it as accessible as possible to a range o
 f time zones.<span style="text-decoration: underline;"></span><span style="
 text-decoration: underline;"></span></p><p style="text-align: justify;"><st
 rong>Wednesday</strong>&nbsp;<strong>12</strong>&nbsp;<strong>May 2021:</st
 rong><strong><span style="text-decoration: underline;"></span><br /> </stro
 ng><strong>Meeting 1: 09:00 - 11:00 UTC</strong><strong><br /> </strong><st
 rong>Meeting 2: 19:00 - 21:00 UTC</strong>&nbsp;&nbsp;</p><p style="text-al
 ign: justify;">There will be presentations from Theme Leaders and an extend
 ed Q&amp;A session. The Ant-ICON Steering Committee is very keen to ensure 
 we can facilitate&nbsp;a wide ranging discussion at these meetings and we w
 ould really welcome your participation. Further details, including registra
 tion details and an agenda will be sent out in late April. Find further inf
 ormation here: <a href="https://scar.org/scar-news/ant-icon-news/anticon-co
 mmunity-meeting/" target="_blank" rel="noopener">https://scar.org/scar-news
 /ant-icon-news/anticon-community-meeting/</a>.</p><p style="text-align: jus
 tify;">Make sure to subscribe to the Ant-ICON mailing list to hear about th
 e latest news, events and opportunities to get involved with the programme:
  <a href="https://lists.scar.org/mailman/listinfo/ant-icon" target="_blank"
  rel="noopener">https://lists.scar.org/mailman/listinfo/ant-icon</a></p>
DTSTAMP:20260423T040106Z
DTSTART;TZID=UTC;VALUE=DATE:20210512
DTEND;TZID=UTC;VALUE=DATE:20210513
SEQUENCE:0
TRANSP:OPAQUE
END:VEVENT
END:VCALENDAR