BEGIN:VCALENDAR
VERSION:2.0
PRODID:-//jEvents 2.0 for Joomla//EN
CALSCALE:GREGORIAN
METHOD:PUBLISH
BEGIN:VEVENT
UID:cd3aa2bbb93506d41f05312c7eded866
CATEGORIES:Polar Online Events
CREATED:20210423T141011
SUMMARY:Virtual Water Gallery Launch Event
LOCATION:Online
DESCRIPTION:Please join us for the launch of the Virtual Water Gallery on Thursday, Apr
 il 29 from 10:30 -11:30 am CST (UTC-6).\nWater is life and so water-related
  challenges affect everyone. We believe that sharing water perspectives acr
 oss communities can help find creative and holistic solutions to the water 
 challenges we all face.\nThe Virtual Water Gallery is a science and art pil
 ot project that brings together artists, water experts, knowledge keepers, 
 and the pubic to collectively reflect on pressing water challenges. As part
  of this pilot project, 12 artists were paired with 16 water experts and kn
 owledge keepers to co-explore specific water challenges in various Canadian
  eco-regions and river basins, including the Arctic, the mountains, boreal 
 forests, prairies, farmlands, lakes, rivers, and communities. These collabo
 rations have led to the co-creation of science-art pieces that will be exhi
 bited online on the Virtual Water Gallery.\nJoin the discussion: www.virtua
 lwatergallery.ca (https://www.virtualwatergallery.ca/)\n
X-ALT-DESC;FMTTYPE=text/html:<p style="text-align: justify;">Please join us for the launch of the <stron
 g>Virtual Water Gallery</strong> on <strong>Thursday, April 29 from 10:30 -
 11:30 am CST (UTC-6)</strong>.</p><p style="text-align: justify;">Water is 
 life and so water-related challenges affect everyone. We believe that shari
 ng water perspectives across communities can help find creative and holisti
 c solutions to the water challenges we all face.</p><p style="text-align: j
 ustify;">The Virtual Water Gallery is a science and art pilot project that 
 brings together artists, water experts, knowledge keepers, and the pubic to
  collectively reflect on pressing water challenges. As part of this pilot p
 roject, 12 artists were paired with 16 water experts and knowledge keepers 
 to co-explore specific water challenges in various Canadian eco-regions and
  river basins, including the Arctic, the mountains, boreal forests, prairie
 s, farmlands, lakes, rivers, and communities. These collaborations have led
  to the co-creation of science-art pieces that will be exhibited online on 
 the Virtual Water Gallery.</p><p style="text-align: justify;">Join the disc
 ussion: <a href="https://www.virtualwatergallery.ca/" target="_blank" rel="
 noopener">www.virtualwatergallery.ca</a></p>
DTSTAMP:20260422T172437Z
DTSTART;TZID=UTC;VALUE=DATE:20210429
DTEND;TZID=UTC;VALUE=DATE:20210430
SEQUENCE:0
TRANSP:OPAQUE
END:VEVENT
END:VCALENDAR