BEGIN:VCALENDAR
VERSION:2.0
PRODID:-//jEvents 2.0 for Joomla//EN
CALSCALE:GREGORIAN
METHOD:PUBLISH
BEGIN:VEVENT
UID:b26136cf0ce19d527212a6d233e3ceae
CATEGORIES:Polar Online Events
CREATED:20210422T153745
SUMMARY:UArctic Congress 2021
LOCATION:Online
DESCRIPTION:UArctic Congress 2021 takes place May 15-18, 2021 primarily online with lim
 ited local participation in Reykjavik, Iceland for the opening and closing 
 plenaries. The event is hosted by all UArctic higher education members in I
 celand. The Congress is part of Iceland’s chairmanship of the Arctic Counci
 l and organized in conjunction with the Arctic Council Ministerial Meeting.
  The themes of the Congress follow from the Icelandic chairmanship's priori
 ties. Read More, UArctic website (https://events.bizzabo.com/290553/)\n
X-ALT-DESC;FMTTYPE=text/html:<p style="text-align: justify;"><strong>UArctic Congress 2021</strong> take
 s place <strong>May 15-18, 2021</strong> primarily online with limited loca
 l participation in Reykjavik, Iceland for the opening and closing plenaries
 . The event is hosted by all UArctic higher education members in Iceland. T
 he Congress is part of Iceland’s chairmanship of the Arctic Council and org
 anized in conjunction with the Arctic Council Ministerial Meeting. The them
 es of the Congress follow from the Icelandic chairmanship's priorities. Rea
 d More, <a href="https://events.bizzabo.com/290553/" target="_blank" rel="n
 oopener">UArctic website</a></p>
DTSTAMP:20260423T040054Z
DTSTART;TZID=UTC;VALUE=DATE:20210515
DTEND;TZID=UTC;VALUE=DATE:20210519
SEQUENCE:0
TRANSP:OPAQUE
END:VEVENT
END:VCALENDAR