BEGIN:VCALENDAR
VERSION:2.0
PRODID:-//jEvents 2.0 for Joomla//EN
CALSCALE:GREGORIAN
METHOD:PUBLISH
BEGIN:VEVENT
UID:e44cd2be8e77c3636af91a61dfb132b4
CATEGORIES:Polar Online Events
CREATED:20210422T150238
SUMMARY:Future Oceans Workshop
LOCATION:Online
DESCRIPTION:Are you an ECR Ocean researcher? Then there is a great opportunity for you 
 at the SRI Future Oceans’ workshop (images/Articles/Files/323_Future_Oceans
 _Workshop_Flyer.pdf). This workshop builds a diverse and interdisciplinary 
 network of early career ocean researchers interested in solutions that cont
 ribute to a sustainable ocean. This workshop is the start of a longer conve
 rsation that we hope will grow to include working groups that will focus on
  initiatives that build their networks, add productive collaborations, and 
 impactful outcomes.  For more information: <a href="https://forms.gle/NPJyh
 iEVnXXY8kt7A" target="_blank" rel="noopener">https://forms.gle/NPJyhiEVnXXY
 8kt7A</a>
X-ALT-DESC;FMTTYPE=text/html:<div style="text-align: justify;">Are you an ECR Ocean researcher? Then the
 re is a great opportunity for you at the <a href="images/Articles/Files/323
 _Future_Oceans_Workshop_Flyer.pdf" target="_blank"><strong>SRI Future Ocean
 s’ workshop</strong></a>. This workshop builds a diverse and interdisciplin
 ary network of early career ocean researchers interested in solutions that 
 contribute to a sustainable ocean. This workshop is the start of a longer c
 onversation that we hope will grow to include working groups that will focu
 s on initiatives that build their networks, add productive collaborations, 
 and impactful outcomes.&nbsp;</div><div style="text-align: justify;">&nbsp;
 </div><div style="text-align: justify;">For more information: <a href="http
 s://forms.gle/NPJyhiEVnXXY8kt7A" target="_blank" rel="noopener">https://for
 ms.gle/NPJyhiEVnXXY8kt7A</a></div>
DTSTAMP:20260423T040112Z
DTSTART;TZID=UTC;VALUE=DATE:20210613
DTEND;TZID=UTC;VALUE=DATE:20210614
SEQUENCE:0
TRANSP:OPAQUE
END:VEVENT
END:VCALENDAR