BEGIN:VCALENDAR
VERSION:2.0
PRODID:-//jEvents 2.0 for Joomla//EN
CALSCALE:GREGORIAN
METHOD:PUBLISH
BEGIN:VEVENT
UID:d270689154d872c5f5362f6fc77a0c5f
CATEGORIES:Polar Conferences, Meetings and Events
CREATED:20160419T190854
SUMMARY:2016 Arctic Circle Assembly
LOCATION:Reykjavik\, Iceland
DESCRIPTION:More information: http://www.arcticcircle.org/\n
X-ALT-DESC;FMTTYPE=text/html:<p>More information: <a href="http://www.arcticcircle.org/">http://www.arct
 iccircle.org/</a></p>
DTSTAMP:20260424T160610Z
DTSTART;TZID=UTC;VALUE=DATE:20161007
DTEND;TZID=UTC;VALUE=DATE:20161010
SEQUENCE:0
TRANSP:OPAQUE
END:VEVENT
END:VCALENDAR