BEGIN:VCALENDAR
VERSION:2.0
PRODID:-//jEvents 2.0 for Joomla//EN
CALSCALE:GREGORIAN
METHOD:PUBLISH
BEGIN:VEVENT
UID:f9f55477ee5186b8e90c9fb3c07e3665
CATEGORIES:Polar Online Events
CREATED:20210415T071715
SUMMARY:Webinars on the OPP Postdoctoral Research Fellowships
LOCATION:Online
DESCRIPTION:The Antarctic Sciences (ANT) and Arctic Sciences (ARC) sections of the Offi
 ce of Polar Programs (OPP) invite you to two upcoming webinars on the OPP P
 ostdoctoral Research Fellowships (OPP-PRF, NSF 21-575: https://www.nsf.gov/
 pubs/2021/nsf21575/nsf21575.htm). \n\n - Thursday, April 22, 2021 from 4:00
 pm – 5:00pm EST and \n - Thursday, May 6, 2021 from 1:00pm – 2:00pm EST. Pl
 ease join Arctic Social Sciences Program Director, Erica Hill, and Antarcti
 c Ocean &amp; Atmospheric Sciences Program Director, Dave Sutherland, at th
 ese informal webinars to learn about the basics of the OPP-PRF and have any
  questions you bring addressed.\nRegistration is required to attend. \nRegi
 ster in advance for these webinars: <a href="https://nsf.zoomgov.com/webina
 r/register/WN_UBlL3HniRaicMXUT37JjyQ" target="_blank" rel="noopener">https:
 //nsf.zoomgov.com/webinar/register/WN_UBlL3HniRaicMXUT37JjyQ</a>\nOr an H.3
 23/SIP room system:\n    H.323: 161.199.138.10 (US West) or 161.199.136.10 
 (US East)\n    Meeting ID: 160 887 7509\n    Passcode: 949597\n    SIP:  (m
 ailto:1608877509@sip.zoomgov.com)This email address is being protected from
  spambots. You need JavaScript enabled to view it.
				document.getElementB
 yId('cloak365fa02b6a44bde8577009dd4af4617b').innerHTML = '';
				var prefix
  = '&#109;a' + 'i&#108;' + '&#116;o';
				var path = 'hr' + 'ef' + '=';
			
 	var addy365fa02b6a44bde8577009dd4af4617b = '1608877509' + '&#64;';
				add
 y365fa02b6a44bde8577009dd4af4617b = addy365fa02b6a44bde8577009dd4af4617b + 
 's&#105;p' + '&#46;' + 'z&#111;&#111;mg&#111;v' + '&#46;' + 'c&#111;m';
			
 	var addy_text365fa02b6a44bde8577009dd4af4617b = '1608877509' + '&#64;' + '
 s&#105;p' + '&#46;' + 'z&#111;&#111;mg&#111;v' + '&#46;' + 'c&#111;m';docum
 ent.getElementById('cloak365fa02b6a44bde8577009dd4af4617b').innerHTML += '<
 a ' + path + '\'' + prefix + ':' + addy365fa02b6a44bde8577009dd4af4617b + '
 \'>'+addy_text365fa02b6a44bde8577009dd4af4617b+'';
		\n    Passcode: 949597
 \n\nAfter registering, you will receive a confirmation email containing inf
 ormation about joining the webinar.  \nFAQ and slides from these Office Hou
 rs sessions will be posted at this location: <a href="https://www.nsf.gov/g
 eo/opp/ant/virtualhours%20_qanda.jsp" target="_blank" rel="noopener">https:
 //www.nsf.gov/geo/opp/ant/virtualhours%20_qanda.jsp</a>.\n
X-ALT-DESC;FMTTYPE=text/html:<p style="text-align: justify;">The <strong>Antarctic Sciences (ANT)</stron
 g> and <strong>Arctic Sciences (ARC) sections of the Office of Polar Progra
 ms (OPP)</strong>&nbsp;invite you to two upcoming webinars on the&nbsp;<str
 ong>OPP&nbsp;Postdoctoral&nbsp;Research Fellowships</strong> (OPP-PRF, NSF 
 21-575: <a href="https://www.nsf.gov/pubs/2021/nsf21575/nsf21575.htm" targe
 t="_blank" rel="noopener">https://www.nsf.gov/pubs/2021/nsf21575/nsf21575.h
 tm</a>).&nbsp;</p><ul style="text-align: justify;"><li>Thursday, April 22, 
 2021 from 4:00pm – 5:00pm EST and&nbsp;</li><li>Thursday, May 6, 2021 from 
 1:00pm – 2:00pm EST.&nbsp;</li></ul><p style="text-align: justify;">Please 
 join Arctic Social Sciences Program Director, Erica Hill, and Antarctic Oce
 an &amp; Atmospheric Sciences Program Director, Dave Sutherland, at these i
 nformal webinars to learn about the basics of the OPP-PRF and have any ques
 tions you bring addressed.</p><p style="text-align: justify;">Registration 
 is required to attend.&nbsp;</p><p style="text-align: justify;">Register in
  advance for these webinars: <a href="https://nsf.zoomgov.com/webinar/regis
 ter/WN_UBlL3HniRaicMXUT37JjyQ" target="_blank" rel="noopener">https://nsf.z
 oomgov.com/webinar/register/WN_UBlL3HniRaicMXUT37JjyQ</a></p><p style="text
 -align: justify;">Or an H.323/SIP room system:</p><p style="text-align: jus
 tify;">&nbsp;&nbsp;&nbsp; H.323: 161.199.138.10 (US West) or 161.199.136.10
  (US East)</p><p style="text-align: justify;">&nbsp;&nbsp;&nbsp; Meeting ID
 : 160 887 7509</p><p style="text-align: justify;">&nbsp;&nbsp;&nbsp; Passco
 de: 949597</p><p style="text-align: justify;">&nbsp;&nbsp;&nbsp; SIP:&nbsp;
 <a href="mailto:1608877509@sip.zoomgov.com"></a><span id="cloak365fa02b6a44
 bde8577009dd4af4617b">This email address is being protected from spambots. 
 You need JavaScript enabled to view it.</span><script type='text/javascript
 '>
				document.getElementById('cloak365fa02b6a44bde8577009dd4af4617b').inn
 erHTML = '';
				var prefix = '&#109;a' + 'i&#108;' + '&#116;o';
				var pa
 th = 'hr' + 'ef' + '=';
				var addy365fa02b6a44bde8577009dd4af4617b = '160
 8877509' + '&#64;';
				addy365fa02b6a44bde8577009dd4af4617b = addy365fa02b
 6a44bde8577009dd4af4617b + 's&#105;p' + '&#46;' + 'z&#111;&#111;mg&#111;v' 
 + '&#46;' + 'c&#111;m';
				var addy_text365fa02b6a44bde8577009dd4af4617b =
  '1608877509' + '&#64;' + 's&#105;p' + '&#46;' + 'z&#111;&#111;mg&#111;v' +
  '&#46;' + 'c&#111;m';document.getElementById('cloak365fa02b6a44bde8577009d
 d4af4617b').innerHTML += '<a ' + path + '\'' + prefix + ':' + addy365fa02b6
 a44bde8577009dd4af4617b + '\'>'+addy_text365fa02b6a44bde8577009dd4af4617b+'
 <\/a>';
		</script></p><p style="text-align: justify;">&nbsp;&nbsp;&nbsp; P
 asscode: 949597</p><p style="text-align: justify;"><br />After registering,
  you will receive a confirmation email containing information about joining
  the webinar. &nbsp;</p><p style="text-align: justify;">FAQ and slides from
  these Office Hours sessions will be posted at this location: <a href="http
 s://www.nsf.gov/geo/opp/ant/virtualhours%20_qanda.jsp" target="_blank" rel=
 "noopener">https://www.nsf.gov/geo/opp/ant/virtualhours%20_qanda.jsp</a>.</
 p>
DTSTAMP:20260422T100527Z
DTSTART;TZID=UTC;VALUE=DATE:20210422
DTEND;TZID=UTC;VALUE=DATE:20210423
SEQUENCE:0
TRANSP:OPAQUE
END:VEVENT
END:VCALENDAR