BEGIN:VCALENDAR
VERSION:2.0
PRODID:-//jEvents 2.0 for Joomla//EN
CALSCALE:GREGORIAN
METHOD:PUBLISH
BEGIN:VEVENT
UID:a27057e0a990e11c63fdca8bfd5477f0
CATEGORIES:Polar Conferences, Meetings and Events
CREATED:20210414T082131
SUMMARY:IAVCEI Scientific Assembly
LOCATION:Rotorua\, New Zealand
DESCRIPTION:The International Association of Volcanology and Chemistry of the Earth's I
 nterior (IAVCEI) Scientific Assembly will be held from 30 January to 3 Febr
 uary 2023 in Rotorua, New Zealand. More information about the assembly can 
 be found here (https://www.iavceivolcano.org/postponement-of-the-iavcei-sci
 entific-assembly-to-january-2023/).\n
X-ALT-DESC;FMTTYPE=text/html:<p style="text-align: justify;">The <em><strong>International Association o
 f Volcanology and Chemistry of the Earth's Interior (IAVCEI)</strong></em> 
 Scientific Assembly will be held from <strong>30 January to 3 February 2023
 </strong> in Rotorua, New Zealand. More information about the assembly can 
 be found <span lang="EN-US"><a href="https://www.iavceivolcano.org/postpone
 ment-of-the-iavcei-scientific-assembly-to-january-2023/" target="_blank" re
 l="noopener">here</a>.</span></p>
DTSTAMP:20260421T003146Z
DTSTART;TZID=UTC;VALUE=DATE:20230130
DTEND;TZID=UTC;VALUE=DATE:20230204
SEQUENCE:0
TRANSP:OPAQUE
END:VEVENT
END:VCALENDAR