BEGIN:VCALENDAR
VERSION:2.0
PRODID:-//jEvents 2.0 for Joomla//EN
CALSCALE:GREGORIAN
METHOD:PUBLISH
BEGIN:VEVENT
UID:9f802158308e114230c0d69609049a12
CATEGORIES:Polar Online Events
CREATED:20210412T153908
SUMMARY:European Meteorological Society Annual Meeting 2021
LOCATION:Online
DESCRIPTION:The 2021 Annual Meeting of the European Meteorological Society (https://www
 .ems2021.eu/home.html) – European Conference for Applied Meteorology and Cl
 imatology – will take place from 3 to 10 September 2021 as an online event!
 \n \nAbstract submission for session UP 2.4 "The cryosphere and cold region
  processes in the global climate system" will stay open until 16 April 2021
 . Session details are available <a href="https://meetingorganizer.copernicu
 s.org/EMS2021/session/41310" target="_blank" rel="noopener">here</a>.  (htt
 ps://meetingorganizer.copernicus.org/EMS2021/session/41310)\n \n
X-ALT-DESC;FMTTYPE=text/html:<p style="text-align: justify;">The <a href="https://www.ems2021.eu/home.ht
 ml" target="_blank" rel="noopener">2021 Annual Meeting of the European Mete
 orological Society</a> – European Conference for Applied Meteorology and Cl
 imatology – will take place from <strong>3 to 10 September 2021</strong> as
  an online event!<br /> <br />Abstract submission for session UP 2.4 "The c
 ryosphere and cold region processes in the global climate system" will stay
  open until <strong>16 April 2021</strong>. Session details are available <
 a href="https://meetingorganizer.copernicus.org/EMS2021/session/41310" targ
 et="_blank" rel="noopener">here</a>.<a href="https://meetingorganizer.coper
 nicus.org/EMS2021/session/41310" target="_blank" rel="noopener"> </a><br />
  </p>
DTSTAMP:20260420T094022Z
DTSTART;TZID=UTC;VALUE=DATE:20210903
DTEND;TZID=UTC;VALUE=DATE:20210911
SEQUENCE:0
TRANSP:OPAQUE
END:VEVENT
END:VCALENDAR