BEGIN:VCALENDAR
VERSION:2.0
PRODID:-//jEvents 2.0 for Joomla//EN
CALSCALE:GREGORIAN
METHOD:PUBLISH
BEGIN:VEVENT
UID:afc4c20d07ad9f69fadb9b5ba806e415
CATEGORIES:Polar Online Events
CREATED:20210412T153242
SUMMARY: IARPC Public Webinar Series: Introduction to the U.S. Arctic Observing Network (US AON)
LOCATION:Online
DESCRIPTION:On April 14, 11am AKT / 3pm ET, join the Interagency Arctic Research Policy
  Committee for a webinar and discussion to learn more about the U.S. Arctic
  Observing Network (US AON).\nThe US AON brings federal agencies, academic 
 researchers, and community partners to better coordinate U.S. observing sys
 tem efforts. This webinar will include information about the US AON's work,
  recent accomplishments, and how to get involved.\nMore information and Zoo
 m connection information is available at https://www.iarpccollaborations.or
 g/events/20505.\n
X-ALT-DESC;FMTTYPE=text/html:<p style="text-align: justify;">On <strong>April 14, 11am AKT / 3pm ET</str
 ong>, join the <strong>Interagency Arctic Research Policy Committee</strong
 > for a webinar and discussion to learn more about the <strong>U.S. Arctic 
 Observing Network (US AON)</strong>.</p><p style="text-align: justify;">The
  US AON brings federal agencies, academic researchers, and community partne
 rs to better coordinate U.S. observing system efforts. This webinar will in
 clude information about the US AON's work, recent accomplishments, and how 
 to get involved.</p><p style="text-align: justify;">More information and Zo
 om connection information is available at <a href="https://www.iarpccollabo
 rations.org/events/20505" target="_blank" rel="noopener">https://www.iarpcc
 ollaborations.org/events/20505</a>.</p>
DTSTAMP:20260420T093912Z
DTSTART;TZID=UTC;VALUE=DATE:20210414
DTEND;TZID=UTC;VALUE=DATE:20210415
SEQUENCE:0
TRANSP:OPAQUE
END:VEVENT
END:VCALENDAR