BEGIN:VCALENDAR
VERSION:2.0
PRODID:-//jEvents 2.0 for Joomla//EN
CALSCALE:GREGORIAN
METHOD:PUBLISH
BEGIN:VEVENT
UID:51f0dc03c7dfedeffac0743039238be1
CATEGORIES:Polar Online Events
CREATED:20210406T125412
SUMMARY:Webinar: Arctic Marine Operations and Shipping: Green Initiatives and Challenges
LOCATION:Online
DESCRIPTION:We invite you to attend a joint webinar, "Arctic Marine Operations and Ship
 ping: Green Initiatives and Challenges," organized by the Academia Europaea
  Bergen Knowledge Hub (AE-Bergen), Pacific Environment, University of Berge
 n, and Arctic Frontiers. The webinar will be held on the Arctic Frontiers d
 igital platform at 18:00-20:00 GMT+2 | 08:00-10:00 AKDT on 7 April 2021.\n"
 Major economies aim to be carbon neutral by 2050. Such an ambition implies 
 an almost full transition away from using fossil fuels to power the transpo
 rt sector, including maritime transport. How will the maritime Arctic be in
 fluenced by global responses to climate change? The webinar addresses marit
 ime transport in the Arctic and will provide insights into a complex set of
  issues: the Arctic's policy framework for marine safety and environmental 
 protection; indigenous and conservation perspectives; green ship technology
 ; marine infrastructure; and what measures are needed to make Arctic marine
  operations and shipping more sustainable."\nChair: \nJim Gamble, Arctic Pr
 ogramme Director, Pacific Environment\nModerator:\nEystein Jansen, Professo
 r, University of Bergen, the Bjerknes Centre for Climate Research and Acade
 mic Director, Academia Europaea Bergen Knowledge Hub\nKeynotes:\nLawson Bri
 gham, Wilson Fellow, Polar Institute of the Wilson Center\nMorten Mejlænder
 -Larsen, Director of Arctic Operations and Technology, DNV\nPanelists:\nHeg
 e Økland, CEO, Maritime CleanTech\nArild Moe, Senior Research Fellow, The F
 ridtjof Nansen Institute\nMellisa Johnson, Executive Director, Bering Sea E
 lders Group\nSian Prior, Lead Advisor, Clean Arctic Alliance\nFurther detai
 ls: https://www.uib.no/en/matnat/143812/arctic-marine-operations-and-shippi
 ng-green-initiatives-and-challenges\n
X-ALT-DESC;FMTTYPE=text/html:<p style="text-align: justify;">We invite you to attend a joint webinar, <s
 trong>"Arctic Marine Operations and Shipping: Green Initiatives and Challen
 ges</strong>," organized by the Academia Europaea Bergen Knowledge Hub (AE-
 Bergen), Pacific Environment, University of Bergen, and Arctic Frontiers. T
 he webinar will be held on the Arctic Frontiers digital platform at <strong
 >18:00-20:00 GMT+2 | 08:00-10:00 AKDT on 7 April 2021</strong>.</p><p style
 ="text-align: justify;">"Major economies aim to be carbon neutral by 2050. 
 Such an ambition implies an almost full transition away from using fossil f
 uels to power the transport sector, including maritime transport. How will 
 the maritime Arctic be influenced by global responses to climate change? Th
 e webinar addresses maritime transport in the Arctic and will provide insig
 hts into a complex set of issues: the Arctic's policy framework for marine 
 safety and environmental protection; indigenous and conservation perspectiv
 es; green ship technology; marine infrastructure; and what measures are nee
 ded to make Arctic marine operations and shipping more sustainable."</p><p 
 style="text-align: justify;">Chair:&nbsp;</p><p style="text-align: justify;
 "><strong>Jim Gamble</strong>, Arctic Programme Director, Pacific Environme
 nt</p><p style="text-align: justify;">Moderator:</p><p style="text-align: j
 ustify;"><strong>Eystein Jansen</strong>, Professor, University of Bergen, 
 the Bjerknes Centre for Climate Research and Academic Director, Academia Eu
 ropaea Bergen Knowledge Hub</p><p style="text-align: justify;">Keynotes:</p
 ><p style="text-align: justify;"><strong>Lawson Brigham</strong>, Wilson Fe
 llow, Polar Institute of the Wilson Center</p><p style="text-align: justify
 ;"><strong>Morten Mejlænder-Larsen</strong>, Director of Arctic Operations 
 and Technology, DNV</p><p style="text-align: justify;">Panelists:</p><p sty
 le="text-align: justify;"><strong>Hege Økland</strong>, CEO, Maritime Clean
 Tech</p><p style="text-align: justify;"><strong>Arild Moe</strong>, Senior 
 Research Fellow, The Fridtjof Nansen Institute</p><p style="text-align: jus
 tify;"><strong>Mellisa Johnson</strong>, Executive Director, Bering Sea Eld
 ers Group</p><p style="text-align: justify;"><strong>Sian Prior</strong>, L
 ead Advisor, Clean Arctic Alliance</p><p>Further details: <a href="https://
 www.uib.no/en/matnat/143812/arctic-marine-operations-and-shipping-green-ini
 tiatives-and-challenges" target="_blank" rel="noopener">https://www.uib.no/
 en/matnat/143812/arctic-marine-operations-and-shipping-green-initiatives-an
 d-challenges</a></p>
DTSTAMP:20260420T093701Z
DTSTART;TZID=UTC;VALUE=DATE:20210407
DTEND;TZID=UTC;VALUE=DATE:20210408
SEQUENCE:0
TRANSP:OPAQUE
END:VEVENT
END:VCALENDAR