BEGIN:VCALENDAR
VERSION:2.0
PRODID:-//jEvents 2.0 for Joomla//EN
CALSCALE:GREGORIAN
METHOD:PUBLISH
BEGIN:VEVENT
UID:f72d1838cca3b18bd90f368a632470b1
CATEGORIES:Polar Online Events
CREATED:20210406T122623
SUMMARY:International Glaciological Society Seminar Series #40
LOCATION:Online
DESCRIPTION:International Glaciological Society Global Seminar Series 2021 #40 - April 
 14th\nJoseph Graly, Northumbria University: "What do we know about subglaci
 al geochemistry?"\nYou need to register in advance for the seminars, but yo
 ur registration should last for several seminars. If it was a while ago tha
 t you registered - check your link still works and drop me an email if it d
 oesn't. There's a short question to answer - please tell me enough to accep
 t you! I'll be doing that manually, so just be kind and make it obvious (ev
 en if I met you once at AGU)… (something like: I'm a PhD student with X... 
 or whatever). Using your official university email address would make my li
 fe particularly easy! Register here: https://tinyurl.com/yyhbcqrq\nAfter re
 gistering, you will receive a confirmation email containing information abo
 ut joining the seminar. If you attended this week you use the same link nex
 t week and don't need to re-register.\n• April 21st Lauren Simkins, Univers
 ity of Virginia, "Landform evidence of persistent subglacial plumbing near 
 grounding lines"\n• April 28th Jan Lenaerts, University of Boulder at Color
 ado, “Scratching the ice sheet surface: surface processes from observations
  and numerical models\n• May 5th Three shorter talks:\n(Emma) Mickey MacKie
 , Stanford Radio Glaciology, "Simulating subglacial Greenland with geostati
 stics"\nEmma Pearce, University of Leeds, "Full Waveform Inversion for glac
 iological seismic data; Improving the seismic characterisation of glacier f
 irn"\nNico Stoll, Alfred Wegener institute Bremerhaven, "Impurities and def
 ormation in the EGRIP ice core"\n• May 12th Martin Schneebeli, WSL Institut
 e for Snow and Avalanche Research, Davos, "Seeing snow on sea ice during th
 e MOSAiC expedition"\n• May 19th Hilmar Gudmundsson, University of Northumb
 ria\n• May 26th Mark Carey, Oregon University, title tba\n• June 2nd Three 
 shorter talks:\nDenis Felikson, NASA Goddard Space Flight Center &amp; USRA
 /GESTAR, Title tba\nThomas Hudson, University of Oxford, "Breaking the ice:
  Using icequakes to observe hydrofracture-induced crevassing"\nRajashree (T
 ri) Datta, University of Colorado, Boulder, Title tba\n• June 9th Robin Bel
 l, Columbia University, New York, Title tba\n• June 16th Miriam Jackson, IC
 IMOD, Title tba\n• June 23rd Kira Olsen, NASA, Title tba\n• June 30th Julie
 n Chaput, University of Texas at El Paso, "Singing snow: How Antarctic firn
  traps seismic waves and reveals dynamic environmental forcing"\nSpaces for
  talks in late June, early July and August.\n• July 21st Three shorter talk
 s:\nJohn Christian, UT Austin, "Outlet glacier variability near instabiliti
 es"\nThomas Chen, Academy for Mathematics, Science, and Engineering, "The R
 ole of Machine Learning in Glacial Assessment"\nEric Petersen, Geophysical 
 Institute, University of Alaska Fairbanks, title tba\n• August 4th Three sh
 orter talks: if you'd like a slot then please let let me know\nThen we will
  have a holiday!\nSeminar times:\nLondon - 9pm\nEurope - 10pm\nEast Coast U
 S - 4pm\nWest Coast US - 1pm\nDelhi (+1) - 2.30am (sorry!)\nTokyo (+1) - 6a
 m\nSydney (+1) - 8am\nNew Zealand (+1) - 10am\nThe seminar will also be rec
 orded and posted to the Friends of the International Glaciological Society 
 Facebook page after the seminar so that you can watch it afterwards if tech
 nology fails or you can't make it! Hope to see you there!\n
X-ALT-DESC;FMTTYPE=text/html:<p style="text-align: justify;"><strong>International Glaciological Society
  Global Seminar Series 2021 #40 - April 14th</strong></p><p style="text-ali
 gn: justify;"><strong>Joseph Graly, Northumbria University: "What do we kno
 w about subglacial geochemistry?"</strong></p><p style="text-align: justify
 ;">You need to register in advance for the seminars, but your registration 
 should last for several seminars. If it was a while ago that you registered
  - check your link still works and drop me an email if it doesn't. There's 
 a short question to answer - please tell me enough to accept you! I'll be d
 oing that manually, so just be kind and make it obvious (even if I met you 
 once at AGU)… (something like: I'm a PhD student with X... or whatever). Us
 ing your official university email address would make my life particularly 
 easy! Register here: <a href="https://tinyurl.com/yyhbcqrq" target="_blank"
  rel="noopener">https://tinyurl.com/yyhbcqrq</a></p><p style="text-align: j
 ustify;">After registering, you will receive a confirmation email containin
 g information about joining the seminar. If you attended this week you use 
 the same link next week and don't need to re-register.</p><p style="text-al
 ign: justify;">• April 21st Lauren Simkins, University of Virginia, "Landfo
 rm evidence of persistent subglacial plumbing near grounding lines"<br />• 
 April 28th Jan Lenaerts, University of Boulder at Colorado, “Scratching the
  ice sheet surface: surface processes from observations and numerical model
 s<br />• May 5th Three shorter talks:<br />(Emma) Mickey MacKie, Stanford R
 adio Glaciology, "Simulating subglacial Greenland with geostatistics"<br />
 Emma Pearce, University of Leeds, "Full Waveform Inversion for glaciologica
 l seismic data; Improving the seismic characterisation of glacier firn"<br 
 />Nico Stoll, Alfred Wegener institute Bremerhaven, "Impurities and deforma
 tion in the EGRIP ice core"<br />• May 12th Martin Schneebeli, WSL Institut
 e for Snow and Avalanche Research, Davos, "Seeing snow on sea ice during th
 e MOSAiC expedition"<br />• May 19th Hilmar Gudmundsson, University of Nort
 humbria<br />• May 26th Mark Carey, Oregon University, title tba<br />• Jun
 e 2nd Three shorter talks:<br />Denis Felikson, NASA Goddard Space Flight C
 enter &amp; USRA/GESTAR, Title tba<br />Thomas Hudson, University of Oxford
 , "Breaking the ice: Using icequakes to observe hydrofracture-induced creva
 ssing"<br />Rajashree (Tri) Datta, University of Colorado, Boulder, Title t
 ba<br />• June 9th Robin Bell, Columbia University, New York, Title tba<br 
 />• June 16th Miriam Jackson, ICIMOD, Title tba<br />• June 23rd Kira Olsen
 , NASA, Title tba<br />• June 30th Julien Chaput, University of Texas at El
  Paso, "Singing snow: How Antarctic firn traps seismic waves and reveals dy
 namic environmental forcing"<br />Spaces for talks in late June, early July
  and August.<br />• July 21st Three shorter talks:<br />John Christian, UT 
 Austin, "Outlet glacier variability near instabilities"<br />Thomas Chen, A
 cademy for Mathematics, Science, and Engineering, "The Role of Machine Lear
 ning in Glacial Assessment"<br />Eric Petersen, Geophysical Institute, Univ
 ersity of Alaska Fairbanks, title tba<br />• August 4th Three shorter talks
 : if you'd like a slot then please let let me know<br />Then we will have a
  holiday!</p><p style="text-align: justify;">Seminar times:<br />London - 9
 pm<br />Europe - 10pm<br />East Coast US - 4pm<br />West Coast US - 1pm<br 
 />Delhi (+1) - 2.30am (sorry!)<br />Tokyo (+1) - 6am<br />Sydney (+1) - 8am
 <br />New Zealand (+1) - 10am</p><p style="text-align: justify;">The semina
 r will also be recorded and posted to the Friends of the International Glac
 iological Society Facebook page after the seminar so that you can watch it 
 afterwards if technology fails or you can't make it! Hope to see you there!
 </p>
DTSTAMP:20260420T131124Z
DTSTART;TZID=UTC;VALUE=DATE:20210414
DTEND;TZID=UTC;VALUE=DATE:20210415
SEQUENCE:0
TRANSP:OPAQUE
END:VEVENT
END:VCALENDAR