BEGIN:VCALENDAR
VERSION:2.0
PRODID:-//jEvents 2.0 for Joomla//EN
CALSCALE:GREGORIAN
METHOD:PUBLISH
BEGIN:VEVENT
UID:987b80f96163c7ba32a013f0b9f6e580
CATEGORIES:Polar Online Events
CREATED:20210324T084527
SUMMARY:YEAH (Youth Environmental Alliance in Higher Education) Youth Conference
LOCATION:Online
DESCRIPTION:YEAH (Youth Environmental Alliance in Higher Education) Youth Conference, t
 he third Global Virtual Conference hosted by the YEAH -- Youth Environmenta
 l Alliance in Higher Education Network and the University of Derby on April
  21, 2021 from 12 to 4pm MOUNTAIN TIME. We are seeking submissions centered
  around the 17 Sustainable Development Goals, as well as conservation, sust
 ainability, parks and protected areas, urban ecology, social sciences, etc.
 \nConference registration form: Virtual Conference Registration form (https
 ://docs.google.com/forms/d/e/1FAIpQLScUg0Mu2kK30THg8q02CYdgLYfbro-cubz869Ds
 m5UaykkJeA/viewform)\n<a href="https://docs.google.com/forms/d/e/1FAIpQLScA
 DFmGQQJVbWB16OWDNN6w-f-9u5-wO9c6h4OOCsyLnjLv-Q/viewform" target="_blank" re
 l="noopener">Abstract form</a> (deadline March 26nd)\nVisit our website for
  more information: https://yeah-net.org/\n
X-ALT-DESC;FMTTYPE=text/html:<p style="text-align: justify;"><strong>YEAH (Youth Environmental Alliance 
 in Higher Education) Youth Conference</strong>, the third Global Virtual Co
 nference hosted by the YEAH -- Youth Environmental Alliance in Higher Educa
 tion Network and the University of Derby on <strong>April 21, 2021</strong>
  from 12 to 4pm MOUNTAIN TIME. We are seeking submissions centered around t
 he 17 Sustainable Development Goals, as well as conservation, sustainabilit
 y, parks and protected areas, urban ecology, social sciences, etc.</p><p st
 yle="text-align: justify;">Conference registration form:&nbsp;<a href="http
 s://docs.google.com/forms/d/e/1FAIpQLScUg0Mu2kK30THg8q02CYdgLYfbro-cubz869D
 sm5UaykkJeA/viewform" target="_blank" rel="noopener">Virtual Conference Reg
 istration form</a></p><p style="text-align: justify;"><a href="https://docs
 .google.com/forms/d/e/1FAIpQLScADFmGQQJVbWB16OWDNN6w-f-9u5-wO9c6h4OOCsyLnjL
 v-Q/viewform" target="_blank" rel="noopener">Abstract form</a> (<strong>dea
 dline March 26nd</strong>)</p><p style="text-align: justify;">Visit our web
 site for more information: <a href="https://yeah-net.org/" target="_blank" 
 rel="noopener">https://yeah-net.org/</a></p>
DTSTAMP:20260420T071430Z
DTSTART;TZID=UTC;VALUE=DATE:20210421
DTEND;TZID=UTC;VALUE=DATE:20210422
SEQUENCE:0
TRANSP:OPAQUE
END:VEVENT
END:VCALENDAR