BEGIN:VCALENDAR
VERSION:2.0
PRODID:-//jEvents 2.0 for Joomla//EN
CALSCALE:GREGORIAN
METHOD:PUBLISH
BEGIN:VEVENT
UID:f16339bac9f7e7aaf2719d4ba80ba051
CATEGORIES:Polar Online Events
CREATED:20210322T101003
SUMMARY:IARPC Arctic Research Plan Draft - Webinar 3
LOCATION:Online
DESCRIPTION:The Interagency Arctic Research Policy Committee (IARPC) has released a dra
 ft (https://www.iarpccollaborations.org/draft-plan.html) of the next five-y
 ear Arctic Research Plan, which will span from 2022-2026. IARPC is now aski
 ng the public to comment on the draft plan by June 11, 2021. To provide add
 itional information about the draft plan contents and development, IARPC is
  hosting a series of one-hour information sessions.\n \n Each information s
 ession will provide an overview of IARPC, the timeline for developing the A
 rctic Research Plan 2022-2026, the contents of the draft plan, and how to s
 ubmit comments on the draft.\n \n In addition to this information, each web
 inar will provide a deeper dive into one of the plan priority areas or the 
 foundational activities. We will also host a teleconference-only informatio
 n session for individuals who cannot access webinars due to lower internet 
 bandwidth. Please note that these are informational sessions only; official
  comments must be submitted separately.\nWebinar 3: Focus on Priority Area 
 2 (Arctic Systems Interactions)\nApril 19, 10am AKT/2pm ET\nZoom link: <a h
 ref="https://iarpc.zoom.us/j/87630363628" target="_blank" rel="noopener">ht
 tps://iarpc.zoom.us/j/87630363628</a>\nMeeting ID: 876 3036 3628\nPhone: +1
  (669) 900 6833 US\nFind your local number: https://iarpc.zoom.us/u/kcAkuej
 ouO\n \nNext webinars:\nWebinar 4: Focus on Priority Area 4 (Risk Managemen
 t &amp; Hazard Mitigation)\nMay 17, 10am AKT/2pm ET
X-ALT-DESC;FMTTYPE=text/html:<p style="text-align: justify;"><strong>The Interagency Arctic Research Pol
 icy Committee (IARPC)&nbsp;</strong>has <a href="https://www.iarpccollabora
 tions.org/draft-plan.html" target="_blank" rel="noopener">released a draft<
 /a>&nbsp;of the next five-year Arctic Research Plan, which will span from 2
 022-2026. IARPC is now <strong>asking the public to comment on the draft pl
 an by June 11, 2021.</strong> To provide additional information about the d
 raft plan contents and development, IARPC is hosting a series of one-hour i
 nformation sessions.<br /> <br /> Each information session will provide an 
 overview of&nbsp;IARPC, the timeline for developing the Arctic Research Pla
 n 2022-2026, the contents of the draft plan, and how to submit comments on 
 the draft.<br /> <br /> In addition to this information, each webinar will 
 provide a deeper dive into one of the plan priority areas or the foundation
 al activities. We will also host a teleconference-only information session 
 for individuals who cannot access webinars due to lower internet bandwidth.
  Please note that these are informational sessions only; official comments 
 must be&nbsp;submitted separately.</p><p style="text-align: justify;"><stro
 ng>Webinar 3: Focus on Priority Area 2 (Arctic Systems Interactions)</stron
 g><br /><strong>April 19, 10am AKT/2pm ET</strong><br />Zoom link: <a href=
 "https://iarpc.zoom.us/j/87630363628" target="_blank" rel="noopener">https:
 //iarpc.zoom.us/j/87630363628</a><br />Meeting ID: 876 3036 3628<br />Phone
 : +1 (669) 900 6833 US<br />Find your local number: <a href="https://iarpc.
 zoom.us/u/kcAkuejouO" target="_blank" rel="noopener">https://iarpc.zoom.us/
 u/kcAkuejouO</a></p><p style="text-align: justify;"><strong>&nbsp;</strong>
 </p><p style="text-align: justify;">Next webinars:</p><ul><li style="text-a
 lign: justify;"><strong>Webinar 4:</strong> Focus on Priority Area 4 (Risk 
 Management &amp; Hazard Mitigation)<br />May 17, 10am AKT/2pm ET</li></ul>
DTSTAMP:20260422T160138Z
DTSTART;TZID=UTC;VALUE=DATE:20210419
DTEND;TZID=UTC;VALUE=DATE:20210420
SEQUENCE:0
TRANSP:OPAQUE
END:VEVENT
END:VCALENDAR