BEGIN:VCALENDAR
VERSION:2.0
PRODID:-//jEvents 2.0 for Joomla//EN
CALSCALE:GREGORIAN
METHOD:PUBLISH
BEGIN:VEVENT
UID:4852cc84cc5771b400f8ec3a3f5eaa90
CATEGORIES:Polar Online Events
CREATED:20210317T081935
SUMMARY:Workshop Converging Science, Art, and Indigenous Knowledge Systems for Understanding  Change and Sustainability in the Arctic
LOCATION:Online
DESCRIPTION:20 March 2021 - 15:30-18:30 (GMT)\nParticipants have to register at https:/
 /assw2021.pt/\nThe workshop is organized with support of the International 
 Arctic Science Committee (IASC) and is the first step to prepare for the in
 -person meeting at the ASSW 2022 that will be held in Tromsø, Norway on 26 
 - 31 March 2022.\n \n Through this intercultural and interdisciplinary coll
 aboration, we want to draw attention to local and Indigenous knowledge and 
 arts as important components of transdisciplinary scientific research. Thro
 ugh such collaboration and hands-on experience exchange, we want to enhance
  our understanding of sustainability in the Arctic and transformations that
  are taking place in diverse areas of life of the Arctic residents.\n \n Th
 is workshop is planned in the form of a virtual talking circle combined wit
 h a visioning session where the speakers will share their visions of existi
 ng and possible collaboration at the intersection of arts, science, local a
 nd Indigenous knowledge systems.\n \n List of speakers:\n Amanda Boetzkes (
 University of Guelph, Canada)\n Tatiana Degai*&gt; (UNI, USA and Council of
  Itelmens of Kamchatka\n ‘Tkhsanom’, Russia)\n Jeff Diamanti*  (Amsterdam U
 niversity, Netherlands)\n Anna Hoover*&gt; (Native Artist, Alaska, USA)\n О
 lga Kisseleva (Université de Paris 1 Panthéon-Sorbonne, France)\n Stanislav
  Ksenofontov*&gt; (University of Northern Iowa, USA)\n Vera Kuklina &gt; (G
 WU, USA)\n Maria Osipova*&gt; (AGIKI, Yakutsk, Russia)\n Andrey Petrov (UNI
 , USA)\n Peter Schweitzer, (University of Vienna, Austria)\n Laura Siragusa
  (University of Helsinki, Finland)\n Olga Zaslavskaya (independent curator,
  Russia)\n Stanislav Podusenko (Cluster - Virtual Laboratory of Contemporar
 y Art, Russia)\n \n * - Early career scholars,\n &gt; -  Indigenous scholar
 s/community members\n
X-ALT-DESC;FMTTYPE=text/html:<p style="text-align: justify;"><strong>20 March 2021 - 15:30-18:30 (GMT)</
 strong></p><p style="text-align: justify;"><strong>Participants have to reg
 ister at <a href="https://assw2021.pt/" target="_blank" rel="noopener">http
 s://assw2021.pt/</a></strong></p><p style="text-align: justify;">The worksh
 op is organized with support of the International Arctic Science Committee 
 (IASC) and is the first step to prepare for the in-person meeting at the AS
 SW 2022 that will be held in Tromsø, <span style="text-decoration: underlin
 e;">Norway on 26 - 31 March 2022.</span><br /> <br /> Through this intercul
 tural and interdisciplinary collaboration, we want to draw attention to loc
 al and Indigenous knowledge and arts as important components of transdiscip
 linary scientific research. Through such collaboration and hands-on experie
 nce exchange, we want to enhance our understanding of sustainability in the
  Arctic and transformations that are taking place in diverse areas of life 
 of the Arctic residents.<br /> <br /> This workshop is planned in the form 
 of a virtual talking circle combined with a visioning session where the spe
 akers will share their visions of existing and possible collaboration at th
 e intersection of arts, science, local and Indigenous knowledge systems.<br
  /> <br /> <span style="text-decoration: underline;">List of speakers:</spa
 n><br /> Amanda Boetzkes (University of Guelph, Canada)<br /> Tatiana Degai
 *&gt; (UNI, USA and Council of Itelmens of Kamchatka<br /> ‘Tkhsanom’, Russ
 ia)<br /> Jeff Diamanti*&nbsp; (Amsterdam University, Netherlands)<br /> An
 na Hoover*&gt; (Native Artist, Alaska, USA)<br /> Оlga Kisseleva (Universit
 é de Paris 1 Panthéon-Sorbonne, France)<br /> Stanislav Ksenofontov*&gt; (U
 niversity of Northern Iowa, USA)<br /> Vera Kuklina &gt; (GWU, USA)<br /> M
 aria Osipova*&gt; (AGIKI, Yakutsk, Russia)<br /> Andrey Petrov (UNI, USA)<b
 r /> Peter Schweitzer, (University of Vienna, Austria)<br /> Laura Siragusa
  (University of Helsinki, Finland)<br /> Olga Zaslavskaya (independent cura
 tor, Russia)<br /> Stanislav Podusenko (Cluster - Virtual Laboratory of Con
 temporary Art, Russia)<br /> <br /> * - Early career scholars,<br /> &gt; -
 &nbsp; Indigenous scholars/community members</p>
DTSTAMP:20260421T051900Z
DTSTART;TZID=UTC;VALUE=DATE:20210320
DTEND;TZID=UTC;VALUE=DATE:20210321
SEQUENCE:0
TRANSP:OPAQUE
END:VEVENT
END:VCALENDAR