BEGIN:VCALENDAR
VERSION:2.0
PRODID:-//jEvents 2.0 for Joomla//EN
CALSCALE:GREGORIAN
METHOD:PUBLISH
BEGIN:VEVENT
UID:d9df0749cbdbfe1573d4cfc332d6cbe7
CATEGORIES:Polar Conferences, Meetings and Events
CREATED:20210316T102248
SUMMARY:14th International Conference on Paleoceanography (ICP14) in Bergen, Norway
LOCATION:Bergen\, Norway
DESCRIPTION:We are excited to announce that registration and abstract submission for th
 e 14th International Conference on Paleoceanography (ICP14) are now open! P
 lease visit the ICP14 homepage (https://icp14.w.uib.no/) for registration a
 nd lots more information about the conference.\n \nWe are fine-tuning the s
 cientific program and speaker schedule for ICP14 in Bergen. While we are do
 ing that, we wanted to remind everyone about upcoming deadlines and also gu
 ide you to the latest information on travel regulations when coming into No
 rway. Several travel restrictions have been lifted recently.\nDeadlines\nWe
  are just one month away from the <a href="https://icp14.w.uib.no/on-line-r
 egistration/" target="_blank" rel="noopener" data-saferedirecturl="https://
 www.google.com/url?q=https://icp14.w.uib.no/on-line-registration/&amp;sourc
 e=gmail&amp;ust=1643711952949000&amp;usg=AOvVaw1RRNzHUlclw3nLevJH5pwv">Earl
 y Bird registration</a> and Travel and (https://icp14.w.uib.no/travel-and-v
 irtual-participation-grants/)<a href="https://icp14.w.uib.no/travel-and-vir
 tual-participation-grants/" target="_blank" rel="noopener" data-saferedirec
 turl="https://www.google.com/url?q=https://icp14.w.uib.no/travel-and-virtua
 l-participation-grants/&amp;source=gmail&amp;ust=1643711952949000&amp;usg=A
 OvVaw3MNdhLA2jiL3YgC-h0HBn8"> Virtual Participation Grant applications</a>,
  which both close on 28 February.\nAbstract submission still closes on 3 Ap
 ril, and Full registration for presenters on 20 April.\nUpdate on covid-19 
 and travelling to Norway: We still aim to hold a physical meeting in Bergen
 . The covid-19 situation remains uncertain, but Norway has recently updated
  the quarantine requirement for travellers and made it easier for you to tr
 avel here. More info and links to the official up-to-date governmental regu
 lations and recommendations is on our website Travel Information (https://i
 cp14.w.uib.no/about-icp14/travel-information/). Please check these pages fo
 r the latest info.\nIn order to minimize carbon footprints, we encourage th
 e organization of pre- or post conference workshops and meetings. Please co
 ntact This email address is being protected from spambots. You need JavaScr
 ipt enabled to view it.
				document.getElementById('cloak13f272cd73f8670aa
 dc3e756a2fa735e').innerHTML = '';
				var prefix = '&#109;a' + 'i&#108;' + 
 '&#116;o';
				var path = 'hr' + 'ef' + '=';
				var addy13f272cd73f8670aad
 c3e756a2fa735e = 's&#101;c.&#105;cp14' + '&#64;';
				addy13f272cd73f8670aa
 dc3e756a2fa735e = addy13f272cd73f8670aadc3e756a2fa735e + '&#117;&#105;b' + 
 '&#46;' + 'n&#111;';
				var addy_text13f272cd73f8670aadc3e756a2fa735e = 's
 &#101;c.&#105;cp14' + '&#64;' + '&#117;&#105;b' + '&#46;' + 'n&#111;';docum
 ent.getElementById('cloak13f272cd73f8670aadc3e756a2fa735e').innerHTML += '<
 a ' + path + '\'' + prefix + ':' + addy13f272cd73f8670aadc3e756a2fa735e + '
 \'>'+addy_text13f272cd73f8670aadc3e756a2fa735e+'';
		 with the Subject “Wor
 kshops” if you plan such an event.\n\n \n For the musicians among you, plea
 se sign up in the registration form to join the stage at the Paleomusicolog
 y concert.\n \n And finally, following tradition we are looking for hosts f
 or ICP15, so please get in touch with us at This email address is being pro
 tected from spambots. You need JavaScript enabled to view it.
				document.
 getElementById('cloak5b98c303f40ab00bbc710b03ce2d77d9').innerHTML = '';
			
 	var prefix = '&#109;a' + 'i&#108;' + '&#116;o';
				var path = 'hr' + 'ef'
  + '=';
				var addy5b98c303f40ab00bbc710b03ce2d77d9 = 's&#101;c.&#105;cp14
 ' + '&#64;';
				addy5b98c303f40ab00bbc710b03ce2d77d9 = addy5b98c303f40ab00
 bbc710b03ce2d77d9 + '&#117;&#105;b' + '&#46;' + 'n&#111;';
				var addy_tex
 t5b98c303f40ab00bbc710b03ce2d77d9 = 's&#101;c.&#105;cp14[&#97;t]&#117;&#105
 ;b.n&#111;';document.getElementById('cloak5b98c303f40ab00bbc710b03ce2d77d9'
 ).innerHTML += '<a ' + path + '\'' + prefix + ':' + addy5b98c303f40ab00bbc7
 10b03ce2d77d9 + '\'>'+addy_text5b98c303f40ab00bbc710b03ce2d77d9+'';
		 if y
 ou are interested in giving a pitch for hosting ICP in 2025.\n \n Best rega
 rds,\n The ICP14 local organizing committee\n \n \n 14th International Conf
 erence on Paleoceanography\n 29 Aug-2 Sept 2022, Bergen, Norway\n <a href="
 https://icp14.w.uib.no/" target="_blank" rel="noopener">https://icp14.w.uib
 .no/</a>\n Inquiries:  (mailto:info.icp14@uib.no)This email address is bein
 g protected from spambots. You need JavaScript enabled to view it.
				docu
 ment.getElementById('cloak9d521ed36901277ce632e14d64b4f3dc').innerHTML = ''
 ;
				var prefix = '&#109;a' + 'i&#108;' + '&#116;o';
				var path = 'hr' +
  'ef' + '=';
				var addy9d521ed36901277ce632e14d64b4f3dc = '&#105;nf&#111;
 .&#105;cp14' + '&#64;';
				addy9d521ed36901277ce632e14d64b4f3dc = addy9d52
 1ed36901277ce632e14d64b4f3dc + '&#117;&#105;b' + '&#46;' + 'n&#111;';
				v
 ar addy_text9d521ed36901277ce632e14d64b4f3dc = '&#105;nf&#111;.&#105;cp14' 
 + '&#64;' + '&#117;&#105;b' + '&#46;' + 'n&#111;';document.getElementById('
 cloak9d521ed36901277ce632e14d64b4f3dc').innerHTML += '<a ' + path + '\'' + 
 prefix + ':' + addy9d521ed36901277ce632e14d64b4f3dc + '\'>'+addy_text9d521e
 d36901277ce632e14d64b4f3dc+'';
		\n\n
X-ALT-DESC;FMTTYPE=text/html:<p style="text-align: justify;">We are excited to announce that registratio
 n and abstract submission for the <strong>14th International Conference on 
 Paleoceanography (ICP14)</strong> are now open! Please visit the <a href="h
 ttps://icp14.w.uib.no/" target="_blank" rel="noopener">ICP14 homepage</a> f
 or registration and lots more information about the conference.<br /> <br /
 >We are <span lang="EN-GB">fine-tuning th</span>e scientific program and sp
 eaker schedule<span lang="EN-GB"> for ICP14 in Bergen. While we are doing t
 hat, </span>we wanted to remind everyone about upcoming deadlines and also 
 guide you to <span lang="EN-GB">the latest information on </span>travel reg
 ulations when coming into Norway.<span lang="EN-GB"> Several travel restric
 tions have been lifted recently.</span></p><p><strong>Deadlines</strong></p
 ><p>We are just one month away from the&nbsp;<strong><a href="https://icp14
 .w.uib.no/on-line-registration/" target="_blank" rel="noopener" data-safere
 directurl="https://www.google.com/url?q=https://icp14.w.uib.no/on-line-regi
 stration/&amp;source=gmail&amp;ust=1643711952949000&amp;usg=AOvVaw1RRNzHUlc
 lw3nLevJH5pwv">Early Bird registration</a>&nbsp;</strong>and&nbsp;<a href="
 https://icp14.w.uib.no/travel-and-virtual-participation-grants/" data-safer
 edirecturl="https://www.google.com/url?q=https://icp14.w.uib.no/travel-and-
 virtual-participation-grants/&amp;source=gmail&amp;ust=1643711952949000&amp
 ;usg=AOvVaw3MNdhLA2jiL3YgC-h0HBn8"><strong>Travel and</strong></a><a href="
 https://icp14.w.uib.no/travel-and-virtual-participation-grants/" target="_b
 lank" rel="noopener" data-saferedirecturl="https://www.google.com/url?q=htt
 ps://icp14.w.uib.no/travel-and-virtual-participation-grants/&amp;source=gma
 il&amp;ust=1643711952949000&amp;usg=AOvVaw3MNdhLA2jiL3YgC-h0HBn8"> Virtual 
 Participation Grant applications</a>, which both close on<strong>&nbsp;28 F
 ebruary</strong>.<br />Abstract submission still closes on 3 April, and Ful
 l registration for presenters on 20 April.</p><p><strong>Update on covid-19
  and travelling to Norway: </strong>We still aim to hold a physical meeting
  in Bergen. The covid-19 situation remains uncertain, but Norway has recent
 ly updated the quarantine requirement for travellers and made it easier for
  you to travel here. More info and links to the official up-to-date governm
 ental regulations and recommendations is on our website <a href="https://ic
 p14.w.uib.no/about-icp14/travel-information/" target="_blank" rel="noopener
 " data-saferedirecturl="https://www.google.com/url?q=https://icp14.w.uib.no
 /about-icp14/travel-information/&amp;source=gmail&amp;ust=1643711952949000&
 amp;usg=AOvVaw0TCDFYYTmCLtsuwPL6wqRQ">Travel Information</a>. Please check 
 these pages for the latest info.</p><p style="text-align: justify;">In orde
 r to minimize carbon footprints, we encourage the organization of pre- or p
 ost conference&nbsp;workshops&nbsp;and&nbsp;meetings. Please&nbsp;contact&n
 bsp;<span id="cloak13f272cd73f8670aadc3e756a2fa735e">This email address is 
 being protected from spambots. You need JavaScript enabled to view it.</spa
 n><script type='text/javascript'>
				document.getElementById('cloak13f272c
 d73f8670aadc3e756a2fa735e').innerHTML = '';
				var prefix = '&#109;a' + 'i
 &#108;' + '&#116;o';
				var path = 'hr' + 'ef' + '=';
				var addy13f272cd
 73f8670aadc3e756a2fa735e = 's&#101;c.&#105;cp14' + '&#64;';
				addy13f272c
 d73f8670aadc3e756a2fa735e = addy13f272cd73f8670aadc3e756a2fa735e + '&#117;&
 #105;b' + '&#46;' + 'n&#111;';
				var addy_text13f272cd73f8670aadc3e756a2f
 a735e = 's&#101;c.&#105;cp14' + '&#64;' + '&#117;&#105;b' + '&#46;' + 'n&#1
 11;';document.getElementById('cloak13f272cd73f8670aadc3e756a2fa735e').inner
 HTML += '<a ' + path + '\'' + prefix + ':' + addy13f272cd73f8670aadc3e756a2
 fa735e + '\'>'+addy_text13f272cd73f8670aadc3e756a2fa735e+'<\/a>';
		</scrip
 t>&nbsp;with&nbsp;the&nbsp;Subject “Workshops”&nbsp;if you plan such an eve
 nt.</p><p style="text-align: justify;"><br /> <br /> For the musicians amon
 g you, please sign up in the registration form to join the stage at the Pal
 eomusicology concert.<br /> <br /> And finally, following tradition we are 
 looking for hosts for ICP15, so please get in touch with us at <span id="cl
 oak5b98c303f40ab00bbc710b03ce2d77d9">This email address is being protected 
 from spambots. You need JavaScript enabled to view it.</span><script type='
 text/javascript'>
				document.getElementById('cloak5b98c303f40ab00bbc710b0
 3ce2d77d9').innerHTML = '';
				var prefix = '&#109;a' + 'i&#108;' + '&#116
 ;o';
				var path = 'hr' + 'ef' + '=';
				var addy5b98c303f40ab00bbc710b03
 ce2d77d9 = 's&#101;c.&#105;cp14' + '&#64;';
				addy5b98c303f40ab00bbc710b0
 3ce2d77d9 = addy5b98c303f40ab00bbc710b03ce2d77d9 + '&#117;&#105;b' + '&#46;
 ' + 'n&#111;';
				var addy_text5b98c303f40ab00bbc710b03ce2d77d9 = 's&#101;
 c.&#105;cp14[&#97;t]&#117;&#105;b.n&#111;';document.getElementById('cloak5b
 98c303f40ab00bbc710b03ce2d77d9').innerHTML += '<a ' + path + '\'' + prefix 
 + ':' + addy5b98c303f40ab00bbc710b03ce2d77d9 + '\'>'+addy_text5b98c303f40ab
 00bbc710b03ce2d77d9+'<\/a>';
		</script> if you are interested in giving a 
 pitch for hosting ICP in 2025.<br /> <br /> Best regards,<br /> The ICP14 l
 ocal organizing committee<br /> <br /> <br /> 14th International Conference
  on Paleoceanography<br /> 29 Aug-2 Sept 2022, Bergen, Norway<br /> <a href
 ="https://icp14.w.uib.no/" target="_blank" rel="noopener">https://icp14.w.u
 ib.no/</a><br /> Inquiries: <a href="mailto:info.icp14@uib.no" target="_bla
 nk"></a><span id="cloak9d521ed36901277ce632e14d64b4f3dc">This email address
  is being protected from spambots. You need JavaScript enabled to view it.<
 /span><script type='text/javascript'>
				document.getElementById('cloak9d5
 21ed36901277ce632e14d64b4f3dc').innerHTML = '';
				var prefix = '&#109;a' 
 + 'i&#108;' + '&#116;o';
				var path = 'hr' + 'ef' + '=';
				var addy9d52
 1ed36901277ce632e14d64b4f3dc = '&#105;nf&#111;.&#105;cp14' + '&#64;';
				a
 ddy9d521ed36901277ce632e14d64b4f3dc = addy9d521ed36901277ce632e14d64b4f3dc 
 + '&#117;&#105;b' + '&#46;' + 'n&#111;';
				var addy_text9d521ed36901277ce
 632e14d64b4f3dc = '&#105;nf&#111;.&#105;cp14' + '&#64;' + '&#117;&#105;b' +
  '&#46;' + 'n&#111;';document.getElementById('cloak9d521ed36901277ce632e14d
 64b4f3dc').innerHTML += '<a ' + path + '\'' + prefix + ':' + addy9d521ed369
 01277ce632e14d64b4f3dc + '\'>'+addy_text9d521ed36901277ce632e14d64b4f3dc+'<
 \/a>';
		</script><span style="color: #888888;"><br /></span></p>
DTSTAMP:20260419T151633Z
DTSTART;TZID=UTC;VALUE=DATE:20220829
DTEND;TZID=UTC;VALUE=DATE:20220903
SEQUENCE:0
TRANSP:OPAQUE
END:VEVENT
END:VCALENDAR