BEGIN:VCALENDAR
VERSION:2.0
PRODID:-//jEvents 2.0 for Joomla//EN
CALSCALE:GREGORIAN
METHOD:PUBLISH
BEGIN:VEVENT
UID:2f87d1b3e0412522131b846bac8ae767
CATEGORIES:Polar Conferences, Meetings and Events
CREATED:20161111T221916
SUMMARY:74nd Eastern Snow Conference
LOCATION:Ottawa\, Canada
DESCRIPTION:<p>The <strong>74nd Eastern Snow Conference (ESC)</strong> will be held at 
 University of <strong>Ottawa, Ottawa, Canada, 6-8 June, 2017</strong>. The 
 scientific program is open to sessions on theoretical, experimental, and op
 erational studies of snow, ice, and winter hydrology. This year’s general t
 heme is “REMOTE SENSING OF THE CRYOSPHERE”.</p><p>The ESC has only plenary 
 (paper and poster viewing) sessions, allowing time to view and discuss the 
 research of each participant. You are invited to submit an abstract for an 
 oral or a poster presentation. An abstract of 200-250 words should be submi
 tted by email, by March 10, 2017 to the program chair Alexandre Roy (<span 
 id="cloak3318bb6a036d79f32634c9c39381114c">This email address is being prot
 ected from spambots. You need JavaScript enabled to view it.</span><script 
 type='text/javascript'>
				document.getElementById('cloak3318bb6a036d79f32
 634c9c39381114c').innerHTML = '';
				var prefix = '&#109;a' + 'i&#108;' + 
 '&#116;o';
				var path = 'hr' + 'ef' + '=';
				var addy3318bb6a036d79f326
 34c9c39381114c = 'Al&#101;x&#97;ndr&#101;.R&#111;y.1' + '&#64;';
				addy33
 18bb6a036d79f32634c9c39381114c = addy3318bb6a036d79f32634c9c39381114c + 'UM
 &#111;ntr&#101;&#97;l' + '&#46;' + 'c&#97;';
				var addy_text3318bb6a036d7
 9f32634c9c39381114c = 'Al&#101;x&#97;ndr&#101;.R&#111;y.1' + '&#64;' + 'UM&
 #111;ntr&#101;&#97;l' + '&#46;' + 'c&#97;';document.getElementById('cloak33
 18bb6a036d79f32634c9c39381114c').innerHTML += '<a ' + path + '\'' + prefix 
 + ':' + addy3318bb6a036d79f32634c9c39381114c + '\'>'+addy_text3318bb6a036d7
 9f32634c9c39381114c+'<\/a>';
		</script>).</p><p>Registration information w
 ill soon be available on the ESC web site: <a href="http://www.easternsnow.
 org">http://www.easternsnow.org.</a></p>
DTSTAMP:20260423T034128Z
DTSTART;TZID=UTC;VALUE=DATE:20170606
DTEND;TZID=UTC;VALUE=DATE:20170609
SEQUENCE:0
TRANSP:OPAQUE
END:VEVENT
END:VCALENDAR