BEGIN:VCALENDAR
VERSION:2.0
PRODID:-//jEvents 2.0 for Joomla//EN
CALSCALE:GREGORIAN
METHOD:PUBLISH
BEGIN:VEVENT
UID:529c144c493396900aa51f99fbb4cceb
CATEGORIES:Polar Online Events
CREATED:20210315T080718
SUMMARY:Amundsen Science Outreach Workshop
LOCATION:Online
DESCRIPTION:Amundsen Science is organizing an online Outreach Workshop on March 23rd. T
 he goal of this event is to discuss the history and good practices in field
  oceanography based on the 17 years of operations of the research icebreake
 r CCGS Amundsen, the access to this National Research Facility and the futu
 re of the ship and organization. \nThis event could be of great interest to
  many PIs, graduate students, and collaborators, some that might not typica
 lly be involved in the regular ArcticNet Marine Program. \nLearn more and r
 egister here : https://bit.ly/3taW2GX or visit their <a href="https://www.f
 acebook.com/events/270254928032876/" target="_blank" rel="noopener">Faceboo
 k page</a>.\n
X-ALT-DESC;FMTTYPE=text/html:<p style="text-align: justify;"><strong><span lang="EN-CA">Amundsen&nbsp;Sc
 ience</span></strong><span lang="EN-CA">&nbsp;is organizing an online Outre
 ach Workshop on <strong>March 23<sup>rd</sup></strong>. <span lang="EN-US">
 The goal of this event is to discuss the history and good practices in fiel
 d oceanography based on the 17 years of operations of the research icebreak
 er CCGS <em>Amundsen</em>, the access to this National Research Facility an
 d the future of the ship and organization. </span></span></p><p style="text
 -align: justify;"><span lang="EN-CA">This event could be of great interest 
 to many PIs, graduate students, and collaborators, some that might not typi
 cally be involved in the regular&nbsp;ArcticNet&nbsp;Marine Program. </span
 ></p><p style="text-align: justify;"><span lang="EN-CA"><strong>Learn more 
 and register here&nbsp;: </strong></span><span lang="FR-CA"><span lang="EN-
 CA"><a href="https://bit.ly/3taW2GX" target="_blank" rel="noopener">https:/
 /bit.ly/3taW2GX</a></span> </span><span lang="EN-CA">or visit their <a href
 ="https://www.facebook.com/events/270254928032876/" target="_blank" rel="no
 opener">Facebook page</a><strong>.</strong></span></p>
DTSTAMP:20260423T024841Z
DTSTART;TZID=UTC;VALUE=DATE:20210323
DTEND;TZID=UTC;VALUE=DATE:20210324
SEQUENCE:0
TRANSP:OPAQUE
END:VEVENT
END:VCALENDAR