BEGIN:VCALENDAR
VERSION:2.0
PRODID:-//jEvents 2.0 for Joomla//EN
CALSCALE:GREGORIAN
METHOD:PUBLISH
BEGIN:VEVENT
UID:c0f990a79ffcb7ec438894d064b4d71a
CATEGORIES:Polar Online Events
CREATED:20210301T150031
SUMMARY:5th International ANGWIN workshop
LOCATION:Online
DESCRIPTION:The Antarctic Gravity Wave Instrument Network () Action Group will hold the
  <a href="https://www.bas.ac.uk/event/5th-international-angwin-workshop/?ut
 m_source=SCAR&amp;utm_campaign=7f91069d1e-EMAIL_CAMPAIGN_2020_08_19_02_59_C
 OPY_01&amp;utm_medium=email&amp;utm_term=0_b964133964-7f91069d1e-364285916"
  target="_blank" rel="noopener">5th International ANGWIN workshop</a> from 
 13 to 15 April. The focus of the online workshop is "Atmospheric gravity wa
 ve dynamics and coupling in the polar regions: observations and modelling."
 \nThe abstract submission deadline is 17 March. Please register by 6 April.
 \n
X-ALT-DESC;FMTTYPE=text/html:<p style="text-align: justify;">The Antarctic Gravity Wave Instrument Netwo
 rk (<a href="https://www.scar.org/science/angwin/about/?utm_source=SCAR&amp
 ;utm_campaign=7f91069d1e-EMAIL_CAMPAIGN_2020_08_19_02_59_COPY_01&amp;utm_me
 dium=email&amp;utm_term=0_b964133964-7f91069d1e-364285916" target="_blank" 
 rel="noopener">ANGWIN</a>) Action Group will hold the <a href="https://www.
 bas.ac.uk/event/5th-international-angwin-workshop/?utm_source=SCAR&amp;utm_
 campaign=7f91069d1e-EMAIL_CAMPAIGN_2020_08_19_02_59_COPY_01&amp;utm_medium=
 email&amp;utm_term=0_b964133964-7f91069d1e-364285916" target="_blank" rel="
 noopener"><strong>5th International ANGWIN workshop</strong></a> from <stro
 ng>13 to 15 April</strong>. The focus of the online workshop is "Atmospheri
 c gravity wave dynamics and coupling in the polar regions: observations and
  modelling."</p><p style="text-align: justify;">The <strong>abstract submis
 sion deadline is 17 March</strong>. Please register by <strong>6 April.</st
 rong></p>
DTSTAMP:20260422T172332Z
DTSTART;TZID=UTC;VALUE=DATE:20210413
DTEND;TZID=UTC;VALUE=DATE:20210416
SEQUENCE:0
TRANSP:OPAQUE
END:VEVENT
END:VCALENDAR