BEGIN:VCALENDAR
VERSION:2.0
PRODID:-//jEvents 2.0 for Joomla//EN
CALSCALE:GREGORIAN
METHOD:PUBLISH
BEGIN:VEVENT
UID:9571d95875be3749f37a8ec4e8b71d0f
CATEGORIES:Polar Conferences, Meetings and Events
CREATED:20161101T074608
SUMMARY:Workshop on Remote Sensing in Boreal/Arctic Wildfire Management and Science
LOCATION:Fairbanks\, Alaska
DESCRIPTION:Workshop on Remote Sensing in Boreal/Arctic Wildfire Management and Science
  April 4-6, 2017 University of Alaska Fairbanks\nThis is to alert this comm
 unity of an upcoming workshop on the application of remote sensing to borea
 l and arctic wildfire management, organized by the Alaska Fire Science Cons
 ortium April 4-6, 2017 in Fairbanks, AK.\nPlease see https://www.frames.gov
 /partner-sites/afsc/events/previous-events/workshops/2017-rs-workshop/  to 
 submit abstracts and travel support requests. Please distribute widely.\nBa
 ckground and objectives: With support from NASA, the Alaska Fire Science Co
 nsortium (AFSC) is organizing an international workshop to advance remote s
 ensing tools and data for operational and scientific applications by high n
 orthern latitude fire ecology and management communities. Participants will
  include interagency fire managers as well as scientists with an interest i
 n remote sensing and a variety of disciplines.\nTopics of interest include:
 \nPotential fire risk: Can remotely sensed data (e.g., daily snow extent, o
 thers) estimate spring soil moisture and surface and subsurface fuel moistu
 re and fuel conditions, and thus provide critical inputs for fuel moisture 
 indices used to predict fire danger and risk?\nNear real-time fire behavior
 : Which remotely sensed data are best and most timely for fire detection, p
 lume tracking of fire emissions, fire behavior modeling, mapping of flaming
  fronts, fire intensity, active fire perimeters, and response for ongoing f
 ires?\nPost-fire effects: Can we improve analytical methods for remotely se
 nsed data to assess fire severity, consumption/CO2 balance, active-layer ch
 anges, and successional trajectories of high latitude vegetation communitie
 s?\nThe outcomes of this workshop are expected to include co-developed inve
 stigations into new management and scientific uses of remote sensing data, 
 increasing the scientific foundation and operational efficiency of northern
  fire management; improving understanding of climate-induced changes in nor
 thern fire regimes and ecosystem components and potential feedbacks to the 
 global climate system; and leading to expanded application and use of remot
 ely sensed data for fire management and fire science in high latitudes.\nAF
 SC will publish workshop proceedings, including presentation abstracts, res
 ults, and consensus recommendations. This project is a contribution to the<
 a href="http://www.iarpccollaborations.org/teams/Wildfires"> Interagency Ar
 ctic Research Policy Committee’s Wildfire Collaboration Team</a>. Please se
 e Intensification of Wildfire in High Latitudes: Research Priorities to Hel
 p Fire Managers (images/sultanbaeva/Fire-in-high-latitudes-research-priorit
 ies_1.docx) and <a href="https://www.frames.gov/files/8614/7251/8636/wildfi
 re-sensor-systems_v5.pdf">Satellite and Airborne Fire Sensor Systems for Ar
 ctic Wildfire Observations</a> for additional background.\nGuide for author
 s: Abstracts of up to 500 words for both oral and poster presentations are 
 welcome. The deadline to submit abstracts is November 15, 2016. To submit a
 bstracts, click here (https://docs.google.com/forms/d/e/1FAIpQLScDS9ldxjHrF
 p06E2IjOxzEfxAa7jz10zNZx9O5M0CWPhZO0w/viewform).\nApplications for travel s
 upport: Limited funding is available to offset selected presenters’ travel 
 expenses, with priority given to students and other young investigators. Ap
 plications for travel support are available <a href="https://docs.google.co
 m/forms/d/e/1FAIpQLSdQW1P4VABErh8uwU9d4qI0j00zyr6mnylOgGfy9ShJFcWehQ/viewfo
 rm?c=0&amp;w=1">here</a> and are due November 15, 2016.\nAssociated trainin
 g opportunity: With sufficient interest, NASA’s Applied Remote Sensing Trai
 ning (ARSET) (http://arset.gsfc.nasa.gov/) project and/or <a href="http://w
 eather.msfc.nasa.gov/sport/">Short-term Prediction Research and Transistion
  Center (SPoRT)</a> will offer an optional day of hands-on training for int
 egrating NASA Earth Science data into wildland fire science, decisionmaking
 , and management. Please indicate your interest in this opportunity on the 
 submission form.\n
X-ALT-DESC;FMTTYPE=text/html:<p style="text-align: justify;"><strong>Workshop on Remote Sensing in Borea
 l/Arctic Wildfire Management and Science April 4-6, 2017 University of Alas
 ka Fairbanks</strong></p><p style="text-align: justify;">This is to alert t
 his community of an upcoming workshop on the application of remote sensing 
 to boreal and arctic wildfire management, organized by the Alaska Fire Scie
 nce Consortium April 4-6, 2017 in Fairbanks, AK.</p><p style="text-align: j
 ustify;"><strong>Please</strong> see <a href="https://www.frames.gov/partne
 r-sites/afsc/events/previous-events/workshops/2017-rs-workshop/">https://ww
 w.frames.gov/partner-sites/afsc/events/previous-events/workshops/2017-rs-wo
 rkshop/</a>  to submit abstracts and travel support requests. Please distri
 bute widely.<br /><strong>Background and objectives</strong>: With support 
 from NASA, the Alaska Fire Science Consortium (AFSC) is organizing an inter
 national workshop to advance remote sensing tools and data for operational 
 and scientific applications by high northern latitude fire ecology and mana
 gement communities. Participants will include interagency fire managers as 
 well as scientists with an interest in remote sensing and a variety of disc
 iplines.</p><p style="text-align: justify;"><strong>Topics of interest incl
 ude:</strong></p><p style="text-align: justify;"><strong>Potential fire ris
 k:</strong> Can remotely sensed data (e.g., daily snow extent, others) esti
 mate spring soil moisture and surface and subsurface fuel moisture and fuel
  conditions, and thus provide critical inputs for fuel moisture indices use
 d to predict fire danger and risk?<br /><strong>Near real-time fire behavio
 r:</strong> Which remotely sensed data are best and most timely for fire de
 tection, plume tracking of fire emissions, fire behavior modeling, mapping 
 of flaming fronts, fire intensity, active fire perimeters, and response for
  ongoing fires?<br /><strong>Post-fire effects:</strong> Can we improve ana
 lytical methods for remotely sensed data to assess fire severity, consumpti
 on/CO2 balance, active-layer changes, and successional trajectories of high
  latitude vegetation communities?</p><p style="text-align: justify;">The <s
 trong>outcomes</strong> of this workshop are expected to include co-develop
 ed investigations into new management and scientific uses of remote sensing
  data, increasing the scientific foundation and operational efficiency of n
 orthern fire management; improving understanding of climate-induced changes
  in northern fire regimes and ecosystem components and potential feedbacks 
 to the global climate system; and leading to expanded application and use o
 f remotely sensed data for fire management and fire science in high latitud
 es.</p><p style="text-align: justify;">AFSC will publish workshop proceedin
 gs, including presentation abstracts, results, and consensus recommendation
 s. This project is a contribution to the<a href="http://www.iarpccollaborat
 ions.org/teams/Wildfires"> Interagency Arctic Research Policy Committee’s W
 ildfire Collaboration Team</a>. Please see <a href="images/sultanbaeva/Fire
 -in-high-latitudes-research-priorities_1.docx">Intensification of Wildfire 
 in High Latitudes: Research Priorities to Help Fire Managers</a> and <a hre
 f="https://www.frames.gov/files/8614/7251/8636/wildfire-sensor-systems_v5.p
 df">Satellite and Airborne Fire Sensor Systems for Arctic Wildfire Observat
 ions</a> for additional background.</p><p style="text-align: justify;">Guid
 e for authors: Abstracts of up to 500 words for both oral and poster presen
 tations are welcome. The deadline to submit abstracts is <strong>November 1
 5, 2016</strong>. To submit abstracts, click <a href="https://docs.google.c
 om/forms/d/e/1FAIpQLScDS9ldxjHrFp06E2IjOxzEfxAa7jz10zNZx9O5M0CWPhZO0w/viewf
 orm">here</a>.</p><p style="text-align: justify;">Applications for travel s
 upport: Limited funding is available to offset selected presenters’ travel 
 expenses, with priority given to students and other young investigators. Ap
 plications for travel support are available <a href="https://docs.google.co
 m/forms/d/e/1FAIpQLSdQW1P4VABErh8uwU9d4qI0j00zyr6mnylOgGfy9ShJFcWehQ/viewfo
 rm?c=0&w=1">here</a> and are due <strong>November 15, 2016.</strong></p><p 
 style="text-align: justify;">Associated training opportunity: With sufficie
 nt interest, NASA’s <a href="http://arset.gsfc.nasa.gov/">Applied Remote Se
 nsing Training (ARSET)</a> project and/or <a href="http://weather.msfc.nasa
 .gov/sport/">Short-term Prediction Research and Transistion Center (SPoRT)<
 /a> will offer an optional day of hands-on training for integrating NASA Ea
 rth Science data into wildland fire science, decisionmaking, and management
 . Please indicate your interest in this opportunity on the submission form.
 </p>
DTSTAMP:20260422T232626Z
DTSTART;TZID=UTC;VALUE=DATE:20170404
DTEND;TZID=UTC;VALUE=DATE:20170407
SEQUENCE:0
TRANSP:OPAQUE
END:VEVENT
END:VCALENDAR