BEGIN:VCALENDAR
VERSION:2.0
PRODID:-//jEvents 2.0 for Joomla//EN
CALSCALE:GREGORIAN
METHOD:PUBLISH
BEGIN:VEVENT
UID:029bf49883293b3c01e959059c027b4c
CATEGORIES:APECS Events
CREATED:20210226T170443
SUMMARY:Online Technical Training: Polar Marine Robotics
LOCATION:Online
DESCRIPTION:Date: 12 April 2021\nTime: 8:00 – 11:30 GMT\nCourse summary: This course of
 fers a historical overview of polar marine robotics, considerations and exp
 eriences for robot design in cold environments, operational and logistic as
 pects and experiences from the activities of the National Research Council 
 of Italy (Consiglio Nazionale delle Ricerche, CNR). Participants will apply
  the knowledge gained in the course to plan a hypothetical campaign for a s
 emi-submersible vehicle to acquire data and samples at the ice-water-air in
 terface.\nFor further information and to register, please visit the .\n
X-ALT-DESC;FMTTYPE=text/html:<p><strong><strong>Date: 12 April 2021<br />Time: 8:00 – 11:30 GMT</strong>
 </strong></p><p><strong>Course summary:</strong> This course offers a histo
 rical overview of polar marine robotics, considerations and experiences for
  robot design in cold environments, operational and logistic aspects and ex
 periences from the activities of the National Research Council of Italy (Co
 nsiglio Nazionale delle Ricerche, CNR). Participants will apply the knowled
 ge gained in the course to plan a hypothetical campaign for a semi-submersi
 ble vehicle to acquire data and samples at the ice-water-air interface.</p>
 <p>For further information and to register, please visit the <a href="index
 .php?option=com_content&amp;view=category&amp;id=413" target="_blank">Onlin
 e Technical Training webpage</a>.</p>
CONTACT:This email address is being protected from spambots. You need JavaScript enabled to view it.
				document.getElementById('cloakad4a468a6894ebcc78735f0d1dd718d5').innerHTML = '';
				var prefix = '&#109;a' + 'i&#108;' + '&#116;o';
				var path = 'hr' + 'ef' + '=';
				var addyad4a468a6894ebcc78735f0d1dd718d5 = '&#105;nf&#111;' + '&#64;';
				addyad4a468a6894ebcc78735f0d1dd718d5 = addyad4a468a6894ebcc78735f0d1dd718d5 + '&#97;p&#101;cs' + '&#46;' + '&#105;s';
				var addy_textad4a468a6894ebcc78735f0d1dd718d5 = '&#105;nf&#111;' + '&#64;' + '&#97;p&#101;cs' + '&#46;' + '&#105;s';document.getElementById('cloakad4a468a6894ebcc78735f0d1dd718d5').innerHTML += '<a ' + path + '\'' + prefix + ':' + addyad4a468a6894ebcc78735f0d1dd718d5 + '\'>'+addy_textad4a468a6894ebcc78735f0d1dd718d5+'';
		
DTSTAMP:20260421T174420Z
DTSTART;TZID=UTC:20210412T080000
DTEND;TZID=UTC:20210412T113000
SEQUENCE:0
TRANSP:OPAQUE
END:VEVENT
END:VCALENDAR