BEGIN:VCALENDAR
VERSION:2.0
PRODID:-//jEvents 2.0 for Joomla//EN
CALSCALE:GREGORIAN
METHOD:PUBLISH
BEGIN:VEVENT
UID:b5fc692dddf12f4133cdc270555f68a0
CATEGORIES:APECS Events
CREATED:20210226T165803
SUMMARY:International Online Conference 2021
LOCATION:Online
DESCRIPTION:<p>The Association of Polar Early Career Scientists (APECS) is now organizi
 ng the <strong>7th annual APECS International Online Conference</strong> wh
 ich will be taking place on <strong>Wednesday, 12th May 2021</strong>. This
  year’s theme <strong>“Polar Science: Success Stories from the Field and fr
 om Home”</strong> aims to involve polar and alpine researchers from around 
 the world.<br /><br />The theme is designed to encourage contributions from
  those whose research has been impacted by Covid-19 and had to develop new 
 directions with their research. It also acknowledges that some were able to
  carry out fieldwork, and so also gives a space for them to showcase their 
 research. The conference will be an opportunity for new research to be pres
 ented and connections to be made across polar research. After what has been
  a difficult year for everyone around the world, we would like to celebrate
  and learn from your stories related to the polar and alpine regions that h
 appened in 2020. We hope to hear both success stories and stories of learni
 ng from failure. The ultimate goal of the project is to unite the ECR commu
 nity in a collegial and learning experience organized under the 7th annual 
 APECS Online Conference.</p><p>For further information and to submit your a
 bstract, please visit the <a href="index.php?option=com_content&amp;view=ca
 tegory&amp;id=412&amp;layout=*">International Online Conference 2021 webpag
 e</a>.</p><p><strong>Abstract submission deadline: Wednesday, 31st March 20
 21</strong></p><p><em>Registration for the conference to follow soon.</em><
 /p>
CONTACT:This email address is being protected from spambots. You need JavaScript enabled to view it.
				document.getElementById('cloak870d8be90bdc854c93aff811626e8b92').innerHTML = '';
				var prefix = '&#109;a' + 'i&#108;' + '&#116;o';
				var path = 'hr' + 'ef' + '=';
				var addy870d8be90bdc854c93aff811626e8b92 = '&#105;nf&#111;' + '&#64;';
				addy870d8be90bdc854c93aff811626e8b92 = addy870d8be90bdc854c93aff811626e8b92 + '&#97;p&#101;cs' + '&#46;' + '&#105;s';
				var addy_text870d8be90bdc854c93aff811626e8b92 = '&#105;nf&#111;' + '&#64;' + '&#97;p&#101;cs' + '&#46;' + '&#105;s';document.getElementById('cloak870d8be90bdc854c93aff811626e8b92').innerHTML += '<a ' + path + '\'' + prefix + ':' + addy870d8be90bdc854c93aff811626e8b92 + '\'>'+addy_text870d8be90bdc854c93aff811626e8b92+'';
		
DTSTAMP:20260423T051823Z
DTSTART;TZID=UTC;VALUE=DATE:20210512
DTEND;TZID=UTC;VALUE=DATE:20210513
SEQUENCE:0
TRANSP:OPAQUE
END:VEVENT
END:VCALENDAR