BEGIN:VCALENDAR
VERSION:2.0
PRODID:-//jEvents 2.0 for Joomla//EN
CALSCALE:GREGORIAN
METHOD:PUBLISH
BEGIN:VEVENT
UID:ec750552a2e883e579929a989fa2dc97
CATEGORIES:Polar Online Events
CREATED:20210217T135717
SUMMARY:NSF Office of Polar Programs office hours for Arctic and Antarctic Sciences
LOCATION:Online
DESCRIPTION:<p>The <strong>National Science Foundation Office of Polar Programs</strong
 > is holding separate office hours for Arctic and Antarctic Sciences. These
  webinars will cover program updates, funding opportunities, and season pla
 nning around COVID-19. Current awardees, pending proposers, and future prop
 osers are welcome to attend.</p><p>You must register to attend these sessio
 ns.</p><p><strong>Antarctic Sciences Virtual Office Hours</strong><br />Feb
 ruary 23, 2021, 12:00 – 1:00pm EST<br />Registration: <a href="https://nsf.
 zoomgov.com/webinar/register/WN_Mo38T4EFSC-kRJZ0fn4b8w"></a><a href="https:
 //nsf.zoomgov.com/webinar/register/WN_Mo38T4EFSC-kRJZ0fn4b8w" target="_blan
 k" rel="noopener">https://nsf.zoomgov.com/webinar/register/WN_Mo38T4EFSC-kR
 JZ0fn4b8w</a><br />Send your questions for discussion to Jennifer Rhemann, 
 at <a href="mailto:jrhemann@nsf.gov"></a><span id="cloakda17f58f03682d12acd
 cc3eaba59e262">This email address is being protected from spambots. You nee
 d JavaScript enabled to view it.</span><script type='text/javascript'>
				
 document.getElementById('cloakda17f58f03682d12acdcc3eaba59e262').innerHTML 
 = '';
				var prefix = '&#109;a' + 'i&#108;' + '&#116;o';
				var path = 'h
 r' + 'ef' + '=';
				var addyda17f58f03682d12acdcc3eaba59e262 = 'jrh&#101;m
 &#97;nn' + '&#64;';
				addyda17f58f03682d12acdcc3eaba59e262 = addyda17f58f
 03682d12acdcc3eaba59e262 + 'nsf' + '&#46;' + 'g&#111;v';
				var addy_textd
 a17f58f03682d12acdcc3eaba59e262 = 'jrh&#101;m&#97;nn' + '&#64;' + 'nsf' + '
 &#46;' + 'g&#111;v';document.getElementById('cloakda17f58f03682d12acdcc3eab
 a59e262').innerHTML += '<a ' + path + '\'' + prefix + ':' + addyda17f58f036
 82d12acdcc3eaba59e262 + '\'>'+addy_textda17f58f03682d12acdcc3eaba59e262+'<\
 /a>';
		</script></p><p><strong>Arctic Program Manager Office Hours</strong
 ><br />February 24, 2021, 3:00 – 4:00pm EST<br />Registration: <a href="htt
 ps://www.iarpccollaborations.org/events/20623"></a><a href="https://www.iar
 pccollaborations.org/events/20623" target="_blank" rel="noopener">https://w
 ww.iarpccollaborations.org/events/20623</a></p>
DTSTAMP:20260421T104748Z
DTSTART;TZID=UTC;VALUE=DATE:20210223
DTEND;TZID=UTC;VALUE=DATE:20210225
SEQUENCE:0
TRANSP:OPAQUE
END:VEVENT
END:VCALENDAR