BEGIN:VCALENDAR
VERSION:2.0
PRODID:-//jEvents 2.0 for Joomla//EN
CALSCALE:GREGORIAN
METHOD:PUBLISH
BEGIN:VEVENT
UID:78d302317f31a546a38dbdf2ee3b4b3a
CATEGORIES:Polar Online Events
CREATED:20210210T194314
SUMMARY:An Anchor Point to a Drifting World!
LOCATION:Online
DESCRIPTION:<p><strong><em>An Anchor Point to a Drifting World!</em></strong><br />SIOS
  Access Programme<br />Svalbard Integrated Arctic Earth Observing System (S
 IOS)<br /><strong>Friday, 12 February 2021</strong><br /><strong>10:00 a.m.
  Central European Time</strong></p><p>The Svalbard Integrated Arctic Earth 
 Observing System (SIOS) invites registration for their next SIOS Webinar Se
 ries event. This webinar, titled&nbsp;<em>An Anchor Point to a Drifting Wor
 ld!,</em>&nbsp;will take place Friday, 12 February 2021 at 10:00 a.m. Centr
 al European Time.</p><p>This webinar will present projects in the frame of 
 the SIOS access programme.</p><p>Despite the significant challenges of 2020
 , three of the planned 14 projects in the access programme were completed o
 n schedule. Hear from two of these projects and find out how they did.</p><
 p>Presenters will also discuss three of the nine projects they are planning
  to carry out in 2021. Find out more about their projects and their plans t
 o travel to Svalbard for fieldwork.</p><p>For more information and to regis
 ter, go to:<br /><a href="https://www.arcus.org/civicrm/mailing/url?u=27780
 &amp;qid=4745720" rel="nofollow">Webinar webpage</a></p><p>For questions, c
 ontact:<br />Shridhar Jawak<br />Email:&nbsp;<a href="https://www.arcus.org
 /civicrm/mailing/url?u=27781&amp;qid=4745720" rel="nofollow"></a><span id="
 cloaka0a3c2a0d99aa2865936fbd2179063a6">This email address is being protecte
 d from spambots. You need JavaScript enabled to view it.</span><script type
 ='text/javascript'>
				document.getElementById('cloaka0a3c2a0d99aa2865936f
 bd2179063a6').innerHTML = '';
				var prefix = '&#109;a' + 'i&#108;' + '&#1
 16;o';
				var path = 'hr' + 'ef' + '=';
				var addya0a3c2a0d99aa2865936fb
 d2179063a6 = 'r&#101;m&#111;t&#101;s&#101;ns&#105;ng' + '&#64;';
				addya0
 a3c2a0d99aa2865936fbd2179063a6 = addya0a3c2a0d99aa2865936fbd2179063a6 + 's&
 #105;&#111;s-sv&#97;lb&#97;rd' + '&#46;' + '&#111;rg';
				var addy_texta0a
 3c2a0d99aa2865936fbd2179063a6 = 'r&#101;m&#111;t&#101;s&#101;ns&#105;ng' + 
 '&#64;' + 's&#105;&#111;s-sv&#97;lb&#97;rd' + '&#46;' + '&#111;rg';document
 .getElementById('cloaka0a3c2a0d99aa2865936fbd2179063a6').innerHTML += '<a '
  + path + '\'' + prefix + ':' + addya0a3c2a0d99aa2865936fbd2179063a6 + '\'>
 '+addy_texta0a3c2a0d99aa2865936fbd2179063a6+'<\/a>';
		</script></p>
DTSTAMP:20260423T051736Z
DTSTART;TZID=UTC:20210212T100000
SEQUENCE:0
TRANSP:OPAQUE
END:VEVENT
END:VCALENDAR