BEGIN:VCALENDAR
VERSION:2.0
PRODID:-//jEvents 2.0 for Joomla//EN
CALSCALE:GREGORIAN
METHOD:PUBLISH
BEGIN:VEVENT
UID:1f46e54b836f8aa998c4b6b6391be814
CATEGORIES:Polar Online Events
CREATED:20210205T113510
SUMMARY:24th Alpine Glaciology Meeting
LOCATION:Online
DESCRIPTION:Since the Alpine Glaciology Meeting had to be cancelled due to pandemic rea
 sons in 2020, we now joined forces to organise a virtual AGM 2021 by Italy 
 and Germany.\nThe AGM 2021 will be fully virtual, because the situation at 
 the moment does not allow us to plan on a physical gathering, neither South
  nor North of the Alps. Therefore, we would like to invite all interested p
 eople in joining us for two days of scientific exchange on 25 and 26 March 
 2021!\nThe meeting aims on presenting and discussing recent advances in the
  investigation of mountain glaciers in their environment, no matter in whic
 h region of the world. Young scientists and students are encouraged to pres
 ent their work in a very informal and friendly atmosphere. But also the old
 er generation is highly welcome to contribute with their findings to a succ
 essful meeting. We maintain the usual structure of oral sessions, but poste
 rs are also welcome within a special “virtual poster room”. The oral presen
 tations are expected to take 15 Minutes followed by 5 Minutes of questions 
 and discussion. For the posters, a short five-minute presentation is planne
 d with a follow-up discussion.\nAbstract submission is now closed, and we w
 ish to thank everyone who has submitted a contribution; we have a rich prog
 ramme with a lot of very interesting talks! The conference will be held on 
 the Zoom platform. To take part without a contribution, we ask you to regis
 ter online by no later than 22 March on the website (https://sites.unimi.it
 /glaciol/index.php/en/events/agm-2021/) so we can send you the link to part
 icipate.\nWe will soon circulate the final programme and book of abstracts 
 on the same website. If there are any questions or suggestions, please do n
 ot hesitate to contact the organisation committee:\nThis email address is b
 eing protected from spambots. You need JavaScript enabled to view it.
				d
 ocument.getElementById('cloaked07f58ff40dcd6ea2e0383b52780715').innerHTML =
  '';
				var prefix = '&#109;a' + 'i&#108;' + '&#116;o';
				var path = 'hr
 ' + 'ef' + '=';
				var addyed07f58ff40dcd6ea2e0383b52780715 = 'g&#117;gl&#
 105;&#101;lm&#105;n&#97;.d&#105;&#111;l&#97;&#105;&#117;t&#105;' + '&#64;';
 
				addyed07f58ff40dcd6ea2e0383b52780715 = addyed07f58ff40dcd6ea2e0383b527
 80715 + '&#117;n&#105;m&#105;' + '&#46;' + '&#105;t';
				var addy_texted07
 f58ff40dcd6ea2e0383b52780715 = 'G&#117;gl&#105;&#101;lm&#105;n&#97; D&#105;
 &#111;l&#97;&#105;&#117;t&#105;';document.getElementById('cloaked07f58ff40d
 cd6ea2e0383b52780715').innerHTML += '<a ' + path + '\'' + prefix + ':' + ad
 dyed07f58ff40dcd6ea2e0383b52780715 + '\' target="_blank">'+addy_texted07f58
 ff40dcd6ea2e0383b52780715+'';
		 and This email address is being protected 
 from spambots. You need JavaScript enabled to view it.
				document.getElem
 entById('cloakca085c1a518087bc1e7e7717e6d4487a').innerHTML = '';
				var pr
 efix = '&#109;a' + 'i&#108;' + '&#116;o';
				var path = 'hr' + 'ef' + '=';
 
				var addyca085c1a518087bc1e7e7717e6d4487a = 'd&#97;v&#105;d&#101;.f&#11
 7;g&#97;zz&#97;' + '&#64;';
				addyca085c1a518087bc1e7e7717e6d4487a = addy
 ca085c1a518087bc1e7e7717e6d4487a + '&#117;n&#105;m&#105;' + '&#46;' + '&#10
 5;t';
				var addy_textca085c1a518087bc1e7e7717e6d4487a = 'D&#97;v&#105;d&#
 101; F&#117;g&#97;zz&#97; ';document.getElementById('cloakca085c1a518087bc1
 e7e7717e6d4487a').innerHTML += '<a ' + path + '\'' + prefix + ':' + addyca0
 85c1a518087bc1e7e7717e6d4487a + '\'>'+addy_textca085c1a518087bc1e7e7717e6d4
 487a+'';
		 from the Università degli Studi di Milano, Italy\nThis email ad
 dress is being protected from spambots. You need JavaScript enabled to view
  it.
				document.getElementById('cloak8de6e951212e3549480a7843c623b6d7').i
 nnerHTML = '';
				var prefix = '&#109;a' + 'i&#108;' + '&#116;o';
				var 
 path = 'hr' + 'ef' + '=';
				var addy8de6e951212e3549480a7843c623b6d7 = 'v
 &#97;lt&#101;r.m&#97;gg&#105;' + '&#64;';
				addy8de6e951212e3549480a7843c
 623b6d7 = addy8de6e951212e3549480a7843c623b6d7 + '&#117;n&#105;m&#105;' + '
 &#46;' + '&#105;t';
				var addy_text8de6e951212e3549480a7843c623b6d7 = 'V&
 #97;lt&#101;r M&#97;gg&#105;';document.getElementById('cloak8de6e951212e354
 9480a7843c623b6d7').innerHTML += '<a ' + path + '\'' + prefix + ':' + addy8
 de6e951212e3549480a7843c623b6d7 + '\'>'+addy_text8de6e951212e3549480a7843c6
 23b6d7+'';
		 from Università di Milano Bicocca, Italy\nThis email address 
 is being protected from spambots. You need JavaScript enabled to view it.
	
 			document.getElementById('cloak89684bbe46e06aeb03717637f509ee03').innerHT
 ML = '';
				var prefix = '&#109;a' + 'i&#108;' + '&#116;o';
				var path =
  'hr' + 'ef' + '=';
				var addy89684bbe46e06aeb03717637f509ee03 = 'm&#97;s
 s&#105;m&#111;.fr&#101;zz&#111;tt&#105;' + '&#64;';
				addy89684bbe46e06ae
 b03717637f509ee03 = addy89684bbe46e06aeb03717637f509ee03 + '&#117;n&#105;r&
 #111;m&#97;3' + '&#46;' + '&#105;t';
				var addy_text89684bbe46e06aeb03717
 637f509ee03 = 'M&#97;ss&#105;m&#111; Fr&#101;zz&#111;tt&#105;';document.get
 ElementById('cloak89684bbe46e06aeb03717637f509ee03').innerHTML += '<a ' + p
 ath + '\'' + prefix + ':' + addy89684bbe46e06aeb03717637f509ee03 + '\'>'+ad
 dy_text89684bbe46e06aeb03717637f509ee03+'';
		 from the Italian Glaciologic
 al Committee, Italy\nThis email address is being protected from spambots. Y
 ou need JavaScript enabled to view it.
				document.getElementById('cloake2
 8723ae81c6cbc45cfd281a67bfe3f5').innerHTML = '';
				var prefix = '&#109;a'
  + 'i&#108;' + '&#116;o';
				var path = 'hr' + 'ef' + '=';
				var addye28
 723ae81c6cbc45cfd281a67bfe3f5 = 'Chr&#105;st&#111;ph.M&#97;y&#101;r' + '&#6
 4;';
				addye28723ae81c6cbc45cfd281a67bfe3f5 = addye28723ae81c6cbc45cfd281
 a67bfe3f5 + 'lrz' + '&#46;' + 'b&#97;dw-m&#117;&#101;nch&#101;n' + '&#46;' 
 + 'd&#101;';
				var addy_texte28723ae81c6cbc45cfd281a67bfe3f5 = 'Chr&#105;
 st&#111;ph M&#97;y&#101;r';document.getElementById('cloake28723ae81c6cbc45c
 fd281a67bfe3f5').innerHTML += '<a ' + path + '\'' + prefix + ':' + addye287
 23ae81c6cbc45cfd281a67bfe3f5 + '\'>'+addy_texte28723ae81c6cbc45cfd281a67bfe
 3f5+'';
		 from the Bavarian Academy of Sciences and Humanities, Munich, Ge
 rmany\n
X-ALT-DESC;FMTTYPE=text/html:<p style="text-align: justify;">Since the Alpine Glaciology Meeting had to 
 be cancelled due to pandemic reasons in 2020, we now joined forces to organ
 ise a <strong>virtual AGM 2021</strong> by Italy and Germany.</p><p style="
 text-align: justify;">The <strong>AGM 2021</strong> will be <strong>fully v
 irtual</strong>, because the situation at the moment does not allow us to p
 lan on a physical gathering, neither South nor North of the Alps. Therefore
 , we would like to invite all interested people in joining us for two days 
 of scientific exchange on <strong>25 and 26 March 2021!</strong></p><p styl
 e="text-align: justify;">The meeting aims on presenting and discussing rece
 nt advances in the investigation of mountain glaciers in their environment,
  no matter in which region of the world. Young scientists and students are 
 encouraged to present their work in a very informal and friendly atmosphere
 . But also the <em>older generation</em> is highly welcome to contribute wi
 th their findings to a successful meeting. We maintain the usual structure 
 of oral sessions, but posters are also welcome within a special “virtual po
 ster room”. The oral presentations are expected to take 15 Minutes followed
  by 5 Minutes of questions and discussion. For the posters, a short five-mi
 nute presentation is planned with a follow-up discussion.</p><p>Abstract su
 bmission is now closed, and we wish to thank everyone who has submitted a c
 ontribution; we have a rich programme with a lot of very interesting talks!
  The conference will be held on the Zoom platform. To take part without a c
 ontribution, we ask you to <strong>register online by no later than 22 Marc
 h</strong> on the <a href="https://sites.unimi.it/glaciol/index.php/en/even
 ts/agm-2021/" target="_blank" rel="noopener">website</a> so we can send you
  the link to participate.</p><p>We will soon circulate the final programme 
 and book of abstracts on the same website. If there are any questions or su
 ggestions, please do not hesitate to contact the organisation committee:</p
 ><p style="text-align: justify;"><span id="cloaked07f58ff40dcd6ea2e0383b527
 80715">This email address is being protected from spambots. You need JavaSc
 ript enabled to view it.</span><script type='text/javascript'>
				document
 .getElementById('cloaked07f58ff40dcd6ea2e0383b52780715').innerHTML = '';
		
 		var prefix = '&#109;a' + 'i&#108;' + '&#116;o';
				var path = 'hr' + 'ef
 ' + '=';
				var addyed07f58ff40dcd6ea2e0383b52780715 = 'g&#117;gl&#105;&#1
 01;lm&#105;n&#97;.d&#105;&#111;l&#97;&#105;&#117;t&#105;' + '&#64;';
				ad
 dyed07f58ff40dcd6ea2e0383b52780715 = addyed07f58ff40dcd6ea2e0383b52780715 +
  '&#117;n&#105;m&#105;' + '&#46;' + '&#105;t';
				var addy_texted07f58ff40
 dcd6ea2e0383b52780715 = 'G&#117;gl&#105;&#101;lm&#105;n&#97; D&#105;&#111;l
 &#97;&#105;&#117;t&#105;';document.getElementById('cloaked07f58ff40dcd6ea2e
 0383b52780715').innerHTML += '<a ' + path + '\'' + prefix + ':' + addyed07f
 58ff40dcd6ea2e0383b52780715 + '\' target="_blank">'+addy_texted07f58ff40dcd
 6ea2e0383b52780715+'<\/a>';
		</script> and <span id="cloakca085c1a518087bc
 1e7e7717e6d4487a">This email address is being protected from spambots. You 
 need JavaScript enabled to view it.</span><script type='text/javascript'>
	
 			document.getElementById('cloakca085c1a518087bc1e7e7717e6d4487a').innerHT
 ML = '';
				var prefix = '&#109;a' + 'i&#108;' + '&#116;o';
				var path =
  'hr' + 'ef' + '=';
				var addyca085c1a518087bc1e7e7717e6d4487a = 'd&#97;v
 &#105;d&#101;.f&#117;g&#97;zz&#97;' + '&#64;';
				addyca085c1a518087bc1e7e
 7717e6d4487a = addyca085c1a518087bc1e7e7717e6d4487a + '&#117;n&#105;m&#105;
 ' + '&#46;' + '&#105;t';
				var addy_textca085c1a518087bc1e7e7717e6d4487a 
 = 'D&#97;v&#105;d&#101; F&#117;g&#97;zz&#97; ';document.getElementById('clo
 akca085c1a518087bc1e7e7717e6d4487a').innerHTML += '<a ' + path + '\'' + pre
 fix + ':' + addyca085c1a518087bc1e7e7717e6d4487a + '\'>'+addy_textca085c1a5
 18087bc1e7e7717e6d4487a+'<\/a>';
		</script>&nbsp;from the Università degli
  Studi di Milano, Italy<span lang="IT"></span></p><p style="text-align: jus
 tify;"><span id="cloak8de6e951212e3549480a7843c623b6d7">This email address 
 is being protected from spambots. You need JavaScript enabled to view it.</
 span><script type='text/javascript'>
				document.getElementById('cloak8de6
 e951212e3549480a7843c623b6d7').innerHTML = '';
				var prefix = '&#109;a' +
  'i&#108;' + '&#116;o';
				var path = 'hr' + 'ef' + '=';
				var addy8de6e
 951212e3549480a7843c623b6d7 = 'v&#97;lt&#101;r.m&#97;gg&#105;' + '&#64;';
	
 			addy8de6e951212e3549480a7843c623b6d7 = addy8de6e951212e3549480a7843c623b
 6d7 + '&#117;n&#105;m&#105;' + '&#46;' + '&#105;t';
				var addy_text8de6e9
 51212e3549480a7843c623b6d7 = 'V&#97;lt&#101;r M&#97;gg&#105;';document.getE
 lementById('cloak8de6e951212e3549480a7843c623b6d7').innerHTML += '<a ' + pa
 th + '\'' + prefix + ':' + addy8de6e951212e3549480a7843c623b6d7 + '\'>'+add
 y_text8de6e951212e3549480a7843c623b6d7+'<\/a>';
		</script> from Università
  di Milano Bicocca, Italy</p><p style="text-align: justify;"><span id="cloa
 k89684bbe46e06aeb03717637f509ee03">This email address is being protected fr
 om spambots. You need JavaScript enabled to view it.</span><script type='te
 xt/javascript'>
				document.getElementById('cloak89684bbe46e06aeb03717637f
 509ee03').innerHTML = '';
				var prefix = '&#109;a' + 'i&#108;' + '&#116;o
 ';
				var path = 'hr' + 'ef' + '=';
				var addy89684bbe46e06aeb03717637f5
 09ee03 = 'm&#97;ss&#105;m&#111;.fr&#101;zz&#111;tt&#105;' + '&#64;';
				ad
 dy89684bbe46e06aeb03717637f509ee03 = addy89684bbe46e06aeb03717637f509ee03 +
  '&#117;n&#105;r&#111;m&#97;3' + '&#46;' + '&#105;t';
				var addy_text8968
 4bbe46e06aeb03717637f509ee03 = 'M&#97;ss&#105;m&#111; Fr&#101;zz&#111;tt&#1
 05;';document.getElementById('cloak89684bbe46e06aeb03717637f509ee03').inner
 HTML += '<a ' + path + '\'' + prefix + ':' + addy89684bbe46e06aeb03717637f5
 09ee03 + '\'>'+addy_text89684bbe46e06aeb03717637f509ee03+'<\/a>';
		</scrip
 t> from the Italian Glaciological Committee, Italy</p><p style="text-align:
  justify;"><span id="cloake28723ae81c6cbc45cfd281a67bfe3f5">This email addr
 ess is being protected from spambots. You need JavaScript enabled to view i
 t.</span><script type='text/javascript'>
				document.getElementById('cloak
 e28723ae81c6cbc45cfd281a67bfe3f5').innerHTML = '';
				var prefix = '&#109;
 a' + 'i&#108;' + '&#116;o';
				var path = 'hr' + 'ef' + '=';
				var addye
 28723ae81c6cbc45cfd281a67bfe3f5 = 'Chr&#105;st&#111;ph.M&#97;y&#101;r' + '&
 #64;';
				addye28723ae81c6cbc45cfd281a67bfe3f5 = addye28723ae81c6cbc45cfd2
 81a67bfe3f5 + 'lrz' + '&#46;' + 'b&#97;dw-m&#117;&#101;nch&#101;n' + '&#46;
 ' + 'd&#101;';
				var addy_texte28723ae81c6cbc45cfd281a67bfe3f5 = 'Chr&#10
 5;st&#111;ph M&#97;y&#101;r';document.getElementById('cloake28723ae81c6cbc4
 5cfd281a67bfe3f5').innerHTML += '<a ' + path + '\'' + prefix + ':' + addye2
 8723ae81c6cbc45cfd281a67bfe3f5 + '\'>'+addy_texte28723ae81c6cbc45cfd281a67b
 fe3f5+'<\/a>';
		</script> from the Bavarian Academy of Sciences and Humani
 ties, Munich, Germany</p>
DTSTAMP:20260423T163457Z
DTSTART;TZID=UTC;VALUE=DATE:20210325
DTEND;TZID=UTC;VALUE=DATE:20210327
SEQUENCE:0
TRANSP:OPAQUE
END:VEVENT
END:VCALENDAR