BEGIN:VCALENDAR
VERSION:2.0
PRODID:-//jEvents 2.0 for Joomla//EN
CALSCALE:GREGORIAN
METHOD:PUBLISH
BEGIN:VEVENT
UID:dffebc425974c100419c33d37fb15fe2
CATEGORIES:Polar Online Events
CREATED:20210202T080318
SUMMARY:IARPC Public Webinar Series: Polar Impact
LOCATION:Online
DESCRIPTION:<p>On <strong>Feb 11, 10am AKT / 2pm ET</strong>, join <a href="https://www
 .polarimpactnetwork.org/" target="_blank" rel="noopener">Polar Impact</a> f
 or an overview of this inclusive network of racial &amp; ethnic minorities 
 and allies in the polar research community.</p><p>Founder Prem Gill and co-
 organizer Asmara Lehrmann will discuss Polar Impact's mission to support, c
 onnect, and highlight the stories of Black, Asian, Indigenous, people of co
 lor, and minority ethnic professionals in the polar research community, as 
 well as resources offered by the network.</p><p>Event details and Zoom conn
 ection info: <a href="https://www.iarpccollaborations.org/events/20208">htt
 ps://www.iarpccollaborations.org/events/20208</a></p>
DTSTAMP:20260421T104833Z
DTSTART;TZID=UTC;VALUE=DATE:20210211
DTEND;TZID=UTC;VALUE=DATE:20210212
SEQUENCE:0
TRANSP:OPAQUE
END:VEVENT
END:VCALENDAR