BEGIN:VCALENDAR
VERSION:2.0
PRODID:-//jEvents 2.0 for Joomla//EN
CALSCALE:GREGORIAN
METHOD:PUBLISH
BEGIN:VEVENT
UID:cdbe80af1820fda9d31a211f377c8971
CATEGORIES:APECS Events
CREATED:20210129T075400
SUMMARY:VI APECS-Brazil Symposium
LOCATION:Online
DESCRIPTION:The VI APECS-Brazil Symposium will be held online between February 2 and 4,
  2021 with the theme "The importance of polar science in the face of global
  issues".\nThe event aims to provide the exchange of knowledge on polar top
 ics and connect polar researchers from all over the world. The event is aim
 ed at all people interested in polar science.\nIn addition to the program t
 hat includes several lectures and round tables in Portuguese, English or Sp
 anish, the event will also have simultaneous translation into Brazilian sig
 n language, Portuguese, English and Spanish.\nFor this reason, APECS-Brazil
  is offering free registration for APECS members, researchers, students, an
 d their national committees interested in attending lectures in English or 
 Spanish.\nInterested participants can send email to  (mailto:simposioapecs@
 gmail.com)This email address is being protected from spambots. You need Jav
 aScript enabled to view it.
				document.getElementById('cloak16fc44ecfa473
 9a8b2f11ea5eed13573').innerHTML = '';
				var prefix = '&#109;a' + 'i&#108;
 ' + '&#116;o';
				var path = 'hr' + 'ef' + '=';
				var addy16fc44ecfa4739
 a8b2f11ea5eed13573 = 's&#105;mp&#111;s&#105;&#111;&#97;p&#101;cs' + '&#64;'
 ;
				addy16fc44ecfa4739a8b2f11ea5eed13573 = addy16fc44ecfa4739a8b2f11ea5ee
 d13573 + 'gm&#97;&#105;l' + '&#46;' + 'c&#111;m';
				var addy_text16fc44ec
 fa4739a8b2f11ea5eed13573 = 's&#105;mp&#111;s&#105;&#111;&#97;p&#101;cs' + '
 &#64;' + 'gm&#97;&#105;l' + '&#46;' + 'c&#111;m';document.getElementById('c
 loak16fc44ecfa4739a8b2f11ea5eed13573').innerHTML += '<a ' + path + '\'' + p
 refix + ':' + addy16fc44ecfa4739a8b2f11ea5eed13573 + '\'>'+addy_text16fc44e
 cfa4739a8b2f11ea5eed13573+'';
		 with Full name, Country, Institution/Unive
 rsity and contact email.\nPlease ensure to write “APECS Symposium Registrat
 ion” in the subject line. Registration deadline is February 1st, 2021.\nFul
 l event schedule and more details: <a href="https://congresse.me/eventos/si
 mposioapecs2021" title="&lt;a href=">https://congresse.me/eventos/simposioa
 pecs2021.</a>\n
X-ALT-DESC;FMTTYPE=text/html:<p dir="ltr">The <strong>VI APECS-Brazil Symposium</strong> will be held on
 line between <strong>February 2 and 4, 2021</strong> with the theme <strong
 >"The importance of polar science in the face of global issues"</strong>.</
 p><p dir="ltr">The event aims to provide the exchange of knowledge on polar
  topics and connect polar researchers from all over the world. The event is
  aimed at all people interested in polar science.</p><p dir="ltr">In additi
 on to the program that includes several lectures and round tables in Portug
 uese, English or Spanish, the event will also have simultaneous translation
  into Brazilian sign language, Portuguese, English and Spanish.</p><p dir="
 ltr">For this reason, APECS-Brazil is offering free registration for APECS 
 members, researchers, students, and their national committees interested in
  attending lectures in English or Spanish.</p><p dir="ltr">Interested parti
 cipants can send email to <a href="mailto:simposioapecs@gmail.com"></a><spa
 n id="cloak16fc44ecfa4739a8b2f11ea5eed13573">This email address is being pr
 otected from spambots. You need JavaScript enabled to view it.</span><scrip
 t type='text/javascript'>
				document.getElementById('cloak16fc44ecfa4739a
 8b2f11ea5eed13573').innerHTML = '';
				var prefix = '&#109;a' + 'i&#108;' 
 + '&#116;o';
				var path = 'hr' + 'ef' + '=';
				var addy16fc44ecfa4739a8
 b2f11ea5eed13573 = 's&#105;mp&#111;s&#105;&#111;&#97;p&#101;cs' + '&#64;';

 				addy16fc44ecfa4739a8b2f11ea5eed13573 = addy16fc44ecfa4739a8b2f11ea5eed1
 3573 + 'gm&#97;&#105;l' + '&#46;' + 'c&#111;m';
				var addy_text16fc44ecfa
 4739a8b2f11ea5eed13573 = 's&#105;mp&#111;s&#105;&#111;&#97;p&#101;cs' + '&#
 64;' + 'gm&#97;&#105;l' + '&#46;' + 'c&#111;m';document.getElementById('clo
 ak16fc44ecfa4739a8b2f11ea5eed13573').innerHTML += '<a ' + path + '\'' + pre
 fix + ':' + addy16fc44ecfa4739a8b2f11ea5eed13573 + '\'>'+addy_text16fc44ecf
 a4739a8b2f11ea5eed13573+'<\/a>';
		</script> with Full name, Country, Insti
 tution/University and contact email.</p><p dir="ltr">Please ensure to write
  “APECS Symposium Registration” in the subject line. <strong>Registration d
 eadline is February 1st, 2021.</strong></p><p dir="ltr">Full event schedule
  and more details: <a href="https://congresse.me/eventos/simposioapecs2021"
  title="&lt;a href=">https://congresse.me/eventos/simposioapecs2021.</a></p
 >
DTSTAMP:20260425T232637Z
DTSTART;TZID=UTC;VALUE=DATE:20210202
DTEND;TZID=UTC;VALUE=DATE:20210205
SEQUENCE:0
TRANSP:OPAQUE
END:VEVENT
END:VCALENDAR