BEGIN:VCALENDAR
VERSION:2.0
PRODID:-//jEvents 2.0 for Joomla//EN
CALSCALE:GREGORIAN
METHOD:PUBLISH
BEGIN:VEVENT
UID:3129a8802a01edae2b73228057eb08c8
CATEGORIES:Polar Conferences, Meetings and Events
CREATED:20161028T121658
SUMMARY:6th Iberian Conference of IPA. Workshop of Spanish members of PYRN
LOCATION:Oviedo\, Spain
DESCRIPTION:6th Iberian Conference of IPA. Workshop of Spanish members of PYRN, Oviedo,
  Spain, SPRING 2017\nMore information in January 2017 on PYRN website (http
 ://pyrn.arcticportal.org/) and PYRN Facebook (<a href="https://www.facebook
 .com/PYRNofficial">https://www.facebook.com/PYRNofficial</a>)\n
X-ALT-DESC;FMTTYPE=text/html:<p><strong>6th Iberian Conference of IPA. Workshop of Spanish members of PY
 RN, Oviedo, Spain, SPRING 2017</strong></p><p>More information in January 2
 017 on PYRN website (<a href="http://pyrn.arcticportal.org/">http://pyrn.ar
 cticportal.org/</a>) and PYRN Facebook (<a href="https://www.facebook.com/P
 YRNofficial">https://www.facebook.com/PYRNofficial</a>)</p>
DTSTAMP:20260423T163053Z
DTSTART;TZID=UTC;VALUE=DATE:20170301
DTEND;TZID=UTC;VALUE=DATE:20170302
SEQUENCE:0
TRANSP:OPAQUE
END:VEVENT
END:VCALENDAR