BEGIN:VCALENDAR
VERSION:2.0
PRODID:-//jEvents 2.0 for Joomla//EN
CALSCALE:GREGORIAN
METHOD:PUBLISH
BEGIN:VEVENT
UID:572e4ad32c624e5f803531b58d7c9699
CATEGORIES:APECS Events
CREATED:20210126T202450
SUMMARY:International Polar Week March 2021
LOCATION:Online
DESCRIPTION:<p><strong>It's International Polar Week from 14-20 March 2021.</strong></p
 ><p>For further information, please visit the <a href="index.php?option=com
 _content&amp;view=category&amp;id=410&amp;layout=*">Polar Week March 2021 w
 ebpage</a>.</p><p>&nbsp;</p>
DTSTAMP:20260421T052520Z
DTSTART;TZID=UTC;VALUE=DATE:20210314
DTEND;TZID=UTC;VALUE=DATE:20210321
SEQUENCE:0
TRANSP:OPAQUE
END:VEVENT
END:VCALENDAR