BEGIN:VCALENDAR
VERSION:2.0
PRODID:-//jEvents 2.0 for Joomla//EN
CALSCALE:GREGORIAN
METHOD:PUBLISH
BEGIN:VEVENT
UID:60a538cad66f6001c78369c1a68020e2
CATEGORIES:Polar Conferences, Meetings and Events
CREATED:20161028T121155
SUMMARY:International Conference on High Latitude Dust 2017
LOCATION:Reykjavík\, Iceland
DESCRIPTION:After some further deliberation, it has been decided to extend the earlybir
 d registration deadline for the International Conference on High Latitude D
 ust (University of Reykjavik, May 21st – May 24th 2017).\nThe new timetable
  for key dates is as follows:\nAbstract deadline: 30th November 2016\nAbstr
 act decisions: 13th January 2017\nEarlybird registration closes: 20th Janua
 ry 2017\nRegistration closes: 12th May 2017\nPlease send abstracts to This 
 email address is being protected from spambots. You need JavaScript enabled
  to view it.
				document.getElementById('cloak558d8c59cc244eb6ede17a6ab38b
 61e3').innerHTML = '';
				var prefix = '&#109;a' + 'i&#108;' + '&#116;o';

 				var path = 'hr' + 'ef' + '=';
				var addy558d8c59cc244eb6ede17a6ab38b6
 1e3 = 'hlccd' + '&#64;';
				addy558d8c59cc244eb6ede17a6ab38b61e3 = addy558
 d8c59cc244eb6ede17a6ab38b61e3 + 'lb&#111;r&#111;' + '&#46;' + '&#97;c' + '&
 #46;' + '&#117;k';
				var addy_text558d8c59cc244eb6ede17a6ab38b61e3 = 'hlc
 cd' + '&#64;' + 'lb&#111;r&#111;' + '&#46;' + '&#97;c' + '&#46;' + '&#117;k
 ';document.getElementById('cloak558d8c59cc244eb6ede17a6ab38b61e3').innerHTM
 L += '<a ' + path + '\'' + prefix + ':' + addy558d8c59cc244eb6ede17a6ab38b6
 1e3 + '\'>'+addy_text558d8c59cc244eb6ede17a6ab38b61e3+'';
		 (http://www.hl
 ccd.org/abstract-submission/)\nAll other conference information can be foun
 d at http://www.hlccd.org/conference/\nAny queries regarding the conference
 , please contact Tom Mockford (This email address is being protected from s
 pambots. You need JavaScript enabled to view it.
				document.getElementByI
 d('cloakf4e773cc79ff0c83d1c12d3a6754669a').innerHTML = '';
				var prefix =
  '&#109;a' + 'i&#108;' + '&#116;o';
				var path = 'hr' + 'ef' + '=';
				v
 ar addyf4e773cc79ff0c83d1c12d3a6754669a = 'hlccd' + '&#64;';
				addyf4e773
 cc79ff0c83d1c12d3a6754669a = addyf4e773cc79ff0c83d1c12d3a6754669a + 'lb&#11
 1;r&#111;' + '&#46;' + '&#97;c' + '&#46;' + '&#117;k';
				var addy_textf4e
 773cc79ff0c83d1c12d3a6754669a = 'hlccd' + '&#64;' + 'lb&#111;r&#111;' + '&#
 46;' + '&#97;c' + '&#46;' + '&#117;k';document.getElementById('cloakf4e773c
 c79ff0c83d1c12d3a6754669a').innerHTML += '<a ' + path + '\'' + prefix + ':'
  + addyf4e773cc79ff0c83d1c12d3a6754669a + '\'>'+addy_textf4e773cc79ff0c83d1
 c12d3a6754669a+'';
		)\nRegards,\nThe High Latitude and Cold Climate Dust N
 etwork\n
X-ALT-DESC;FMTTYPE=text/html:<p>After some further deliberation, it has been decided to extend the early
 bird registration deadline for the International Conference on High Latitud
 e Dust (University of Reykjavik, May 21st – May 24th 2017).</p><p>The new t
 imetable for key dates is as follows:</p><p>Abstract deadline: 30th Novembe
 r 2016<br />Abstract decisions: 13th January 2017<br />Earlybird registrati
 on closes: 20th January 2017<br />Registration closes: 12th May 2017</p><p>
 Please send abstracts to <span id="cloak558d8c59cc244eb6ede17a6ab38b61e3">T
 his email address is being protected from spambots. You need JavaScript ena
 bled to view it.</span><script type='text/javascript'>
				document.getElem
 entById('cloak558d8c59cc244eb6ede17a6ab38b61e3').innerHTML = '';
				var pr
 efix = '&#109;a' + 'i&#108;' + '&#116;o';
				var path = 'hr' + 'ef' + '=';
 
				var addy558d8c59cc244eb6ede17a6ab38b61e3 = 'hlccd' + '&#64;';
				addy
 558d8c59cc244eb6ede17a6ab38b61e3 = addy558d8c59cc244eb6ede17a6ab38b61e3 + '
 lb&#111;r&#111;' + '&#46;' + '&#97;c' + '&#46;' + '&#117;k';
				var addy_t
 ext558d8c59cc244eb6ede17a6ab38b61e3 = 'hlccd' + '&#64;' + 'lb&#111;r&#111;'
  + '&#46;' + '&#97;c' + '&#46;' + '&#117;k';document.getElementById('cloak5
 58d8c59cc244eb6ede17a6ab38b61e3').innerHTML += '<a ' + path + '\'' + prefix
  + ':' + addy558d8c59cc244eb6ede17a6ab38b61e3 + '\'>'+addy_text558d8c59cc24
 4eb6ede17a6ab38b61e3+'<\/a>';
		</script> (http://www.hlccd.org/abstract-su
 bmission/)</p><p>All other conference information can be found at http://ww
 w.hlccd.org/conference/<br />Any queries regarding the conference, please c
 ontact Tom Mockford (<span id="cloakf4e773cc79ff0c83d1c12d3a6754669a">This 
 email address is being protected from spambots. You need JavaScript enabled
  to view it.</span><script type='text/javascript'>
				document.getElementB
 yId('cloakf4e773cc79ff0c83d1c12d3a6754669a').innerHTML = '';
				var prefix
  = '&#109;a' + 'i&#108;' + '&#116;o';
				var path = 'hr' + 'ef' + '=';
			
 	var addyf4e773cc79ff0c83d1c12d3a6754669a = 'hlccd' + '&#64;';
				addyf4e7
 73cc79ff0c83d1c12d3a6754669a = addyf4e773cc79ff0c83d1c12d3a6754669a + 'lb&#
 111;r&#111;' + '&#46;' + '&#97;c' + '&#46;' + '&#117;k';
				var addy_textf
 4e773cc79ff0c83d1c12d3a6754669a = 'hlccd' + '&#64;' + 'lb&#111;r&#111;' + '
 &#46;' + '&#97;c' + '&#46;' + '&#117;k';document.getElementById('cloakf4e77
 3cc79ff0c83d1c12d3a6754669a').innerHTML += '<a ' + path + '\'' + prefix + '
 :' + addyf4e773cc79ff0c83d1c12d3a6754669a + '\'>'+addy_textf4e773cc79ff0c83
 d1c12d3a6754669a+'<\/a>';
		</script>)</p><p>Regards,<br />The High Latitud
 e and Cold Climate Dust Network</p>
DTSTAMP:20260423T033454Z
DTSTART;TZID=UTC;VALUE=DATE:20170521
DTEND;TZID=UTC;VALUE=DATE:20170525
SEQUENCE:0
TRANSP:OPAQUE
END:VEVENT
END:VCALENDAR