BEGIN:VCALENDAR
VERSION:2.0
PRODID:-//jEvents 2.0 for Joomla//EN
CALSCALE:GREGORIAN
METHOD:PUBLISH
BEGIN:VEVENT
UID:94dabcc54c14e3a372c32479b958eb2d
CATEGORIES:Polar Online Events
CREATED:20210121T200417
SUMMARY:mini-course: Teaching about Our Changing Climate: Data Behind Melting Ice and Changing Sea Level
LOCATION:Online
DESCRIPTION:GEodesy Tools for Societal Issues (GETSI) Project presents the mini-course:
 \nhttps://serc.carleton.edu/getsi/workshops/virtual_mini_shortcourse/course
 _4/index.html"&gt;Teaching about Our Changing Climate: Data Behind Melting 
 Ice and Changing Sea Level [Majors-level module]Date: Thursday January 28, 
 2021Time: 12-2 pm PT | 1-3 pm MT  |  2-4 pm CT  |  3-5 pm ET  |  8-10 pm UT
 C<a href="https://serc.carleton.edu/getsi/workshops/virtual_mini_shortcours
 e/course_4/registration.html" class="">Registration</a> deadline: Tuesday J
 anuary 26, 2021This mini-course will give instructors a chance to learn abo
 ut the https://serc.carleton.edu/getsi/teaching_materials/climate_change/in
 dex.html"&gt;Our Changing Climate: Data Behind Melting Ice and Changing Sea
  Level module and ideas for teaching virtually and in-person. The mini-cour
 se includes interactive opportunities for instructors to actually work thro
 ugh parts of student exercises, discuss ideas with peers, and work on imple
 mentation planning. A great opportunity to learn about cutting edge methods
  for monitoring climate, such as sea-level altimetry, gravity, InSAR, and G
 PS. $50 stipend* for completion of the course and short implementation plan
 .Climate change is a defining challenge of the current age, and sea-level r
 ise is one of the greatest effects. This module helps students to learn abo
 ut primary stakeholders in sea-level change and explore a wide variety of c
 limate-related data. The module opens with a stakeholder analysis for resid
 ents of a small island nation (Maldives), a coastal developing nation (Bang
 ladesh), and a major coastal urban area (southern California). Students the
 n gain considerable spreadsheet analysis skills through analyzing sea surfa
 ce temperature, sea-level altimetry, GRACE, InSAR, and GPS data to better u
 nderstand the factors influencing sea level, including thermal expansion, i
 ce mass loss, and changes in land water storage. Students also consider how
  much more sea levels will rise this century. The final project is a report
  to a relevant stakeholder group that synthesizes the current knowledge.Thi
 s is part of a larger series with other upcoming opportunities.<a href="htt
 ps://serc.carleton.edu/getsi/workshops/virtual_mini_shortcourse/index.html"
  class="">GETSI Virtual Mini Short Course Series</a>The series is designed 
 to support undergraduate instructors interested in using GETSI modules — te
 aching resources that  feature data and quantitative skills applied to crit
 ical topics such as natural hazards, climate change, and water resources. E
 ach mini-course is two hours long and will focus on one of the published GE
 TSI modules. Unlike a webinar, these mini-courses will include interactive 
 opportunities for instructors to actually work through parts of student exe
 rcises, discuss ideas with peers, and work on implementation planning. $50 
 stipend available.*Upcoming mini-courses with registrations opening soon:Te
 aching about Measuring the Earth with GPS: Plate Motion and Changing Ice-Wa
 ter [Introductory-level]Week of Feb 8 - exact time TBDTeaching about Monito
 ring Volcanoes and Communicating Risks  [Introductory-level]Date: Wednesday
  February 24, 2021Time: 8-10 am PT  |  9-11 am MT  |  10 am-12pm CT  |  11 
 am-1 pm ET |  4-6 pm UTC*Stipend for participants who complete the Implemen
 tation Planning Form by the Sunday after the mini-course. Must be US citize
 n or permanent resident to receive stipend; however, others are welcome to 
 participate without compensation. You may attend multiple mini-courses. Sti
 pends will be compiled and sent out after the end of the term during which 
 the mini-course was held.GETSI is funded by the US National Science Foundat
 ion. All modules are free and distributed online via the GETSI website (htt
 p://serc.carleton.edu/getsi/index.html). 
X-ALT-DESC;FMTTYPE=text/html:<p><em class="">GEodesy Tools for Societal Issues (GETSI) Project presents 
 the mini-course:<br class="" /></em></p><div class=""><div class=""><strong
  class=""><a href="https://serc.carleton.edu/getsi/workshops/virtual_mini_s
 hortcourse/course_4/index.html" class="" title="&lt;a href=">https://serc.c
 arleton.edu/getsi/workshops/virtual_mini_shortcourse/course_4/index.html</a
 >"&gt;Teaching about&nbsp;<em class="">Our Changing Climate: Data Behind Me
 lting Ice and Changing Sea Level</em><em class="">&nbsp;</em></strong>[Majo
 rs-level module]</div><div class=""><div class=""><ul class="MailOutline"><
 li class=""><strong>Date:</strong> Thursday January 28, 2021</li><li class=
 ""><strong>Time:</strong> 12-2 pm PT | 1-3 pm MT &nbsp;| &nbsp;2-4 pm CT &n
 bsp;| &nbsp;3-5&nbsp;pm ET &nbsp;| &nbsp;8-10 pm UTC</li><li class=""><stro
 ng class=""><a href="https://serc.carleton.edu/getsi/workshops/virtual_mini
 _shortcourse/course_4/registration.html" class="">Registration</a>&nbsp;dea
 dline: Tuesday January 26, 2021</strong></li></ul></div></div><div class=""
 ><br class="" /></div></div><div class=""><div class=""><div class="">This 
 mini-course will give instructors a chance to learn&nbsp;about the&nbsp;<a 
 href="https://serc.carleton.edu/getsi/teaching_materials/climate_change/ind
 ex.html" class="" title="&lt;a href=">https://serc.carleton.edu/getsi/teach
 ing_materials/climate_change/index.html</a>"&gt;Our Changing Climate: Data 
 Behind Melting Ice and&nbsp;Changing Sea Level&nbsp;module and ideas for te
 aching virtually and in-person. The mini-course includes interactive&nbsp;o
 pportunities for instructors to actually work through parts&nbsp;of student
  exercises, discuss ideas with peers, and work on&nbsp;implementation plann
 ing. A great opportunity to learn about cutting edge methods for monitoring
  climate, such as sea-level altimetry, gravity, InSAR, and GPS.&nbsp;<stron
 g class="">$50 stipend</strong>*&nbsp;for completion of&nbsp;the course and
  short implementation plan.</div><div class=""><br class="" /></div><div cl
 ass="">Climate change is a defining challenge of the current&nbsp;age, and 
 sea-level rise is one of the greatest effects. This&nbsp;module helps stude
 nts to learn about primary&nbsp;stakeholders in sea-level change and explor
 e a wide&nbsp;variety of climate-related data. The module opens with a&nbsp
 ;stakeholder analysis for residents of a small island nation&nbsp;(Maldives
 ), a coastal developing nation (Bangladesh),&nbsp;and a major coastal urban
  area (southern California).&nbsp;Students then gain considerable spreadshe
 et analysis&nbsp;skills through analyzing sea surface temperature, sea-leve
 l altimetry, GRACE, InSAR, and GPS data to better&nbsp;understand the facto
 rs influencing sea level, including&nbsp;thermal expansion, ice mass loss, 
 and changes in land&nbsp;water storage. Students also consider how much mor
 e&nbsp;sea levels will rise this century. The final project is a&nbsp;repor
 t to a relevant stakeholder group that synthesizes&nbsp;the current knowled
 ge.</div><div class=""><br class="" /></div></div><div class=""><br class="
 " /></div><div class=""><em class="">This is part of a larger series with o
 ther upcoming opportunities.</em></div><div class=""><div class=""><a href=
 "https://serc.carleton.edu/getsi/workshops/virtual_mini_shortcourse/index.h
 tml" class=""><strong class="">GETSI Virtual Mini Short Course Series</stro
 ng></a></div><div class="">The series is designed to support&nbsp;undergrad
 uate instructors interested in using GETSI modules&nbsp;— teaching resource
 s that &nbsp;feature data and quantitative skills applied to critical topic
 s&nbsp;such as natural hazards, climate change, and water resources.&nbsp;<
 /div><div class=""><br class="" /></div><div class="">Each&nbsp;mini-course
  is two hours long and will focus on one of the&nbsp;published GETSI module
 s. Unlike a webinar, these mini-courses will&nbsp;include interactive oppor
 tunities for instructors to actually work&nbsp;through parts of student exe
 rcises, discuss ideas with peers, and&nbsp;work on implementation planning.
 &nbsp;<span style="text-decoration: underline;"><strong class="">$50 stipen
 d</strong>&nbsp;</span>available.*</div><div class="">Upcoming mini-courses
  with registrations opening soon:<br class="" /><div class=""><ul class="Ma
 ilOutline"><li class="">Teaching about&nbsp;<em class="">Measuring the Eart
 h with GPS:&nbsp;Plate Motion and Changing Ice-Water</em>&nbsp;[Introductor
 y-level]<ul class=""><li class="">Week of Feb 8 - exact time TBD</li></ul><
 /li><li class="">Teaching about&nbsp;<em class="">Monitoring Volcanoes and&
 nbsp;Communicating Risks&nbsp;</em>&nbsp;[Introductory-level]<ul class=""><
 li class="">Date: Wednesday February 24, 2021</li><li class="">Time: 8-10 a
 m PT &nbsp;| &nbsp;9-11 am MT &nbsp;| &nbsp;10 am-12pm CT &nbsp;| &nbsp;11 
 am-1 pm ET | &nbsp;4-6 pm UTC</li></ul></li></ul></div></div></div><div cla
 ss=""><div class=""><br class="" /></div><div class=""><div class=""><div c
 lass="">*Stipend for participants who complete the&nbsp;Implementation Plan
 ning Form by the Sunday after the mini-course. Must&nbsp;be US citizen or p
 ermanent resident to receive&nbsp;stipend; however, others are welcome to p
 articipate&nbsp;without compensation. You may attend multiple mini-courses.
  Stipends will be&nbsp;compiled and sent out after the end of the term duri
 ng&nbsp;which the mini-course was held.</div></div><div class=""><br class=
 "" /></div></div><div class="">GETSI is funded by the US National Science F
 oundation. All modules are free and distributed online via the&nbsp;<a href
 ="http://serc.carleton.edu/getsi/index.html" class="">GETSI website</a>.</d
 iv></div></div><div class=""><div class="" dir="auto">&nbsp;</div></div>
DTSTAMP:20260420T191831Z
DTSTART;TZID=UTC;VALUE=DATE:20210128
DTEND;TZID=UTC;VALUE=DATE:20210129
SEQUENCE:0
TRANSP:OPAQUE
END:VEVENT
END:VCALENDAR