BEGIN:VCALENDAR
VERSION:2.0
PRODID:-//jEvents 2.0 for Joomla//EN
CALSCALE:GREGORIAN
METHOD:PUBLISH
BEGIN:VEVENT
UID:f3b3c4125fe58ab69b4783a198259581
CATEGORIES:Polar Online Events
CREATED:20210121T200123
SUMMARY:Arctic Youth Network Webinar Series: Environmental Stewardship
LOCATION:Online
DESCRIPTION:The Arctic Youth Network Webinar Series Presents: Environmental Stewardship
 \nThursday, January 28, 2020 \n11:00-12:00 EST/GMT-5\n \n9:00-10:00 Yellowk
 nife\n16:00-17:00 Reykjavik\n17:00-18:00 Oslo\n\nThe fourth session of the 
 Arctic Youth Network Webinar Series will explore the biodiversity of Arctic
  flora and fauna as well as traditional conservation and land-use practices
  through youth perspectives. The session aims to showcase the Arctic as a f
 lourishing environment and provide an understanding of the vital human dime
 nsion of Arctic conservation.\nFollow with #AYNSpeaks (https://www.facebook
 .com/hashtag/AYNSpeaks/)\nThe Arctic Youth Network Webinar Series is presen
 ted with the help of Global Affaires Canada.\nCet évènement sera diffusé en
  anglais. Une transcription en français de la discussion sera disponible pa
 r la suite sur le site de Arctic Youth Network <a href="https://www.arcticy
 outhnetwork.org/"></a>https://www.arcticyouthnetwork.org/\n Online as a Liv
 e Facebook Event: <a href="https://fb.me/e/1uFDea9Lj">https://fb.me/e/1uFDe
 a9Lj</a>\n Register here: https://us02web.zoom.us/webinar/register/WN_lWq-K
 _rrTLal16ZOlkNl6g\n\nSpeakers\nÞorgerður María Þorbjarnardóttir – Egilsstað
 ir, Iceland\nNature conservation activist and chair of the Icelandic Youth 
 Environmentalist Association\nNils Ándá Baer – Sámi, Jokkmokk, Sweden\nRein
 deer herder and Environmental Sustainable Spokesperson\n  \nModerator\nSama
 ntha McBeth – Canada\nArctic Youth Network Representative, Biologist and Po
 lar Educator\n
X-ALT-DESC;FMTTYPE=text/html:<p><strong>The Arctic Youth Network Webinar Series Presents: Environmental 
 Stewardship<br />Thursday, January 28, 2020 <br /><span style="text-decorat
 ion: underline;">11:00-12:00 EST/GMT-5<br /></span></strong> </p><p>9:00-10
 :00 Yellowknife</p><p>16:00-17:00 Reykjavik</p><p>17:00-18:00 Oslo</p><p><b
 r />The fourth session of the Arctic Youth Network Webinar Series will expl
 ore the biodiversity&nbsp;of Arctic flora and fauna as well as traditional 
 conservation and land-use practices through&nbsp;youth perspectives. The se
 ssion aims to showcase the Arctic as a flourishing environment&nbsp;and pro
 vide an understanding of the vital human dimension of Arctic conservation.<
 /p><p>Follow with&nbsp;<a href="https://www.facebook.com/hashtag/AYNSpeaks/
 ">#AYNSpeaks</a></p><p>The Arctic Youth Network Webinar Series is presented
  with the help of Global Affaires Canada.</p><p>Cet évènement sera diffusé 
 en anglais. Une transcription en français de la discussion sera disponible 
 par la suite sur le site de Arctic Youth Network&nbsp;<a href="https://www.
 arcticyouthnetwork.org/"></a><a href="https://www.arcticyouthnetwork.org/">
 https://www.arcticyouthnetwork.org/</a></p><p>&nbsp;Online as a Live Facebo
 ok Event:&nbsp;<span style="text-decoration: underline;"><a href="https://f
 b.me/e/1uFDea9Lj">https://fb.me/e/1uFDea9Lj</a></span></p><p><strong>&nbsp;
 Register here:</strong>&nbsp;<a href="https://us02web.zoom.us/webinar/regis
 ter/WN_lWq-K_rrTLal16ZOlkNl6g">https://us02web.zoom.us/webinar/register/WN_
 lWq-K_rrTLal16ZOlkNl6g</a></p><p><span style="text-decoration: underline;">
 <br /><strong>Speakers</strong></span></p><p><strong>Þorgerður María Þorbja
 rnardóttir</strong>&nbsp;– Egilsstaðir, Iceland</p><p>Nature conservation a
 ctivist and chair of the Icelandic Youth Environmentalist Association</p><p
 ><strong>Nils Ándá Baer</strong><span style="text-decoration: underline;">&
 nbsp;– Sámi, Jokkmokk, Sweden</span></p><p>Reindeer herder and Environmenta
 l Sustainable Spokesperson</p><p>&nbsp;&nbsp;</p><p><strong><span style="te
 xt-decoration: underline;">Moderator</span></strong></p><p><strong>Samantha
  McBeth</strong>&nbsp;– Canada</p><p>Arctic Youth Network Representative, B
 iologist and Polar Educator</p>
DTSTAMP:20260420T191825Z
DTSTART;TZID=UTC:20210128T110000
DTEND;TZID=UTC:20210128T120000
SEQUENCE:0
TRANSP:OPAQUE
END:VEVENT
END:VCALENDAR