BEGIN:VCALENDAR
VERSION:2.0
PRODID:-//jEvents 2.0 for Joomla//EN
CALSCALE:GREGORIAN
METHOD:PUBLISH
BEGIN:VEVENT
UID:df54def244340401df3af89aca9d98c2
CATEGORIES:Polar Online Events
CREATED:20210121T195825
SUMMARY:IASC NAG online meeting
LOCATION:Online
DESCRIPTION:The IASC Network on Arctic Glaciology (NAG) online meeting will be held nex
 t week on Tuesday 26 January (13:00-16:00 CET). The meeting will start with
  three invited 30-minute presentations within the theme glacier – atmospher
 e interactions:\nKoji Fujita (Nagoya University, Japan) - Physically based 
 summer temperature reconstruction from melt layers in ice coresRuth Mottram
  (Danish Meteorological Institute, Denmark) - Forecasting future declines: 
 High resolution SMB for Arctic glaciersShawn Marshall (University of Calgar
 y, Canada) - The transition to temperate firn and the development of a deep
  firn aquifer at Kaskawulsh Glacier, St. Elias Mountains, YukonAfter the pr
 esentations we will have a break before we continue with an open forum (~60
  minutes), where ongoing developments within the Network on Arctic Glaciolo
 gy are discussed. This short online meeting is held instead of the physical
  meeting (Workshop on the dynamics and mass budget of Arctic glaciers), tha
 t was scheduled for 26-28 January 2021 in Szczyrk, Poland, but has been pos
 tponed to 2022.\nIn case you would like to attend the online meeting, pleas
 e register here:  (https://uu-se.zoom.us/meeting/register/u5IofuyqqjovG9bJ7
 bmit5msyvnbgUOd5hRR)<a href="https://uu-se.zoom.us/meeting/register/u5Iofuy
 qqjovG9bJ7bmit5msyvnbgUOd5hRR">https://uu-se.zoom.us/meeting/register/u5Iof
 uyqqjovG9bJ7bmit5msyvnbgUOd5hRR</a>\nWe ask participants that have not join
 ed an IASC NAG meeting before to very briefly motivate their interest in th
 is meeting. The meeting will be on Zoom and a meeting link will be sent by 
 email after registration.\nBest regards,\nWard van Pelt\nWesley Van Wychen\
 n---\n (https://nag.iasc.info/workshop)<a href="https://nag.iasc.info/works
 hop">https://nag.iasc.info/workshop</a>\n
X-ALT-DESC;FMTTYPE=text/html:<p>The IASC Network on Arctic Glaciology (NAG)&nbsp;<strong>online meeting&
 nbsp;</strong>will be held next week on&nbsp;<strong>Tuesday 26 January&nbs
 p;</strong>(13:00-16:00 CET). The meeting will start with three invited 30-
 minute presentations within the theme glacier – atmosphere interactions:</p
 ><ul><li data-mce-word-list="1"><strong>Koji Fujita</strong>&nbsp;(Nagoya U
 niversity, Japan) -&nbsp;<em>Physically based summer temperature reconstruc
 tion from melt layers in ice cores</em></li><li data-mce-word-list="1"><str
 ong>Ruth Mottram</strong>&nbsp;(Danish Meteorological Institute, Denmark) -
 &nbsp;<em>Forecasting future declines: High resolution SMB for Arctic glaci
 ers</em></li><li data-mce-word-list="1"><strong>Shawn Marshall</strong>&nbs
 p;(University of Calgary, Canada) -&nbsp;<em>The transition to temperate fi
 rn and the development of a deep firn aquifer at Kaskawulsh Glacier, St. El
 ias Mountains, Yukon</em></li></ul><p>After the presentations we will have 
 a break before we continue with an open forum (~60 minutes), where ongoing 
 developments within the Network on Arctic Glaciology are discussed. This sh
 ort online meeting is held instead of the physical meeting (<em>Workshop on
  the dynamics and mass budget of Arctic glaciers</em>), that was scheduled 
 for 26-28 January 2021 in Szczyrk, Poland, but has been postponed to 2022.<
 /p><p>In case you would like to attend the online meeting, please&nbsp;<str
 ong>register here</strong>:&nbsp;<a href="https://uu-se.zoom.us/meeting/reg
 ister/u5IofuyqqjovG9bJ7bmit5msyvnbgUOd5hRR"></a><a href="https://uu-se.zoom
 .us/meeting/register/u5IofuyqqjovG9bJ7bmit5msyvnbgUOd5hRR">https://uu-se.zo
 om.us/meeting/register/u5IofuyqqjovG9bJ7bmit5msyvnbgUOd5hRR</a></p><p>We as
 k participants that have not joined an IASC NAG meeting before to very brie
 fly motivate their interest in this meeting. The meeting will be on Zoom an
 d a meeting link will be sent by email after registration.</p><p>Best regar
 ds,</p><p>Ward van Pelt</p><p>Wesley Van Wychen</p><p>---</p><p><a href="ht
 tps://nag.iasc.info/workshop"></a><a href="https://nag.iasc.info/workshop">
 https://nag.iasc.info/workshop</a></p>
DTSTAMP:20260420T191832Z
DTSTART;TZID=UTC:20210126T130000
DTEND;TZID=UTC:20210126T160000
SEQUENCE:0
TRANSP:OPAQUE
END:VEVENT
END:VCALENDAR