BEGIN:VCALENDAR
VERSION:2.0
PRODID:-//jEvents 2.0 for Joomla//EN
CALSCALE:GREGORIAN
METHOD:PUBLISH
BEGIN:VEVENT
UID:444d1e2de962145f64154192b10af4f9
CATEGORIES:Polar Online Events
CREATED:20210119T115604
SUMMARY:"rstudio::global(2021) - A virtual conference for all things R and RStudio“
LOCATION:Online
DESCRIPTION:A 24-hour virtual event focused on all things R and RStudio, featuring 50+ 
 speakers from around the worldJanuary 21, 2021 at 8am PT / 16:00 GMT / 01:0
 0 JSTOur goal is to make rstudio::global(2021) our most inclusive and globa
 l event, making the most of the freedom from geographical and economic cons
 traints that comes with an online event. That means that the conference wil
 l be free, designed around participation from every time zone, and have spe
 akers from around the world.\n \nRegister here (https://rstudio.com/confere
 nce/).\n
X-ALT-DESC;FMTTYPE=text/html:<h3 class="mt-1 mb-3">A 24-hour virtual event focused on all things R and R
 Studio, featuring 50+ speakers from around the world</h3><h5 class="mt-3 mb
 -3"><strong>January 21, 2021 at 8am PT / 16:00 GMT / 01:00 JST</strong></h5
 ><div><p>Our goal is to make rstudio::global(2021) our most inclusive and g
 lobal event, making the most of the freedom from geographical and economic 
 constraints that comes with an online event. That means that the conference
  will be free, designed around participation from every time zone, and have
  speakers from around the world.</p><p>&nbsp;</p><p>Register <a href="https
 ://rstudio.com/conference/">here</a>.</p></div>
DTSTAMP:20260420T191917Z
DTSTART;TZID=UTC;VALUE=DATE:20210121
DTEND;TZID=UTC;VALUE=DATE:20210122
SEQUENCE:0
TRANSP:OPAQUE
END:VEVENT
END:VCALENDAR