BEGIN:VCALENDAR
VERSION:2.0
PRODID:-//jEvents 2.0 for Joomla//EN
CALSCALE:GREGORIAN
METHOD:PUBLISH
BEGIN:VEVENT
UID:4ce55abfbd852b6e9a468f546a31b993
CATEGORIES:Polar Online Events
CREATED:20210113T090810
SUMMARY:Webinar: Navigating the New Arctic Solicitation
DESCRIPTION:National Science Foundation Program Manager Webinar: Navigating the New Arc
 tic Solicitation, NSF 21-524 (https://www.iarpccollaborations.org/events/20
 256)\nOn January 15, 2-3pm ET / 10-11am AKT, join IARPC and the National Sc
 ience Foundation for a webinar introducing the latest NSF Navigating the Ne
 w Arctic Solicitation. Program officers will highlight major changes from t
 he previous solicitation, review goals of the Navigating the New Arctic pro
 gram, and be available for a Q&amp;A session. This webinar will be recorded
 . Learn more and register: <a href="https://www.iarpccollaborations.org/eve
 nts/20256"></a>https://www.iarpccollaborations.org/events/20256\n
X-ALT-DESC;FMTTYPE=text/html:<p><a href="https://www.iarpccollaborations.org/events/20256">National Scie
 nce Foundation Program Manager Webinar: Navigating the New Arctic Solicitat
 ion, NSF 21-524</a></p><p>On January 15, 2-3pm ET / 10-11am AKT, join IARPC
  and the National Science Foundation for a webinar introducing the latest N
 SF Navigating the New Arctic Solicitation. Program officers will highlight 
 major changes from the previous solicitation, review goals of the Navigatin
 g the New Arctic program, and be available for a Q&amp;A session. This webi
 nar will be recorded. Learn more and register: <a href="https://www.iarpcco
 llaborations.org/events/20256"></a><a href="https://www.iarpccollaborations
 .org/events/20256">https://www.iarpccollaborations.org/events/20256</a></p>
DTSTAMP:20260420T191646Z
DTSTART;TZID=UTC:20210115T180000
DTEND;TZID=UTC:20210115T190000
SEQUENCE:0
TRANSP:OPAQUE
END:VEVENT
END:VCALENDAR