BEGIN:VCALENDAR
VERSION:2.0
PRODID:-//jEvents 2.0 for Joomla//EN
CALSCALE:GREGORIAN
METHOD:PUBLISH
BEGIN:VEVENT
UID:3471fbdc51977c37ca2d0b7a3e859295
CATEGORIES:Polar Online Events
CREATED:20210113T090619
SUMMARY:International Glaciological Society Global Seminar Series 2020 #29
DESCRIPTION:A very merry holiday to all IGS Seminar attendees! We have a little Christm
 as / Holiday break and then recommence the seminars with:\nFrancisco Navarr
 o, Madrid: "Hiatus of mass losses from Hurd and Johnsons glaciers, Livingst
 on Island, during the regional cooling period 2002-2016 of the Northern Ant
 arctic Peninsula"\n \nYou need to register in advance for the seminars, but
  your registration should last for several seminars. If it was a while ago 
 that you registered - check your link still works: https://tinyurl.com/yyhb
 cqrq\n \n After registering, you will receive a confirmation email containi
 ng information about joining the seminar. If you attended this week you use
  the same link next week and don't need to re-register.\n \nThe seminar wil
 l also be recorded and posted to the Friends of the International Glaciolog
 ical Society Facebook page after the seminar so that you can watch it after
 wards if technology fails or you can't make it!\n
X-ALT-DESC;FMTTYPE=text/html:<p>A very merry holiday to all IGS Seminar attendees! We have a little Chri
 stmas / Holiday break and then recommence the seminars with:</p><p><strong>
 Francisco Navarro</strong>, Madrid: "<em>Hiatus of mass losses from Hurd an
 d Johnsons glaciers, Livingston Island, during the regional cooling period 
 2002-2016 of the Northern Antarctic Peninsula</em>"</p><p>&nbsp;</p><p>You 
 need to register in advance for the seminars, but your registration should 
 last for several seminars. If it was a while ago that you registered - chec
 k your link still works: <strong><a href="https://tinyurl.com/yyhbcqrq">htt
 ps://tinyurl.com/yyhbcqrq</a></strong><br /> <br /> After registering, you 
 will receive a confirmation email containing information about joining the 
 seminar. If you attended this week you use the same link next week and don'
 t need to re-register.</p><p>&nbsp;</p><p>The seminar will also be recorded
  and posted to the Friends of the International Glaciological Society Faceb
 ook page after the seminar so that you can watch it afterwards if technolog
 y fails or you can't make it!</p>
DTSTAMP:20260420T191922Z
DTSTART;TZID=UTC:20210113T210000
SEQUENCE:0
TRANSP:OPAQUE
END:VEVENT
END:VCALENDAR