BEGIN:VCALENDAR
VERSION:2.0
PRODID:-//jEvents 2.0 for Joomla//EN
CALSCALE:GREGORIAN
METHOD:PUBLISH
BEGIN:VEVENT
UID:c1404e710806fb69948fbb55ed27db7f
CATEGORIES:Polar Online Events
CREATED:20210113T090308
SUMMARY:Kick-off Horizon Europe 
DESCRIPTION:Kick-off Horizon Europe: The new EU Framework Programme for Research &amp; 
 Innovation, Horizon Europe (https://ec.europa.eu/info/horizon-europe_en), w
 ill start on January 1st, 2021. The Technical University Munich (TUM) and t
 he Ludwig-Maximilians-University (LMU) co-organize an online launch event o
 n Wednesday, 10th February, 2021, from 9 a.m. to 3 p.m. In the short virtua
 l sessions, funding experts will share their insights about forthcoming cal
 ls for collaborative research projects in 2021-2022 in all fields of scienc
 e. The event is targeted to professors, group leaders, advanced researchers
  and research managers who aim to gain insights into the upcoming topics of
  European collaborative funding. Places are limited, the registration is op
 en now.\nMore information can be found here:\n\n - Researchers having acces
 s to the LMU Service Portal: <a href="https://www.serviceportal.verwaltung.
 uni-muenchen.de/services/forschungsservices/_news/horizon_europe/index.html
 ">https://www.serviceportal.verwaltung.uni-muenchen.de/services/forschungss
 ervices/_news/horizon_europe/index.html</a>\n - Researchers not having acce
 ss to the LMU Service Portal (KUM): https://www.uni-muenchen.de/forschung/s
 ervice/wissenschaftler_extern/veranstaltungen/horizon_europe.html \n \n
X-ALT-DESC;FMTTYPE=text/html:<p><strong><em>Kick-off Horizon Europe</em></strong>: The new EU Framework 
 Programme for Research &amp; Innovation,&nbsp;<a href="https://ec.europa.eu
 /info/horizon-europe_en"><em>Horizon Europe</em></a>, will start on January
  1<sup>st</sup>, 2021. The Technical University Munich (TUM) and the Ludwig
 -Maximilians-University (LMU) co-organize an online launch event on <strong
 >Wednesday,</strong> <strong>10<sup>th</sup> February, 2021, </strong>from 
 9 a.m. to 3 p.m. In the short virtual sessions, funding experts will share 
 their insights about forthcoming calls for collaborative research projects 
 in 2021-2022 in all fields of science. The event is targeted to <strong>pro
 fessors</strong>, <strong>group leaders</strong>, <strong>advanced research
 ers</strong> and <strong>research managers</strong> who aim to gain insight
 s into the upcoming topics of European collaborative funding. Places are li
 mited, the registration is open now.</p><p>More information can be found he
 re:</p><ul><li>Researchers having access to the LMU Service Portal: <a href
 ="https://www.serviceportal.verwaltung.uni-muenchen.de/services/forschungss
 ervices/_news/horizon_europe/index.html">https://www.serviceportal.verwaltu
 ng.uni-muenchen.de/services/forschungsservices/_news/horizon_europe/index.h
 tml</a></li><li>Researchers not having access to the LMU Service Portal (KU
 M): <a href="https://www.uni-muenchen.de/forschung/service/wissenschaftler_
 extern/veranstaltungen/horizon_europe.html">https://www.uni-muenchen.de/for
 schung/service/wissenschaftler_extern/veranstaltungen/horizon_europe.html</
 a></li></ul><p>&nbsp;</p><p>&nbsp;</p>
DTSTAMP:20260421T152211Z
DTSTART;TZID=UTC:20210210T080000
DTEND;TZID=UTC:20210210T140000
SEQUENCE:0
TRANSP:OPAQUE
END:VEVENT
END:VCALENDAR