BEGIN:VCALENDAR
VERSION:2.0
PRODID:-//jEvents 2.0 for Joomla//EN
CALSCALE:GREGORIAN
METHOD:PUBLISH
BEGIN:VEVENT
UID:b91d6c6615afc36c6315732dfdb1a867
CATEGORIES:Polar Online Events
CREATED:20201218T082720
SUMMARY:ASM3 Theme 2: Understand: Enhance understanding and prediction capability on Arctic environmental and social systems and its global impact
LOCATION:Online
DESCRIPTION:ASM3 Theme 2: Understand: Enhance understanding and prediction capability o
 n Arctic environmental and social systems and its global impact\n17 Februar
 y 2021, 13:00-15: 00 UTC\nMore information and registration can be found he
 re: https://asm3.org/webinar-series/\n
X-ALT-DESC;FMTTYPE=text/html:<p>ASM3 Theme 2: Understand: Enhance understanding and prediction capabilit
 y on Arctic environmental and social systems and its global impact</p><p><s
 trong>17 February 2021, 13:00-15: 00 UTC</strong></p><p>More information an
 d registration can be found here: <a href="https://asm3.org/webinar-series/
 ">https://asm3.org/webinar-series/</a></p>
X-EXTRAINFO:UTC
DTSTAMP:20260420T191742Z
DTSTART;TZID=UTC:20210217T130000
DTEND;TZID=UTC:20210217T150000
SEQUENCE:0
TRANSP:OPAQUE
END:VEVENT
END:VCALENDAR