BEGIN:VCALENDAR
VERSION:2.0
PRODID:-//jEvents 2.0 for Joomla//EN
CALSCALE:GREGORIAN
METHOD:PUBLISH
BEGIN:VEVENT
UID:cbe01ab10abf62a3fc5b6d6497b0d80b
CATEGORIES:Polar Online Events
CREATED:20201208T080809
SUMMARY:Webinar: New Strategies to Mitigate the Risk of Glacial Lake Outburst Floods (GLOFs) Related Disasters in Indian Himalayan Region
LOCATION:Online
DESCRIPTION:Greetings from the National Disaster Management Authority (NDMA), India!\nO
 n the occasion of International Mountain Day, NDMA is organizing an Interna
 tional webinar on the ‘New Strategies to Mitigate the Risk of Glacial Lake 
 Outburst Floods (GLOFs) Related Disasters in Indian Himalayan Region’.\nDat
 e and Day: 11th December, 2020 (Friday)\nTime: 03:00 PM (IST) [i.e. 09:30 A
 .M (GMT)]\nRegistration: , which is mandatory on or before the 10th of Dece
 mber, 2020 to receive the link for joining the webinar.\nPlease feel free t
 o forward this mail to your colleagues/ peer groups that might be intereste
 d in attending.\nP.S. For those not familiar with NDMA, the <a href="https:
 //ndma.gov.in/">NDMA website</a> provides a good overview along with the re
 cently released National Guidelines on the management of GLOF (https://ndma
 .gov.in/sites/default/files/PDF/Guidelines/Guidelines-on-Management-of-GLOF
 s.pdf)<a href="https://ndma.gov.in/sites/default/files/PDF/Guidelines/Guide
 lines-on-Management-of-GLOFs.pdf">s</a> in collaboration with the Swiss Age
 ncy for Development and Cooperation (SDC) (https://www.eda.admin.ch/countri
 es/india/en/home.html), Embassy of Switzerland, India.\n
X-ALT-DESC;FMTTYPE=text/html:<p><em>Greetings from the National Disaster Management Authority (NDMA), In
 dia!</em></p><p>On the occasion of&nbsp;<strong>International Mountain Day<
 /strong>, NDMA is organizing an International webinar on the&nbsp;‘<strong>
 <em>New Strategies to Mitigate the Risk of Glacial Lake Outburst Floods (GL
 OFs) Related Disasters in Indian Himalayan Region’.</em></strong></p><p><st
 rong><em>Date and Day:&nbsp;</em></strong>11<sup>th</sup>&nbsp;December, 20
 20 (<strong>Friday</strong>)</p><p><strong>Time:&nbsp;</strong>03:00 PM&nbs
 p;(IST) [i.e. 09:30 A.M (GMT)]</p><p><strong>Registration:&nbsp;</strong><a
  href="https://docs.google.com/forms/d/e/1FAIpQLScLmBNMzTQLIVwHMxcGjxkHFrRD
 TWCUBABMVIlQaXnu_pP-Mg/viewform?vc=0&amp;c=0&amp;w=1&amp;flr=0&amp;gxids=76
 28">Click here to register</a><strong>,</strong><strong>&nbsp;</strong>whic
 h&nbsp;is mandatory on or before the&nbsp;<strong>10<sup>th</sup>&nbsp;of D
 ecember, 2020</strong>&nbsp;to receive the link for joining&nbsp;the webina
 r.</p><p>Please feel free to forward this mail to your colleagues/ peer gro
 ups that might be interested in attending.</p><p><strong>P.S</strong>. For 
 those not familiar with NDMA, the&nbsp;<strong><a href="https://ndma.gov.in
 /">NDMA website</a>&nbsp;</strong>provides a good overview along with the r
 ecently released&nbsp;<em><a href="https://ndma.gov.in/sites/default/files/
 PDF/Guidelines/Guidelines-on-Management-of-GLOFs.pdf">National Guidelines o
 n the management of GLOF</a></em><a href="https://ndma.gov.in/sites/default
 /files/PDF/Guidelines/Guidelines-on-Management-of-GLOFs.pdf">s</a>&nbsp;in 
 collaboration with the Swiss Agency for Development and Cooperation&nbsp;<a
  href="https://www.eda.admin.ch/countries/india/en/home.html"><strong>(SDC)
 </strong></a>, Embassy of Switzerland, India.</p>
CONTACT:This email address is being protected from spambots. You need JavaScript enabled to view it.
				document.getElementById('cloak41daafccef5ebaed82d6e8334f6e0e56').innerHTML = '';
				var prefix = '&#109;a' + 'i&#108;' + '&#116;o';
				var path = 'hr' + 'ef' + '=';
				var addy41daafccef5ebaed82d6e8334f6e0e56 = 'pr&#105;y&#97;nk&#97;.ndm&#97;.&#105;nd&#105;&#97;' + '&#64;';
				addy41daafccef5ebaed82d6e8334f6e0e56 = addy41daafccef5ebaed82d6e8334f6e0e56 + 'gm&#97;&#105;l' + '&#46;' + 'c&#111;m';
				var addy_text41daafccef5ebaed82d6e8334f6e0e56 = 'pr&#105;y&#97;nk&#97;.ndm&#97;.&#105;nd&#105;&#97;' + '&#64;' + 'gm&#97;&#105;l' + '&#46;' + 'c&#111;m';document.getElementById('cloak41daafccef5ebaed82d6e8334f6e0e56').innerHTML += '<a ' + path + '\'' + prefix + ':' + addy41daafccef5ebaed82d6e8334f6e0e56 + '\'>'+addy_text41daafccef5ebaed82d6e8334f6e0e56+'';
		&gt;
X-EXTRAINFO:GMT
DTSTAMP:20260420T230228Z
DTSTART;TZID=UTC:20201211T093000
DTEND;TZID=UTC:20201211T103000
SEQUENCE:0
TRANSP:OPAQUE
END:VEVENT
END:VCALENDAR