BEGIN:VCALENDAR
VERSION:2.0
PRODID:-//jEvents 2.0 for Joomla//EN
CALSCALE:GREGORIAN
METHOD:PUBLISH
BEGIN:VEVENT
UID:2cd4f4a8fd5f1ec2967d8f484b2c1ab5
CATEGORIES:Polar Online Events
CREATED:20201129T174656
SUMMARY:PAGES webinar "Succeeding as a female scientist in Latin America" 
LOCATION:online
DESCRIPTION:PAGES webinar "Succeeding as a female scientist in Latin America" \n PAGES-
 ECN  announces a new webinar, entitled "Succeeding as a female scientist in
  Latin America" (Ser científica en Latinoamerica y no fallar en el intento:
  Mujeres en Ciencia), for this Tuesday 15 Dece, 3pm UTC. Dharma A. Reyes Ma
 caya from ONG Conciencia Sur, will tell us about the most important problem
 s of womens in science. Her talk will be followed by a conversatory of wome
 n to tell her own histories about this topic.  The webinar will last for ab
 out one hour and Dharma will be presenting in Spanish. However, presentatio
 n materials will be in English to ensure a broader accessibility to the glo
 bal ECR community. We encourage everyone to participate and share the Zoom 
 link invitation: https:// (https://upch.zoom.us/j/8794598513)<a href="http:
 //umd.zoom.us/j/4833662567">umd.zoom.us/j/4833662567</a>\nPlease fill the r
 egister form:  (https://forms.gle/k4mong1Smym5wh686)<a href="https://forms.
 gle/k4mong1Smym5wh686">https://forms.gle/k4mong1Smym5wh686</a>   \nCan't ma
 ke it or feel like not joining because of the language? No problem, thewebi
 nar will be later available in our YouTube channel (https://www.youtube.com
 /channel/UCnDs_RxOvXZ3nGG6Omm16qA). In the future, we plan to add subtitles
  and get the webinar translated into English as well.\n
X-ALT-DESC;FMTTYPE=text/html:<p style="text-align: justify;"><strong>PAGES webinar&nbsp;</strong><strong
 >"Succeeding as a female scientist in Latin America"</strong> <br /> PAGES-
 ECN&nbsp; announces a new webinar, entitled "Succeeding as a female scienti
 st in Latin America" (Ser científica en Latinoamerica y no fallar en el int
 ento: Mujeres en Ciencia), for this <strong>Tuesday 15 Dece, 3pm UTC</stron
 g>. Dharma A. Reyes Macaya from ONG Conciencia Sur, will tell us about the 
 most important problems of womens in science. Her talk will be followed by 
 a conversatory of women to tell her own histories about this topic.&nbsp; T
 he webinar will last for about one hour and Dharma will be presenting in Sp
 anish. However, presentation materials will be in English to ensure a broad
 er accessibility to the global ECR community. We encourage everyone to part
 icipate and share the Zoom link invitation: <a href="https://upch.zoom.us/j
 /8794598513">https://</a><a href="http://umd.zoom.us/j/4833662567">umd.zoom
 .us/j/4833662567</a></p><p style="text-align: justify;">Please fill the reg
 ister form: <a href="https://forms.gle/k4mong1Smym5wh686"></a><a href="http
 s://forms.gle/k4mong1Smym5wh686">https://forms.gle/k4mong1Smym5wh686</a> &n
 bsp; </p><p style="text-align: justify;">Can't make it or feel like not joi
 ning because of the language? No problem, thewebinar will be later availabl
 e in our <a href="https://www.youtube.com/channel/UCnDs_RxOvXZ3nGG6Omm16qA"
 >YouTube channel</a>. In the future, we plan to add subtitles and get the w
 ebinar translated into English as well.</p>
DTSTAMP:20260420T212450Z
DTSTART;TZID=UTC:20201215T150000
SEQUENCE:0
TRANSP:OPAQUE
END:VEVENT
END:VCALENDAR